BEGIN:VCALENDAR
VERSION:2.0
PRODID:-//Turtle Island Adventure Parks - ECPv6.2.8.1//NONSGML v1.0//EN
CALSCALE:GREGORIAN
METHOD:PUBLISH
X-WR-CALNAME:Turtle Island Adventure Parks
X-ORIGINAL-URL:https://turtleislandadventureparks.com
X-WR-CALDESC:Events for Turtle Island Adventure Parks
REFRESH-INTERVAL;VALUE=DURATION:PT1H
X-Robots-Tag:noindex
X-PUBLISHED-TTL:PT1H
BEGIN:VTIMEZONE
TZID:America/Chicago
BEGIN:DAYLIGHT
TZOFFSETFROM:-0600
TZOFFSETTO:-0500
TZNAME:CDT
DTSTART:20250309T080000
END:DAYLIGHT
BEGIN:STANDARD
TZOFFSETFROM:-0500
TZOFFSETTO:-0600
TZNAME:CST
DTSTART:20251102T070000
END:STANDARD
BEGIN:DAYLIGHT
TZOFFSETFROM:-0600
TZOFFSETTO:-0500
TZNAME:CDT
DTSTART:20260308T080000
END:DAYLIGHT
BEGIN:STANDARD
TZOFFSETFROM:-0500
TZOFFSETTO:-0600
TZNAME:CST
DTSTART:20261101T070000
END:STANDARD
END:VTIMEZONE
BEGIN:VEVENT
DTSTART;VALUE=DATE:20260420
DTEND;VALUE=DATE:20260421
DTSTAMP:20260424T164133
CREATED:20260325T155740Z
LAST-MODIFIED:20260325T155740Z
UID:4734-1776643200-1776729599@turtleislandadventureparks.com
SUMMARY:CLOSED
DESCRIPTION:Indoor Waterpark – CLOSED \nSkyHigh Trampoline Park – CLOSED
URL:https://turtleislandadventureparks.com/event/closed-89/
CATEGORIES:closed
END:VEVENT
BEGIN:VEVENT
DTSTART;VALUE=DATE:20260413
DTEND;VALUE=DATE:20260414
DTSTAMP:20260424T164133
CREATED:20260325T155704Z
LAST-MODIFIED:20260325T155704Z
UID:4731-1776038400-1776124799@turtleislandadventureparks.com
SUMMARY:CLOSED
DESCRIPTION:Indoor Waterpark – CLOSED \nSkyHigh Trampoline Park – CLOSED
URL:https://turtleislandadventureparks.com/event/closed-88/
CATEGORIES:closed
END:VEVENT
BEGIN:VEVENT
DTSTART;VALUE=DATE:20260408
DTEND;VALUE=DATE:20260409
DTSTAMP:20260424T164133
CREATED:20260325T155311Z
LAST-MODIFIED:20260325T155311Z
UID:4716-1775606400-1775692799@turtleislandadventureparks.com
SUMMARY:CLOSED
DESCRIPTION:Indoor Waterpark – CLOSED \nSkyHigh Trampoline Park – CLOSED
URL:https://turtleislandadventureparks.com/event/closed-87/
CATEGORIES:closed
END:VEVENT
BEGIN:VEVENT
DTSTART;VALUE=DATE:20260330
DTEND;VALUE=DATE:20260331
DTSTAMP:20260424T164133
CREATED:20260224T171525Z
LAST-MODIFIED:20260224T171525Z
UID:4629-1774828800-1774915199@turtleislandadventureparks.com
SUMMARY:CLOSED
DESCRIPTION:Indoor Waterpark – CLOSED \nSky High Trampoline Park – CLOSED
URL:https://turtleislandadventureparks.com/event/closed-86/
CATEGORIES:closed
END:VEVENT
BEGIN:VEVENT
DTSTART;VALUE=DATE:20260323
DTEND;VALUE=DATE:20260324
DTSTAMP:20260424T164133
CREATED:20260224T171448Z
LAST-MODIFIED:20260224T171448Z
UID:4626-1774224000-1774310399@turtleislandadventureparks.com
SUMMARY:CLOSED
DESCRIPTION:Indoor Waterpark – CLOSED \nSky High Trampoline Park – CLOSED
URL:https://turtleislandadventureparks.com/event/closed-85/
CATEGORIES:closed
END:VEVENT
BEGIN:VEVENT
DTSTART;VALUE=DATE:20260316
DTEND;VALUE=DATE:20260317
DTSTAMP:20260424T164133
CREATED:20260224T171428Z
LAST-MODIFIED:20260224T171428Z
UID:4623-1773619200-1773705599@turtleislandadventureparks.com
SUMMARY:CLOSED
DESCRIPTION:Indoor Waterpark – CLOSED \nSky High Trampoline Park – CLOSED
URL:https://turtleislandadventureparks.com/event/closed-84/
CATEGORIES:closed
END:VEVENT
BEGIN:VEVENT
DTSTART;VALUE=DATE:20260309
DTEND;VALUE=DATE:20260310
DTSTAMP:20260424T164133
CREATED:20260224T171411Z
LAST-MODIFIED:20260224T171411Z
UID:4620-1773014400-1773100799@turtleislandadventureparks.com
SUMMARY:CLOSED
DESCRIPTION:Indoor Waterpark – CLOSED \nSky High Trampoline Park – CLOSED
URL:https://turtleislandadventureparks.com/event/closed-83/
CATEGORIES:closed
END:VEVENT
BEGIN:VEVENT
DTSTART;VALUE=DATE:20260302
DTEND;VALUE=DATE:20260303
DTSTAMP:20260424T164133
CREATED:20260224T171355Z
LAST-MODIFIED:20260224T171355Z
UID:4617-1772409600-1772495999@turtleislandadventureparks.com
SUMMARY:CLOSED
DESCRIPTION:Indoor Waterpark – CLOSED \nSky High Trampoline Park – CLOSED
URL:https://turtleislandadventureparks.com/event/closed-82/
CATEGORIES:closed
END:VEVENT
BEGIN:VEVENT
DTSTART;VALUE=DATE:20260223
DTEND;VALUE=DATE:20260224
DTSTAMP:20260424T164133
CREATED:20260128T161021Z
LAST-MODIFIED:20260128T161621Z
UID:4568-1771804800-1771891199@turtleislandadventureparks.com
SUMMARY:Park Hours
DESCRIPTION:INDOOR WATERPARK – CLOSED \nSKYHIGH TRAMPOLINE PARK – CLOSED
URL:https://turtleislandadventureparks.com/event/park-hours-23/
CATEGORIES:closed
END:VEVENT
BEGIN:VEVENT
DTSTART;VALUE=DATE:20260217
DTEND;VALUE=DATE:20260218
DTSTAMP:20260424T164133
CREATED:20260128T160319Z
LAST-MODIFIED:20260128T160319Z
UID:4549-1771286400-1771372799@turtleislandadventureparks.com
SUMMARY:Park Hours
DESCRIPTION:INDOOR WATERPARK – CLOSED \nSKYHIGH TRAMPOLINE PARK – CLOSED
URL:https://turtleislandadventureparks.com/event/park-hours-17/
CATEGORIES:closed
END:VEVENT
BEGIN:VEVENT
DTSTART;VALUE=DATE:20260209
DTEND;VALUE=DATE:20260210
DTSTAMP:20260424T164133
CREATED:20260128T155509Z
LAST-MODIFIED:20260128T155509Z
UID:4525-1770595200-1770681599@turtleislandadventureparks.com
SUMMARY:Park Hours
DESCRIPTION:INDOOR WATEPARK – CLOSED \nSKYHIGH TRAMPOLINE PARK – CLOSED
URL:https://turtleislandadventureparks.com/event/park-hours-9/
CATEGORIES:closed
END:VEVENT
BEGIN:VEVENT
DTSTART;VALUE=DATE:20260202
DTEND;VALUE=DATE:20260203
DTSTAMP:20260424T164133
CREATED:20260128T154906Z
LAST-MODIFIED:20260128T154906Z
UID:4504-1769990400-1770076799@turtleislandadventureparks.com
SUMMARY:Park Hours
DESCRIPTION:INDOOR WATERPARK – CLOSED \nSKYHIGH TRAMPOLINE PARK – CLOSED
URL:https://turtleislandadventureparks.com/event/park-hours-2/
CATEGORIES:closed
END:VEVENT
BEGIN:VEVENT
DTSTART;VALUE=DATE:20260126
DTEND;VALUE=DATE:20260127
DTSTAMP:20260424T164133
CREATED:20251215T170952Z
LAST-MODIFIED:20251215T170952Z
UID:4476-1769385600-1769471999@turtleislandadventureparks.com
SUMMARY:CLOSED FOR MAINTENANCE
DESCRIPTION:
URL:https://turtleislandadventureparks.com/event/closed-for-maintenance-9/
CATEGORIES:closed
END:VEVENT
BEGIN:VEVENT
DTSTART;VALUE=DATE:20260120
DTEND;VALUE=DATE:20260121
DTSTAMP:20260424T164133
CREATED:20251215T170659Z
LAST-MODIFIED:20251215T170659Z
UID:4455-1768867200-1768953599@turtleislandadventureparks.com
SUMMARY:CLOSED FOR MAINTENANCE
DESCRIPTION:
URL:https://turtleislandadventureparks.com/event/closed-for-maintenance-8/
CATEGORIES:closed
END:VEVENT
BEGIN:VEVENT
DTSTART;VALUE=DATE:20260112
DTEND;VALUE=DATE:20260113
DTSTAMP:20260424T164133
CREATED:20251215T170426Z
LAST-MODIFIED:20251215T170426Z
UID:4431-1768176000-1768262399@turtleislandadventureparks.com
SUMMARY:CLOSED FOR MAINTENANCE
DESCRIPTION:
URL:https://turtleislandadventureparks.com/event/closed-for-maintenance-7/
CATEGORIES:closed
END:VEVENT
BEGIN:VEVENT
DTSTART;VALUE=DATE:20260105
DTEND;VALUE=DATE:20260106
DTSTAMP:20260424T164133
CREATED:20251215T165916Z
LAST-MODIFIED:20251215T165916Z
UID:4407-1767571200-1767657599@turtleislandadventureparks.com
SUMMARY:CLOSED FOR MAINTENANCE
DESCRIPTION:
URL:https://turtleislandadventureparks.com/event/closed-for-maintenance-6/
CATEGORIES:closed
END:VEVENT
BEGIN:VEVENT
DTSTART;VALUE=DATE:20260101
DTEND;VALUE=DATE:20260102
DTSTAMP:20260424T164133
CREATED:20251215T165757Z
LAST-MODIFIED:20251215T165757Z
UID:4395-1767225600-1767311999@turtleislandadventureparks.com
SUMMARY:CLOSED
DESCRIPTION:Happy New Year!
URL:https://turtleislandadventureparks.com/event/closed-81/
CATEGORIES:closed
END:VEVENT
BEGIN:VEVENT
DTSTART;VALUE=DATE:20251225
DTEND;VALUE=DATE:20251226
DTSTAMP:20260424T164133
CREATED:20251027T165049Z
LAST-MODIFIED:20251027T165049Z
UID:4365-1766620800-1766707199@turtleislandadventureparks.com
SUMMARY:CLOSED
DESCRIPTION:In observance of the Christmas Holiday\, we will be closed. Merry Christmas and Happy Holidays!
URL:https://turtleislandadventureparks.com/event/closed-80/
CATEGORIES:closed,Holiday
END:VEVENT
BEGIN:VEVENT
DTSTART;VALUE=DATE:20251215
DTEND;VALUE=DATE:20251216
DTSTAMP:20260424T164133
CREATED:20251027T164550Z
LAST-MODIFIED:20251027T164550Z
UID:4335-1765756800-1765843199@turtleislandadventureparks.com
SUMMARY:CLOSED FOR POOL MAINTENANCE
DESCRIPTION:
URL:https://turtleislandadventureparks.com/event/closed-for-pool-maintenance-41/
CATEGORIES:closed
END:VEVENT
BEGIN:VEVENT
DTSTART;VALUE=DATE:20251208
DTEND;VALUE=DATE:20251209
DTSTAMP:20260424T164134
CREATED:20251027T164304Z
LAST-MODIFIED:20251027T164304Z
UID:4314-1765152000-1765238399@turtleislandadventureparks.com
SUMMARY:CLOSED FOR POOL MAINTENANCE
DESCRIPTION:
URL:https://turtleislandadventureparks.com/event/closed-for-pool-maintenance-40/
CATEGORIES:closed
END:VEVENT
BEGIN:VEVENT
DTSTART;VALUE=DATE:20251201
DTEND;VALUE=DATE:20251202
DTSTAMP:20260424T164134
CREATED:20251027T164036Z
LAST-MODIFIED:20251027T164036Z
UID:4293-1764547200-1764633599@turtleislandadventureparks.com
SUMMARY:CLOSED FOR POOL MAINTENANCE
DESCRIPTION:
URL:https://turtleislandadventureparks.com/event/closed-for-pool-maintenance-39/
CATEGORIES:closed
END:VEVENT
BEGIN:VEVENT
DTSTART;VALUE=DATE:20251127
DTEND;VALUE=DATE:20251128
DTSTAMP:20260424T164134
CREATED:20251027T163812Z
LAST-MODIFIED:20251027T163812Z
UID:4281-1764201600-1764287999@turtleislandadventureparks.com
SUMMARY:CLOSED FOR THANKSGIVING
DESCRIPTION:
URL:https://turtleislandadventureparks.com/event/closed-for-thanksgiving/
CATEGORIES:closed,Holiday
END:VEVENT
BEGIN:VEVENT
DTSTART;VALUE=DATE:20251124
DTEND;VALUE=DATE:20251125
DTSTAMP:20260424T164134
CREATED:20251027T163612Z
LAST-MODIFIED:20251027T163620Z
UID:4272-1763942400-1764028799@turtleislandadventureparks.com
SUMMARY:CLOSED FOR POOL MAINTENANCE
DESCRIPTION:
URL:https://turtleislandadventureparks.com/event/closed-for-pool-maintenance-38/
CATEGORIES:closed
END:VEVENT
BEGIN:VEVENT
DTSTART;VALUE=DATE:20251117
DTEND;VALUE=DATE:20251118
DTSTAMP:20260424T164134
CREATED:20251027T163416Z
LAST-MODIFIED:20251027T163416Z
UID:4251-1763337600-1763423999@turtleislandadventureparks.com
SUMMARY:CLOSED FOR POOL MAINTENANCE
DESCRIPTION:
URL:https://turtleislandadventureparks.com/event/closed-for-pool-maintenance-37/
CATEGORIES:closed
END:VEVENT
BEGIN:VEVENT
DTSTART;VALUE=DATE:20251112
DTEND;VALUE=DATE:20251113
DTSTAMP:20260424T164134
CREATED:20251027T163124Z
LAST-MODIFIED:20251027T163130Z
UID:4236-1762905600-1762991999@turtleislandadventureparks.com
SUMMARY:CLOSED FOR POOL MAINTENANCE
DESCRIPTION:
URL:https://turtleislandadventureparks.com/event/closed-for-pool-maintenance-36/
CATEGORIES:closed
END:VEVENT
BEGIN:VEVENT
DTSTART;VALUE=DATE:20251103
DTEND;VALUE=DATE:20251104
DTSTAMP:20260424T164134
CREATED:20251027T162737Z
LAST-MODIFIED:20251027T162737Z
UID:4209-1762128000-1762214399@turtleislandadventureparks.com
SUMMARY:CLOSED FOR POOL MAINTENANCE
DESCRIPTION:
URL:https://turtleislandadventureparks.com/event/closed-for-pool-maintenance-35/
CATEGORIES:closed
END:VEVENT
BEGIN:VEVENT
DTSTART;VALUE=DATE:20251027
DTEND;VALUE=DATE:20251028
DTSTAMP:20260424T164134
CREATED:20250930T175928Z
LAST-MODIFIED:20250930T180124Z
UID:4177-1761523200-1761609599@turtleislandadventureparks.com
SUMMARY:CLOSED FOR POOL MAINTENANCE
DESCRIPTION:
URL:https://turtleislandadventureparks.com/event/closed-for-pool-maintenance-34/
CATEGORIES:closed
END:VEVENT
BEGIN:VEVENT
DTSTART;VALUE=DATE:20251020
DTEND;VALUE=DATE:20251021
DTSTAMP:20260424T164134
CREATED:20250930T175736Z
LAST-MODIFIED:20250930T175736Z
UID:4156-1760918400-1761004799@turtleislandadventureparks.com
SUMMARY:CLOSED FOR POOL MAINTENANCE
DESCRIPTION:
URL:https://turtleislandadventureparks.com/event/closed-for-pool-maintenance-33/
CATEGORIES:closed
END:VEVENT
BEGIN:VEVENT
DTSTART;VALUE=DATE:20251014
DTEND;VALUE=DATE:20251015
DTSTAMP:20260424T164134
CREATED:20250930T175530Z
LAST-MODIFIED:20251008T205913Z
UID:4137-1760400000-1760486399@turtleislandadventureparks.com
SUMMARY:CLOSED FOR POOL MAINTENANCE
DESCRIPTION:
URL:https://turtleislandadventureparks.com/event/11am-8pm-160/
CATEGORIES:closed
END:VEVENT
BEGIN:VEVENT
DTSTART;VALUE=DATE:20251006
DTEND;VALUE=DATE:20251007
DTSTAMP:20260424T164134
CREATED:20250930T175144Z
LAST-MODIFIED:20250930T175144Z
UID:4111-1759708800-1759795199@turtleislandadventureparks.com
SUMMARY:CLOSED FOR POOL MAINTENANCE
DESCRIPTION:
URL:https://turtleislandadventureparks.com/event/closed-for-pool-maintenance-31/
CATEGORIES:closed
END:VEVENT
END:VCALENDAR