BEGIN:VCALENDAR
VERSION:2.0
PRODID:-//Turtle Island Adventure Parks - ECPv6.2.8.1//NONSGML v1.0//EN
CALSCALE:GREGORIAN
METHOD:PUBLISH
X-WR-CALNAME:Turtle Island Adventure Parks
X-ORIGINAL-URL:https://turtleislandadventureparks.com
X-WR-CALDESC:Events for Turtle Island Adventure Parks
REFRESH-INTERVAL;VALUE=DURATION:PT1H
X-Robots-Tag:noindex
X-PUBLISHED-TTL:PT1H
BEGIN:VTIMEZONE
TZID:America/Chicago
BEGIN:DAYLIGHT
TZOFFSETFROM:-0600
TZOFFSETTO:-0500
TZNAME:CDT
DTSTART:20250309T080000
END:DAYLIGHT
BEGIN:STANDARD
TZOFFSETFROM:-0500
TZOFFSETTO:-0600
TZNAME:CST
DTSTART:20251102T070000
END:STANDARD
END:VTIMEZONE
BEGIN:VEVENT
DTSTART;VALUE=DATE:20250825
DTEND;VALUE=DATE:20250826
DTSTAMP:20260424T203124
CREATED:20250806T141457Z
LAST-MODIFIED:20250806T141457Z
UID:3965-1756080000-1756166399@turtleislandadventureparks.com
SUMMARY:CLOSED FOR POOL MAINTENANCE
DESCRIPTION:
URL:https://turtleislandadventureparks.com/event/closed-for-pool-maintenance-25/
CATEGORIES:closed
END:VEVENT
BEGIN:VEVENT
DTSTART;VALUE=DATE:20250818
DTEND;VALUE=DATE:20250819
DTSTAMP:20260424T203124
CREATED:20250806T141020Z
LAST-MODIFIED:20250806T141020Z
UID:3943-1755475200-1755561599@turtleislandadventureparks.com
SUMMARY:CLOSED FOR POOL MAINTENANCE
DESCRIPTION:
URL:https://turtleislandadventureparks.com/event/closed-for-pool-maintenance-24/
CATEGORIES:closed
END:VEVENT
BEGIN:VEVENT
DTSTART;VALUE=DATE:20250811
DTEND;VALUE=DATE:20250812
DTSTAMP:20260424T203124
CREATED:20250806T140330Z
LAST-MODIFIED:20250806T140816Z
UID:3915-1754870400-1754956799@turtleislandadventureparks.com
SUMMARY:CLOSED FOR POOL MAINTENANCE
DESCRIPTION:
URL:https://turtleislandadventureparks.com/event/closed-for-pool-maintenance-23/
CATEGORIES:closed
END:VEVENT
BEGIN:VEVENT
DTSTART;VALUE=DATE:20250804
DTEND;VALUE=DATE:20250805
DTSTAMP:20260424T203124
CREATED:20250806T135850Z
LAST-MODIFIED:20250806T135850Z
UID:3894-1754265600-1754351999@turtleislandadventureparks.com
SUMMARY:CLOSED FOR POOL MAINTENANCE
DESCRIPTION:
URL:https://turtleislandadventureparks.com/event/closed-for-pool-maintenance-22/
CATEGORIES:closed
END:VEVENT
BEGIN:VEVENT
DTSTART;VALUE=DATE:20250728
DTEND;VALUE=DATE:20250729
DTSTAMP:20260424T203124
CREATED:20250630T152545Z
LAST-MODIFIED:20250630T152545Z
UID:3853-1753660800-1753747199@turtleislandadventureparks.com
SUMMARY:CLOSED FOR POOL MAINTENANCE
DESCRIPTION:
URL:https://turtleislandadventureparks.com/event/closed-for-pool-maintenance-21/
CATEGORIES:closed
END:VEVENT
BEGIN:VEVENT
DTSTART;VALUE=DATE:20250721
DTEND;VALUE=DATE:20250722
DTSTAMP:20260424T203124
CREATED:20250630T152316Z
LAST-MODIFIED:20250630T152316Z
UID:3832-1753056000-1753142399@turtleislandadventureparks.com
SUMMARY:CLOSED FOR POOL MAINTENANCE
DESCRIPTION:
URL:https://turtleislandadventureparks.com/event/closed-for-pool-maintenance-20/
CATEGORIES:closed
END:VEVENT
BEGIN:VEVENT
DTSTART;VALUE=DATE:20250714
DTEND;VALUE=DATE:20250715
DTSTAMP:20260424T203124
CREATED:20250630T152033Z
LAST-MODIFIED:20250630T152033Z
UID:3811-1752451200-1752537599@turtleislandadventureparks.com
SUMMARY:CLOSED FOR POOL MAINTENANCE
DESCRIPTION:
URL:https://turtleislandadventureparks.com/event/closed-for-pool-maintenance-19/
CATEGORIES:closed
END:VEVENT
BEGIN:VEVENT
DTSTART;VALUE=DATE:20250707
DTEND;VALUE=DATE:20250708
DTSTAMP:20260424T203124
CREATED:20250630T151807Z
LAST-MODIFIED:20250630T151807Z
UID:3790-1751846400-1751932799@turtleislandadventureparks.com
SUMMARY:CLOSED FOR POOL MAINTENANCE
DESCRIPTION:
URL:https://turtleislandadventureparks.com/event/closed-for-pool-maintenance-18/
CATEGORIES:closed
END:VEVENT
BEGIN:VEVENT
DTSTART;VALUE=DATE:20250630
DTEND;VALUE=DATE:20250701
DTSTAMP:20260424T203124
CREATED:20250602T135546Z
LAST-MODIFIED:20250602T135546Z
UID:3701-1751241600-1751327999@turtleislandadventureparks.com
SUMMARY:CLOSED FOR MAINTENANCE
DESCRIPTION:
URL:https://turtleislandadventureparks.com/event/closed-for-maintenance-5/
CATEGORIES:closed
END:VEVENT
BEGIN:VEVENT
DTSTART;VALUE=DATE:20250623
DTEND;VALUE=DATE:20250624
DTSTAMP:20260424T203124
CREATED:20250602T135338Z
LAST-MODIFIED:20250602T140006Z
UID:3680-1750636800-1750723199@turtleislandadventureparks.com
SUMMARY:CLOSED FOR MAINTENANCE
DESCRIPTION:
URL:https://turtleislandadventureparks.com/event/closed-for-maintenance-4/
CATEGORIES:closed
END:VEVENT
BEGIN:VEVENT
DTSTART;VALUE=DATE:20250616
DTEND;VALUE=DATE:20250617
DTSTAMP:20260424T203124
CREATED:20250602T135022Z
LAST-MODIFIED:20250602T135022Z
UID:3658-1750032000-1750118399@turtleislandadventureparks.com
SUMMARY:CLOSED FOR MAINTENANCE
DESCRIPTION:
URL:https://turtleislandadventureparks.com/event/closed-for-maintenance-3/
CATEGORIES:closed
END:VEVENT
BEGIN:VEVENT
DTSTART;VALUE=DATE:20250609
DTEND;VALUE=DATE:20250610
DTSTAMP:20260424T203124
CREATED:20250602T134559Z
LAST-MODIFIED:20250602T134559Z
UID:3634-1749427200-1749513599@turtleislandadventureparks.com
SUMMARY:CLOSED FOR MAINTENANCE
DESCRIPTION:
URL:https://turtleislandadventureparks.com/event/closed-for-maintenance-2/
CATEGORIES:closed
END:VEVENT
BEGIN:VEVENT
DTSTART;VALUE=DATE:20250602
DTEND;VALUE=DATE:20250603
DTSTAMP:20260424T203124
CREATED:20250602T134022Z
LAST-MODIFIED:20250602T134022Z
UID:3613-1748822400-1748908799@turtleislandadventureparks.com
SUMMARY:CLOSED FOR MAINTENANCE
DESCRIPTION:
URL:https://turtleislandadventureparks.com/event/closed-for-maintenance/
CATEGORIES:closed
END:VEVENT
BEGIN:VEVENT
DTSTART;VALUE=DATE:20250526
DTEND;VALUE=DATE:20250527
DTSTAMP:20260424T203124
CREATED:20250501T043825Z
LAST-MODIFIED:20250501T043825Z
UID:3574-1748217600-1748303999@turtleislandadventureparks.com
SUMMARY:CLOSED FOR POOL MAINTENANCE
DESCRIPTION:
URL:https://turtleislandadventureparks.com/event/closed-for-pool-maintenance-17/
CATEGORIES:closed
END:VEVENT
BEGIN:VEVENT
DTSTART;VALUE=DATE:20250525
DTEND;VALUE=DATE:20250526
DTSTAMP:20260424T203124
CREATED:20250501T043754Z
LAST-MODIFIED:20250521T031910Z
UID:3571-1748131200-1748217599@turtleislandadventureparks.com
SUMMARY:CLOSED
DESCRIPTION:We will be closed in honor of our team members who are graduating.
URL:https://turtleislandadventureparks.com/event/open-to-public-19/
CATEGORIES:closed
END:VEVENT
BEGIN:VEVENT
DTSTART;VALUE=DATE:20250523
DTEND;VALUE=DATE:20250524
DTSTAMP:20260424T203124
CREATED:20250501T043649Z
LAST-MODIFIED:20250521T025945Z
UID:3565-1747958400-1748044799@turtleislandadventureparks.com
SUMMARY:CLOSED TO THE PUBLIC FOR EMPLOYEE EVENT
DESCRIPTION:
URL:https://turtleislandadventureparks.com/event/open-to-public-17/
CATEGORIES:closed
END:VEVENT
BEGIN:VEVENT
DTSTART;TZID=America/Chicago:20250522T100000
DTEND;TZID=America/Chicago:20250522T150000
DTSTAMP:20260424T203124
CREATED:20250501T043443Z
LAST-MODIFIED:20250501T043443Z
UID:3558-1747908000-1747926000@turtleislandadventureparks.com
SUMMARY:CLOSED FOR SCHOOL GROUP
DESCRIPTION:
URL:https://turtleislandadventureparks.com/event/closed-for-school-group-12/
CATEGORIES:closed
END:VEVENT
BEGIN:VEVENT
DTSTART;TZID=America/Chicago:20250521T100000
DTEND;TZID=America/Chicago:20250521T150000
DTSTAMP:20260424T203124
CREATED:20250501T043321Z
LAST-MODIFIED:20250501T043321Z
UID:3552-1747821600-1747839600@turtleislandadventureparks.com
SUMMARY:CLOSED FOR SCHOOL GROUP
DESCRIPTION:
URL:https://turtleislandadventureparks.com/event/closed-for-school-group-11/
CATEGORIES:closed
END:VEVENT
BEGIN:VEVENT
DTSTART;TZID=America/Chicago:20250520T100000
DTEND;TZID=America/Chicago:20250520T150000
DTSTAMP:20260424T203124
CREATED:20250501T043208Z
LAST-MODIFIED:20250501T043607Z
UID:3546-1747735200-1747753200@turtleislandadventureparks.com
SUMMARY:CLOSED FOR SCHOOL GROUP
DESCRIPTION:
URL:https://turtleislandadventureparks.com/event/closed-for-school-group-10/
CATEGORIES:closed
END:VEVENT
BEGIN:VEVENT
DTSTART;VALUE=DATE:20250519
DTEND;VALUE=DATE:20250520
DTSTAMP:20260424T203124
CREATED:20250501T043111Z
LAST-MODIFIED:20250501T043111Z
UID:3543-1747612800-1747699199@turtleislandadventureparks.com
SUMMARY:CLOSED FOR POOL MAINTENANCE
DESCRIPTION:
URL:https://turtleislandadventureparks.com/event/closed-for-pool-maintenance-16/
CATEGORIES:closed
END:VEVENT
BEGIN:VEVENT
DTSTART;TZID=America/Chicago:20250516T100000
DTEND;TZID=America/Chicago:20250516T150000
DTSTAMP:20260424T203124
CREATED:20250501T042914Z
LAST-MODIFIED:20250501T042914Z
UID:3531-1747389600-1747407600@turtleislandadventureparks.com
SUMMARY:CLOSED FOR SCHOOL GROUP
DESCRIPTION:
URL:https://turtleislandadventureparks.com/event/closed-for-school-group-9/
CATEGORIES:closed
END:VEVENT
BEGIN:VEVENT
DTSTART;TZID=America/Chicago:20250515T100000
DTEND;TZID=America/Chicago:20250515T150000
DTSTAMP:20260424T203124
CREATED:20250501T042811Z
LAST-MODIFIED:20250501T042811Z
UID:3525-1747303200-1747321200@turtleislandadventureparks.com
SUMMARY:CLOSED FOR SCHOOL GROUP
DESCRIPTION:
URL:https://turtleislandadventureparks.com/event/closed-for-school-group-8/
CATEGORIES:closed
END:VEVENT
BEGIN:VEVENT
DTSTART;TZID=America/Chicago:20250514T100000
DTEND;TZID=America/Chicago:20250514T150000
DTSTAMP:20260424T203124
CREATED:20250501T042644Z
LAST-MODIFIED:20250501T042644Z
UID:3519-1747216800-1747234800@turtleislandadventureparks.com
SUMMARY:CLOSED FOR SCHOOL GROUP
DESCRIPTION:
URL:https://turtleislandadventureparks.com/event/closed-for-school-group-7/
CATEGORIES:closed
END:VEVENT
BEGIN:VEVENT
DTSTART;TZID=America/Chicago:20250513T100000
DTEND;TZID=America/Chicago:20250513T150000
DTSTAMP:20260424T203124
CREATED:20250501T042531Z
LAST-MODIFIED:20250501T042531Z
UID:3513-1747130400-1747148400@turtleislandadventureparks.com
SUMMARY:CLOSED FOR SCHOOL GROUP
DESCRIPTION:
URL:https://turtleislandadventureparks.com/event/closed-for-school-group-6/
CATEGORIES:closed
END:VEVENT
BEGIN:VEVENT
DTSTART;VALUE=DATE:20250512
DTEND;VALUE=DATE:20250513
DTSTAMP:20260424T203124
CREATED:20250501T042501Z
LAST-MODIFIED:20250501T042501Z
UID:3510-1747008000-1747094399@turtleislandadventureparks.com
SUMMARY:CLOSED FOR POOL MAINTENANCE
DESCRIPTION:
URL:https://turtleislandadventureparks.com/event/closed-for-pool-maintenance-14/
CATEGORIES:closed
END:VEVENT
BEGIN:VEVENT
DTSTART;TZID=America/Chicago:20250509T100000
DTEND;TZID=America/Chicago:20250509T150000
DTSTAMP:20260424T203124
CREATED:20250501T041934Z
LAST-MODIFIED:20250501T041934Z
UID:3495-1746784800-1746802800@turtleislandadventureparks.com
SUMMARY:CLOSED FOR SCHOOL GROUP
DESCRIPTION:
URL:https://turtleislandadventureparks.com/event/closed-for-school-group-5/
CATEGORIES:closed
END:VEVENT
BEGIN:VEVENT
DTSTART;TZID=America/Chicago:20250508T100000
DTEND;TZID=America/Chicago:20250508T150000
DTSTAMP:20260424T203124
CREATED:20250501T041813Z
LAST-MODIFIED:20250501T041813Z
UID:3489-1746698400-1746716400@turtleislandadventureparks.com
SUMMARY:CLOSED FOR SCHOOL GROUP
DESCRIPTION:
URL:https://turtleislandadventureparks.com/event/closed-for-school-group-4/
CATEGORIES:closed
END:VEVENT
BEGIN:VEVENT
DTSTART;TZID=America/Chicago:20250507T100000
DTEND;TZID=America/Chicago:20250507T150000
DTSTAMP:20260424T203124
CREATED:20250501T041608Z
LAST-MODIFIED:20250501T041608Z
UID:3483-1746612000-1746630000@turtleislandadventureparks.com
SUMMARY:CLOSED FOR SCHOOL GROUP
DESCRIPTION:
URL:https://turtleislandadventureparks.com/event/closed-for-school-group-3/
CATEGORIES:closed
END:VEVENT
BEGIN:VEVENT
DTSTART;TZID=America/Chicago:20250506T100000
DTEND;TZID=America/Chicago:20250506T150000
DTSTAMP:20260424T203124
CREATED:20250501T040950Z
LAST-MODIFIED:20250501T040950Z
UID:3474-1746525600-1746543600@turtleislandadventureparks.com
SUMMARY:CLOSED FOR SCHOOL GROUP
DESCRIPTION:
URL:https://turtleislandadventureparks.com/event/closed-for-school-group-2/
CATEGORIES:closed
END:VEVENT
BEGIN:VEVENT
DTSTART;VALUE=DATE:20250505
DTEND;VALUE=DATE:20250506
DTSTAMP:20260424T203124
CREATED:20250501T041301Z
LAST-MODIFIED:20250501T041301Z
UID:3480-1746403200-1746489599@turtleislandadventureparks.com
SUMMARY:CLOSED FOR POOL MAINTENANCE
DESCRIPTION:
URL:https://turtleislandadventureparks.com/event/closed-for-pool-maintenance-15/
CATEGORIES:closed
END:VEVENT
END:VCALENDAR