BEGIN:VCALENDAR
VERSION:2.0
PRODID:-//Turtle Island Adventure Parks - ECPv6.2.8.1//NONSGML v1.0//EN
CALSCALE:GREGORIAN
METHOD:PUBLISH
X-WR-CALNAME:Turtle Island Adventure Parks
X-ORIGINAL-URL:https://turtleislandadventureparks.com
X-WR-CALDESC:Events for Turtle Island Adventure Parks
REFRESH-INTERVAL;VALUE=DURATION:PT1H
X-Robots-Tag:noindex
X-PUBLISHED-TTL:PT1H
BEGIN:VTIMEZONE
TZID:America/Chicago
BEGIN:DAYLIGHT
TZOFFSETFROM:-0600
TZOFFSETTO:-0500
TZNAME:CDT
DTSTART:20240310T080000
END:DAYLIGHT
BEGIN:STANDARD
TZOFFSETFROM:-0500
TZOFFSETTO:-0600
TZNAME:CST
DTSTART:20241103T070000
END:STANDARD
END:VTIMEZONE
BEGIN:VEVENT
DTSTART;VALUE=DATE:20240101
DTEND;VALUE=DATE:20240102
DTSTAMP:20260423T173835
CREATED:20231206T232437Z
LAST-MODIFIED:20231206T232437Z
UID:888-1704067200-1704153599@turtleislandadventureparks.com
SUMMARY:11:00 am - 8:00 pm
DESCRIPTION:
URL:https://turtleislandadventureparks.com/event/1100-am-800-pm-18/
CATEGORIES:hours
END:VEVENT
BEGIN:VEVENT
DTSTART;VALUE=DATE:20240102
DTEND;VALUE=DATE:20240103
DTSTAMP:20260423T173835
CREATED:20231206T232452Z
LAST-MODIFIED:20231230T152919Z
UID:891-1704153600-1704239999@turtleislandadventureparks.com
SUMMARY:4:30 pm - 8:00 pm
DESCRIPTION:
URL:https://turtleislandadventureparks.com/event/1100-am-800-pm-19/
CATEGORIES:hours
END:VEVENT
BEGIN:VEVENT
DTSTART;VALUE=DATE:20240104
DTEND;VALUE=DATE:20240105
DTSTAMP:20260423T173835
CREATED:20231206T232521Z
LAST-MODIFIED:20231227T024850Z
UID:897-1704326400-1704412799@turtleislandadventureparks.com
SUMMARY:4:30 pm - 8:00 pm
DESCRIPTION:
URL:https://turtleislandadventureparks.com/event/1100-am-800-pm-21/
CATEGORIES:hours
END:VEVENT
BEGIN:VEVENT
DTSTART;VALUE=DATE:20240105
DTEND;VALUE=DATE:20240106
DTSTAMP:20260423T173835
CREATED:20231206T232533Z
LAST-MODIFIED:20231206T232533Z
UID:900-1704412800-1704499199@turtleislandadventureparks.com
SUMMARY:11:00 am - 8:00 pm
DESCRIPTION:
URL:https://turtleislandadventureparks.com/event/1100-am-800-pm-22/
CATEGORIES:hours
END:VEVENT
BEGIN:VEVENT
DTSTART;VALUE=DATE:20240106
DTEND;VALUE=DATE:20240107
DTSTAMP:20260423T173835
CREATED:20231206T232547Z
LAST-MODIFIED:20231206T232547Z
UID:903-1704499200-1704585599@turtleislandadventureparks.com
SUMMARY:11:00 am - 8:00 pm
DESCRIPTION:
URL:https://turtleislandadventureparks.com/event/1100-am-800-pm-23/
CATEGORIES:hours
END:VEVENT
BEGIN:VEVENT
DTSTART;VALUE=DATE:20240107
DTEND;VALUE=DATE:20240108
DTSTAMP:20260423T173835
CREATED:20231207T135827Z
LAST-MODIFIED:20231207T135827Z
UID:936-1704585600-1704671999@turtleislandadventureparks.com
SUMMARY:11:00 am – 8:00 pm
DESCRIPTION:
URL:https://turtleislandadventureparks.com/event/1100-am-800-pm-8/
CATEGORIES:hours
END:VEVENT
BEGIN:VEVENT
DTSTART;VALUE=DATE:20240108
DTEND;VALUE=DATE:20240109
DTSTAMP:20260423T173835
CREATED:20231207T142640Z
LAST-MODIFIED:20231211T222115Z
UID:967-1704672000-1704758399@turtleislandadventureparks.com
SUMMARY:4:30 pm – 8:00 pm
DESCRIPTION:
URL:https://turtleislandadventureparks.com/event/430-pm-800-pm-5/
CATEGORIES:hours
END:VEVENT
BEGIN:VEVENT
DTSTART;VALUE=DATE:20240111
DTEND;VALUE=DATE:20240112
DTSTAMP:20260423T173835
CREATED:20231207T142703Z
LAST-MODIFIED:20231211T222055Z
UID:970-1704931200-1705017599@turtleislandadventureparks.com
SUMMARY:4:30 pm – 8:00 pm
DESCRIPTION:
URL:https://turtleislandadventureparks.com/event/430-pm-800-pm-6/
CATEGORIES:hours
END:VEVENT
BEGIN:VEVENT
DTSTART;VALUE=DATE:20240112
DTEND;VALUE=DATE:20240113
DTSTAMP:20260423T173835
CREATED:20231207T140225Z
LAST-MODIFIED:20231207T140225Z
UID:939-1705017600-1705103999@turtleislandadventureparks.com
SUMMARY:11:00 am – 8:00 pm
DESCRIPTION:
URL:https://turtleislandadventureparks.com/event/1100-am-800-pm-17/
CATEGORIES:hours
END:VEVENT
BEGIN:VEVENT
DTSTART;VALUE=DATE:20240113
DTEND;VALUE=DATE:20240114
DTSTAMP:20260423T173835
CREATED:20231207T142147Z
LAST-MODIFIED:20231207T142147Z
UID:942-1705104000-1705190399@turtleislandadventureparks.com
SUMMARY:11:00 am – 8:00 pm
DESCRIPTION:
URL:https://turtleislandadventureparks.com/event/1100-am-800-pm-24/
CATEGORIES:hours
END:VEVENT
BEGIN:VEVENT
DTSTART;VALUE=DATE:20240114
DTEND;VALUE=DATE:20240115
DTSTAMP:20260423T173835
CREATED:20231207T142215Z
LAST-MODIFIED:20231207T142215Z
UID:945-1705190400-1705276799@turtleislandadventureparks.com
SUMMARY:11:00 am – 8:00 pm
DESCRIPTION:
URL:https://turtleislandadventureparks.com/event/1100-am-800-pm-25/
CATEGORIES:hours
END:VEVENT
BEGIN:VEVENT
DTSTART;VALUE=DATE:20240115
DTEND;VALUE=DATE:20240116
DTSTAMP:20260423T173835
CREATED:20231207T142725Z
LAST-MODIFIED:20240115T182218Z
UID:973-1705276800-1705363199@turtleislandadventureparks.com
SUMMARY:11:00 am – 8:00 pm
DESCRIPTION:
URL:https://turtleislandadventureparks.com/event/430-pm-800-pm-7/
CATEGORIES:hours
END:VEVENT
BEGIN:VEVENT
DTSTART;VALUE=DATE:20240118
DTEND;VALUE=DATE:20240119
DTSTAMP:20260423T173835
CREATED:20231207T142803Z
LAST-MODIFIED:20231211T222248Z
UID:976-1705536000-1705622399@turtleislandadventureparks.com
SUMMARY:4:30 pm – 8:00 pm
DESCRIPTION:
URL:https://turtleislandadventureparks.com/event/430-pm-800-pm-8/
CATEGORIES:hours
END:VEVENT
BEGIN:VEVENT
DTSTART;VALUE=DATE:20240119
DTEND;VALUE=DATE:20240120
DTSTAMP:20260423T173835
CREATED:20231207T142242Z
LAST-MODIFIED:20240106T144216Z
UID:948-1705622400-1705708799@turtleislandadventureparks.com
SUMMARY:4:30 pm – 8:00 pm
DESCRIPTION:
URL:https://turtleislandadventureparks.com/event/1100-am-800-pm-26/
CATEGORIES:hours
END:VEVENT
BEGIN:VEVENT
DTSTART;VALUE=DATE:20240120
DTEND;VALUE=DATE:20240121
DTSTAMP:20260423T173835
CREATED:20231207T142309Z
LAST-MODIFIED:20231207T142438Z
UID:951-1705708800-1705795199@turtleislandadventureparks.com
SUMMARY:11:00 am – 8:00 pm
DESCRIPTION:
URL:https://turtleislandadventureparks.com/event/1100-am-800-pm-27/
CATEGORIES:hours
END:VEVENT
BEGIN:VEVENT
DTSTART;VALUE=DATE:20240121
DTEND;VALUE=DATE:20240122
DTSTAMP:20260423T173835
CREATED:20231207T142348Z
LAST-MODIFIED:20231207T142348Z
UID:954-1705795200-1705881599@turtleislandadventureparks.com
SUMMARY:11:00 am – 8:00 pm
DESCRIPTION:
URL:https://turtleislandadventureparks.com/event/1100-am-800-pm-28/
CATEGORIES:hours
END:VEVENT
BEGIN:VEVENT
DTSTART;VALUE=DATE:20240122
DTEND;VALUE=DATE:20240123
DTSTAMP:20260423T173835
CREATED:20231207T142831Z
LAST-MODIFIED:20231211T222225Z
UID:979-1705881600-1705967999@turtleislandadventureparks.com
SUMMARY:4:30 pm – 8:00 pm
DESCRIPTION:
URL:https://turtleislandadventureparks.com/event/430-pm-800-pm-9/
CATEGORIES:hours
END:VEVENT
BEGIN:VEVENT
DTSTART;VALUE=DATE:20240125
DTEND;VALUE=DATE:20240126
DTSTAMP:20260423T173835
CREATED:20231207T142850Z
LAST-MODIFIED:20231211T222206Z
UID:982-1706140800-1706227199@turtleislandadventureparks.com
SUMMARY:4:30 pm – 8:00 pm
DESCRIPTION:
URL:https://turtleislandadventureparks.com/event/430-pm-800-pm-10/
CATEGORIES:hours
END:VEVENT
BEGIN:VEVENT
DTSTART;VALUE=DATE:20240126
DTEND;VALUE=DATE:20240127
DTSTAMP:20260423T173835
CREATED:20231207T142511Z
LAST-MODIFIED:20240106T144303Z
UID:958-1706227200-1706313599@turtleislandadventureparks.com
SUMMARY:4:30 pm – 8:00 pm
DESCRIPTION:
URL:https://turtleislandadventureparks.com/event/1100-am-800-pm-29/
CATEGORIES:hours
END:VEVENT
BEGIN:VEVENT
DTSTART;VALUE=DATE:20240127
DTEND;VALUE=DATE:20240128
DTSTAMP:20260423T173835
CREATED:20231207T142532Z
LAST-MODIFIED:20231207T142532Z
UID:961-1706313600-1706399999@turtleislandadventureparks.com
SUMMARY:11:00 am – 8:00 pm
DESCRIPTION:
URL:https://turtleislandadventureparks.com/event/1100-am-800-pm-30/
CATEGORIES:hours
END:VEVENT
BEGIN:VEVENT
DTSTART;VALUE=DATE:20240128
DTEND;VALUE=DATE:20240129
DTSTAMP:20260423T173835
CREATED:20231207T142556Z
LAST-MODIFIED:20231207T142556Z
UID:964-1706400000-1706486399@turtleislandadventureparks.com
SUMMARY:11:00 am – 8:00 pm
DESCRIPTION:
URL:https://turtleislandadventureparks.com/event/1100-am-800-pm-31/
CATEGORIES:hours
END:VEVENT
BEGIN:VEVENT
DTSTART;VALUE=DATE:20240129
DTEND;VALUE=DATE:20240130
DTSTAMP:20260423T173835
CREATED:20231207T142931Z
LAST-MODIFIED:20231211T222140Z
UID:985-1706486400-1706572799@turtleislandadventureparks.com
SUMMARY:4:30 pm – 8:00 pm
DESCRIPTION:
URL:https://turtleislandadventureparks.com/event/430-pm-800-pm-11/
CATEGORIES:hours
END:VEVENT
END:VCALENDAR