BEGIN:VCALENDAR
VERSION:2.0
PRODID:-//Turtle Island Adventure Parks - ECPv6.2.8.1//NONSGML v1.0//EN
CALSCALE:GREGORIAN
METHOD:PUBLISH
X-ORIGINAL-URL:https://turtleislandadventureparks.com
X-WR-CALDESC:Events for Turtle Island Adventure Parks
REFRESH-INTERVAL;VALUE=DURATION:PT1H
X-Robots-Tag:noindex
X-PUBLISHED-TTL:PT1H
BEGIN:VTIMEZONE
TZID:America/Chicago
BEGIN:DAYLIGHT
TZOFFSETFROM:-0600
TZOFFSETTO:-0500
TZNAME:CDT
DTSTART:20240310T080000
END:DAYLIGHT
BEGIN:STANDARD
TZOFFSETFROM:-0500
TZOFFSETTO:-0600
TZNAME:CST
DTSTART:20241103T070000
END:STANDARD
END:VTIMEZONE
BEGIN:VEVENT
DTSTART;VALUE=DATE:20240817
DTEND;VALUE=DATE:20240818
DTSTAMP:20260423T082246
CREATED:20240702T154743Z
LAST-MODIFIED:20240806T213507Z
UID:2320-1723852800-1723939199@turtleislandadventureparks.com
SUMMARY:8:00 am - 6:00 pm
DESCRIPTION:
URL:https://turtleislandadventureparks.com/event/closed-43/
LOCATION:Turtle Island Indoor Water Park\, 3965 Skydancer Way NE\, Belcourt\, ND\, 58316
CATEGORIES:hours
END:VEVENT
BEGIN:VEVENT
DTSTART;VALUE=DATE:20240818
DTEND;VALUE=DATE:20240819
DTSTAMP:20260423T082246
CREATED:20240702T154811Z
LAST-MODIFIED:20240806T213450Z
UID:2323-1723939200-1724025599@turtleislandadventureparks.com
SUMMARY:8:00 am - 9:00 pm
DESCRIPTION:
URL:https://turtleislandadventureparks.com/event/1100-am-900-pm-80/
LOCATION:Turtle Island Indoor Water Park\, 3965 Skydancer Way NE\, Belcourt\, ND\, 58316
CATEGORIES:hours
END:VEVENT
BEGIN:VEVENT
DTSTART;VALUE=DATE:20240822
DTEND;VALUE=DATE:20240823
DTSTAMP:20260423T082246
CREATED:20240806T211525Z
LAST-MODIFIED:20240806T211525Z
UID:2365-1724284800-1724371199@turtleislandadventureparks.com
SUMMARY:4:30 pm - 8:00 pm
DESCRIPTION:
URL:https://turtleislandadventureparks.com/event/430-pm-800-pm-44/
CATEGORIES:hours
END:VEVENT
BEGIN:VEVENT
DTSTART;VALUE=DATE:20240823
DTEND;VALUE=DATE:20240824
DTSTAMP:20260423T082246
CREATED:20240806T211554Z
LAST-MODIFIED:20240806T211554Z
UID:2368-1724371200-1724457599@turtleislandadventureparks.com
SUMMARY:4:30 pm - 8:00 pm
DESCRIPTION:
URL:https://turtleislandadventureparks.com/event/430-pm-800-pm-47/
CATEGORIES:hours
END:VEVENT
BEGIN:VEVENT
DTSTART;VALUE=DATE:20240824
DTEND;VALUE=DATE:20240825
DTSTAMP:20260423T082246
CREATED:20240806T211628Z
LAST-MODIFIED:20240806T211628Z
UID:2371-1724457600-1724543999@turtleislandadventureparks.com
SUMMARY:8:00 am - 8:00 pm
DESCRIPTION:
URL:https://turtleislandadventureparks.com/event/800-am-800-pm/
CATEGORIES:hours
END:VEVENT
BEGIN:VEVENT
DTSTART;VALUE=DATE:20240825
DTEND;VALUE=DATE:20240826
DTSTAMP:20260423T082246
CREATED:20240806T211708Z
LAST-MODIFIED:20240806T211720Z
UID:2374-1724544000-1724630399@turtleislandadventureparks.com
SUMMARY:8:00 am - 8:00 pm
DESCRIPTION:
URL:https://turtleislandadventureparks.com/event/800-am-800-pm-2/
LOCATION:Turtle Island Indoor Water Park\, 3965 Skydancer Way NE\, Belcourt\, ND\, 58316
CATEGORIES:hours
END:VEVENT
BEGIN:VEVENT
DTSTART;VALUE=DATE:20240829
DTEND;VALUE=DATE:20240830
DTSTAMP:20260423T082246
CREATED:20240806T212013Z
LAST-MODIFIED:20240806T212013Z
UID:2386-1724889600-1724975999@turtleislandadventureparks.com
SUMMARY:4:30 pm - 8:00 pm
DESCRIPTION:
URL:https://turtleislandadventureparks.com/event/430-pm-800-pm-50/
LOCATION:Turtle Island Indoor Water Park\, 3965 Skydancer Way NE\, Belcourt\, ND\, 58316
CATEGORIES:hours
END:VEVENT
BEGIN:VEVENT
DTSTART;VALUE=DATE:20240830
DTEND;VALUE=DATE:20240831
DTSTAMP:20260423T082246
CREATED:20240806T212142Z
LAST-MODIFIED:20240806T212142Z
UID:2389-1724976000-1725062399@turtleislandadventureparks.com
SUMMARY:4:30 pm - 8:00 pm
DESCRIPTION:
URL:https://turtleislandadventureparks.com/event/430-pm-800-pm-53/
LOCATION:Turtle Island Indoor Water Park\, 3965 Skydancer Way NE\, Belcourt\, ND\, 58316
CATEGORIES:hours
END:VEVENT
BEGIN:VEVENT
DTSTART;VALUE=DATE:20240831
DTEND;VALUE=DATE:20240901
DTSTAMP:20260423T082246
CREATED:20240806T212208Z
LAST-MODIFIED:20240806T212208Z
UID:2392-1725062400-1725148799@turtleislandadventureparks.com
SUMMARY:8:00 am - 8:00 pm
DESCRIPTION:
URL:https://turtleislandadventureparks.com/event/800-am-800-pm-3/
LOCATION:Turtle Island Indoor Water Park\, 3965 Skydancer Way NE\, Belcourt\, ND\, 58316
CATEGORIES:hours
END:VEVENT
END:VCALENDAR