BEGIN:VCALENDAR
VERSION:2.0
PRODID:-//Turtle Island Adventure Parks - ECPv6.2.8.1//NONSGML v1.0//EN
CALSCALE:GREGORIAN
METHOD:PUBLISH
X-WR-CALNAME:Turtle Island Adventure Parks
X-ORIGINAL-URL:https://turtleislandadventureparks.com
X-WR-CALDESC:Events for Turtle Island Adventure Parks
REFRESH-INTERVAL;VALUE=DURATION:PT1H
X-Robots-Tag:noindex
X-PUBLISHED-TTL:PT1H
BEGIN:VTIMEZONE
TZID:America/Chicago
BEGIN:DAYLIGHT
TZOFFSETFROM:-0600
TZOFFSETTO:-0500
TZNAME:CDT
DTSTART:20240310T080000
END:DAYLIGHT
BEGIN:STANDARD
TZOFFSETFROM:-0500
TZOFFSETTO:-0600
TZNAME:CST
DTSTART:20241103T070000
END:STANDARD
END:VTIMEZONE
BEGIN:VEVENT
DTSTART;VALUE=DATE:20241101
DTEND;VALUE=DATE:20241102
DTSTAMP:20260423T042504
CREATED:20241101T124654Z
LAST-MODIFIED:20241101T125904Z
UID:2718-1730419200-1730505599@turtleislandadventureparks.com
SUMMARY:4:30PM-8PM
DESCRIPTION:
URL:https://turtleislandadventureparks.com/event/430pm-800pm/
CATEGORIES:hours
END:VEVENT
BEGIN:VEVENT
DTSTART;VALUE=DATE:20241102
DTEND;VALUE=DATE:20241103
DTSTAMP:20260423T042504
CREATED:20241101T124751Z
LAST-MODIFIED:20241101T125847Z
UID:2721-1730505600-1730591999@turtleislandadventureparks.com
SUMMARY:8AM-PM
DESCRIPTION:
URL:https://turtleislandadventureparks.com/event/800am-800pm/
CATEGORIES:hours
END:VEVENT
BEGIN:VEVENT
DTSTART;VALUE=DATE:20241103
DTEND;VALUE=DATE:20241104
DTSTAMP:20260423T042504
CREATED:20241101T125309Z
LAST-MODIFIED:20241101T125309Z
UID:2730-1730592000-1730678399@turtleislandadventureparks.com
SUMMARY:8AM-8PM
DESCRIPTION:
URL:https://turtleislandadventureparks.com/event/8am-8pm-8/
CATEGORIES:hours
END:VEVENT
BEGIN:VEVENT
DTSTART;VALUE=DATE:20241107
DTEND;VALUE=DATE:20241108
DTSTAMP:20260423T042504
CREATED:20241101T125517Z
LAST-MODIFIED:20241101T125517Z
UID:2741-1730937600-1731023999@turtleislandadventureparks.com
SUMMARY:4:30PM-8PM
DESCRIPTION:
URL:https://turtleislandadventureparks.com/event/430pm-8pm-8/
CATEGORIES:hours
END:VEVENT
BEGIN:VEVENT
DTSTART;VALUE=DATE:20241108
DTEND;VALUE=DATE:20241109
DTSTAMP:20260423T042504
CREATED:20241101T125541Z
LAST-MODIFIED:20241101T193725Z
UID:2744-1731024000-1731110399@turtleislandadventureparks.com
SUMMARY:11AM-8PM
DESCRIPTION:
URL:https://turtleislandadventureparks.com/event/430pm-8pm-9/
CATEGORIES:Holiday,hours
END:VEVENT
BEGIN:VEVENT
DTSTART;VALUE=DATE:20241109
DTEND;VALUE=DATE:20241110
DTSTAMP:20260423T042504
CREATED:20241101T125621Z
LAST-MODIFIED:20241101T193655Z
UID:2748-1731110400-1731196799@turtleislandadventureparks.com
SUMMARY:9AM-8PM
DESCRIPTION:
URL:https://turtleislandadventureparks.com/event/8am-8pm-9/
CATEGORIES:hours
END:VEVENT
BEGIN:VEVENT
DTSTART;VALUE=DATE:20241110
DTEND;VALUE=DATE:20241111
DTSTAMP:20260423T042504
CREATED:20241101T125714Z
LAST-MODIFIED:20241101T193705Z
UID:2751-1731196800-1731283199@turtleislandadventureparks.com
SUMMARY:9AM-8PM
DESCRIPTION:
URL:https://turtleislandadventureparks.com/event/8am-8pm-10/
CATEGORIES:hours
END:VEVENT
BEGIN:VEVENT
DTSTART;VALUE=DATE:20241111
DTEND;VALUE=DATE:20241112
DTSTAMP:20260423T042504
CREATED:20241101T192454Z
LAST-MODIFIED:20241101T193744Z
UID:2761-1731283200-1731369599@turtleislandadventureparks.com
SUMMARY:11AM-8PM
DESCRIPTION:
URL:https://turtleislandadventureparks.com/event/11am-8pm/
CATEGORIES:Holiday,hours
END:VEVENT
BEGIN:VEVENT
DTSTART;VALUE=DATE:20241114
DTEND;VALUE=DATE:20241115
DTSTAMP:20260423T042504
CREATED:20241101T192735Z
LAST-MODIFIED:20241101T192735Z
UID:2770-1731542400-1731628799@turtleislandadventureparks.com
SUMMARY:4:30PM-8PM
DESCRIPTION:
URL:https://turtleislandadventureparks.com/event/430pm-8pm-10/
CATEGORIES:hours
END:VEVENT
BEGIN:VEVENT
DTSTART;VALUE=DATE:20241115
DTEND;VALUE=DATE:20241116
DTSTAMP:20260423T042504
CREATED:20241101T192852Z
LAST-MODIFIED:20241101T192852Z
UID:2772-1731628800-1731715199@turtleislandadventureparks.com
SUMMARY:4:30PM-8PM
DESCRIPTION:
URL:https://turtleislandadventureparks.com/event/430pm-8pm-11/
CATEGORIES:hours
END:VEVENT
BEGIN:VEVENT
DTSTART;VALUE=DATE:20241116
DTEND;VALUE=DATE:20241117
DTSTAMP:20260423T042504
CREATED:20241101T193158Z
LAST-MODIFIED:20241101T193158Z
UID:2776-1731715200-1731801599@turtleislandadventureparks.com
SUMMARY:9AM-8PM
DESCRIPTION:
URL:https://turtleislandadventureparks.com/event/9am-8pm/
CATEGORIES:hours
END:VEVENT
BEGIN:VEVENT
DTSTART;VALUE=DATE:20241117
DTEND;VALUE=DATE:20241118
DTSTAMP:20260423T042504
CREATED:20241101T193222Z
LAST-MODIFIED:20241101T193222Z
UID:2778-1731801600-1731887999@turtleislandadventureparks.com
SUMMARY:9AM-8PM
DESCRIPTION:
URL:https://turtleislandadventureparks.com/event/9am-8pm-2/
CATEGORIES:hours
END:VEVENT
BEGIN:VEVENT
DTSTART;VALUE=DATE:20241121
DTEND;VALUE=DATE:20241122
DTSTAMP:20260423T042504
CREATED:20241101T193444Z
LAST-MODIFIED:20241101T193444Z
UID:2791-1732147200-1732233599@turtleislandadventureparks.com
SUMMARY:4:30PM-8PM
DESCRIPTION:
URL:https://turtleislandadventureparks.com/event/430pm-8pm-12/
CATEGORIES:hours
END:VEVENT
BEGIN:VEVENT
DTSTART;VALUE=DATE:20241122
DTEND;VALUE=DATE:20241123
DTSTAMP:20260423T042504
CREATED:20241101T193509Z
LAST-MODIFIED:20241101T193509Z
UID:2794-1732233600-1732319999@turtleislandadventureparks.com
SUMMARY:4:30PM-8PM
DESCRIPTION:
URL:https://turtleislandadventureparks.com/event/430pm-8pm-13/
CATEGORIES:hours
END:VEVENT
BEGIN:VEVENT
DTSTART;VALUE=DATE:20241123
DTEND;VALUE=DATE:20241124
DTSTAMP:20260423T042504
CREATED:20241101T193543Z
LAST-MODIFIED:20241101T193543Z
UID:2797-1732320000-1732406399@turtleislandadventureparks.com
SUMMARY:9AM-8PM
DESCRIPTION:
URL:https://turtleislandadventureparks.com/event/9am-8pm-3/
CATEGORIES:hours
END:VEVENT
BEGIN:VEVENT
DTSTART;VALUE=DATE:20241124
DTEND;VALUE=DATE:20241125
DTSTAMP:20260423T042504
CREATED:20241101T193609Z
LAST-MODIFIED:20241101T193609Z
UID:2800-1732406400-1732492799@turtleislandadventureparks.com
SUMMARY:9AM-8PM
DESCRIPTION:
URL:https://turtleislandadventureparks.com/event/9am-8pm-4/
CATEGORIES:hours
END:VEVENT
BEGIN:VEVENT
DTSTART;VALUE=DATE:20241127
DTEND;VALUE=DATE:20241128
DTSTAMP:20260423T042504
CREATED:20241101T194005Z
LAST-MODIFIED:20241101T194005Z
UID:2808-1732665600-1732751999@turtleislandadventureparks.com
SUMMARY:4:30PM-8PM
DESCRIPTION:
URL:https://turtleislandadventureparks.com/event/430pm-8pm-14/
CATEGORIES:hours
END:VEVENT
BEGIN:VEVENT
DTSTART;VALUE=DATE:20241128
DTEND;VALUE=DATE:20241129
DTSTAMP:20260423T042504
CREATED:20241101T194307Z
LAST-MODIFIED:20241101T194307Z
UID:2821-1732752000-1732838399@turtleislandadventureparks.com
SUMMARY:10AM-6PM
DESCRIPTION:
URL:https://turtleislandadventureparks.com/event/10am-6pm-2/
CATEGORIES:Holiday,hours
END:VEVENT
BEGIN:VEVENT
DTSTART;VALUE=DATE:20241129
DTEND;VALUE=DATE:20241130
DTSTAMP:20260423T042504
CREATED:20241101T194035Z
LAST-MODIFIED:20241101T194102Z
UID:2811-1732838400-1732924799@turtleislandadventureparks.com
SUMMARY:11AM-8PM
DESCRIPTION:
URL:https://turtleislandadventureparks.com/event/10am-6pm/
CATEGORIES:hours
END:VEVENT
BEGIN:VEVENT
DTSTART;VALUE=DATE:20241130
DTEND;VALUE=DATE:20241201
DTSTAMP:20260423T042504
CREATED:20241101T194126Z
LAST-MODIFIED:20241101T194126Z
UID:2815-1732924800-1733011199@turtleislandadventureparks.com
SUMMARY:9AM-8PM
DESCRIPTION:
URL:https://turtleislandadventureparks.com/event/9am-8pm-5/
CATEGORIES:hours
END:VEVENT
END:VCALENDAR