BEGIN:VCALENDAR
VERSION:2.0
PRODID:-//Turtle Island Adventure Parks - ECPv6.2.8.1//NONSGML v1.0//EN
CALSCALE:GREGORIAN
METHOD:PUBLISH
X-WR-CALNAME:Turtle Island Adventure Parks
X-ORIGINAL-URL:https://turtleislandadventureparks.com
X-WR-CALDESC:Events for Turtle Island Adventure Parks
REFRESH-INTERVAL;VALUE=DURATION:PT1H
X-Robots-Tag:noindex
X-PUBLISHED-TTL:PT1H
BEGIN:VTIMEZONE
TZID:America/Chicago
BEGIN:DAYLIGHT
TZOFFSETFROM:-0600
TZOFFSETTO:-0500
TZNAME:CDT
DTSTART:20250309T080000
END:DAYLIGHT
BEGIN:STANDARD
TZOFFSETFROM:-0500
TZOFFSETTO:-0600
TZNAME:CST
DTSTART:20251102T070000
END:STANDARD
END:VTIMEZONE
BEGIN:VEVENT
DTSTART;VALUE=DATE:20251118
DTEND;VALUE=DATE:20251119
DTSTAMP:20260423T013726
CREATED:20251027T163429Z
LAST-MODIFIED:20251027T163429Z
UID:4254-1763424000-1763510399@turtleislandadventureparks.com
SUMMARY:11AM-8PM
DESCRIPTION:
URL:https://turtleislandadventureparks.com/event/11am-8pm-179/
CATEGORIES:hours
END:VEVENT
BEGIN:VEVENT
DTSTART;VALUE=DATE:20251116
DTEND;VALUE=DATE:20251117
DTSTAMP:20260423T013726
CREATED:20251027T163355Z
LAST-MODIFIED:20251027T163355Z
UID:4248-1763251200-1763337599@turtleislandadventureparks.com
SUMMARY:9AM-8PM
DESCRIPTION:
URL:https://turtleislandadventureparks.com/event/9am-8pm-97/
CATEGORIES:hours
END:VEVENT
BEGIN:VEVENT
DTSTART;VALUE=DATE:20251115
DTEND;VALUE=DATE:20251116
DTSTAMP:20260423T013726
CREATED:20251027T163339Z
LAST-MODIFIED:20251027T163339Z
UID:4245-1763164800-1763251199@turtleislandadventureparks.com
SUMMARY:9AM-8PM
DESCRIPTION:
URL:https://turtleislandadventureparks.com/event/9am-8pm-96/
CATEGORIES:hours
END:VEVENT
BEGIN:VEVENT
DTSTART;VALUE=DATE:20251114
DTEND;VALUE=DATE:20251115
DTSTAMP:20260423T013726
CREATED:20251027T163323Z
LAST-MODIFIED:20251027T163323Z
UID:4242-1763078400-1763164799@turtleislandadventureparks.com
SUMMARY:11AM-8PM
DESCRIPTION:
URL:https://turtleislandadventureparks.com/event/11am-8pm-178/
CATEGORIES:hours
END:VEVENT
BEGIN:VEVENT
DTSTART;VALUE=DATE:20251113
DTEND;VALUE=DATE:20251114
DTSTAMP:20260423T013726
CREATED:20251027T163250Z
LAST-MODIFIED:20251027T163250Z
UID:4239-1762992000-1763078399@turtleislandadventureparks.com
SUMMARY:11AM-8PM
DESCRIPTION:
URL:https://turtleislandadventureparks.com/event/11am-8pm-177/
CATEGORIES:hours
END:VEVENT
BEGIN:VEVENT
DTSTART;VALUE=DATE:20251111
DTEND;VALUE=DATE:20251112
DTSTAMP:20260423T013726
CREATED:20251027T163101Z
LAST-MODIFIED:20251027T163101Z
UID:4233-1762819200-1762905599@turtleislandadventureparks.com
SUMMARY:11AM-8PM
DESCRIPTION:
URL:https://turtleislandadventureparks.com/event/11am-8pm-176/
CATEGORIES:hours
END:VEVENT
BEGIN:VEVENT
DTSTART;VALUE=DATE:20251110
DTEND;VALUE=DATE:20251111
DTSTAMP:20260423T013726
CREATED:20251027T163029Z
LAST-MODIFIED:20251027T163029Z
UID:4230-1762732800-1762819199@turtleislandadventureparks.com
SUMMARY:11AM-8PM
DESCRIPTION:
URL:https://turtleislandadventureparks.com/event/11am-8pm-175/
CATEGORIES:hours
END:VEVENT
BEGIN:VEVENT
DTSTART;VALUE=DATE:20251109
DTEND;VALUE=DATE:20251110
DTSTAMP:20260423T013726
CREATED:20251027T162944Z
LAST-MODIFIED:20251027T162944Z
UID:4227-1762646400-1762732799@turtleislandadventureparks.com
SUMMARY:9AM-8PM
DESCRIPTION:
URL:https://turtleislandadventureparks.com/event/9am-8pm-95/
CATEGORIES:hours
END:VEVENT
BEGIN:VEVENT
DTSTART;VALUE=DATE:20251108
DTEND;VALUE=DATE:20251109
DTSTAMP:20260423T013726
CREATED:20251027T162927Z
LAST-MODIFIED:20251027T162927Z
UID:4224-1762560000-1762646399@turtleislandadventureparks.com
SUMMARY:9AM-8PM
DESCRIPTION:
URL:https://turtleislandadventureparks.com/event/9am-8pm-94/
CATEGORIES:hours
END:VEVENT
BEGIN:VEVENT
DTSTART;VALUE=DATE:20251107
DTEND;VALUE=DATE:20251108
DTSTAMP:20260423T013726
CREATED:20251027T162909Z
LAST-MODIFIED:20251027T162909Z
UID:4221-1762473600-1762559999@turtleislandadventureparks.com
SUMMARY:11AM-8PM
DESCRIPTION:
URL:https://turtleislandadventureparks.com/event/11am-8pm-174/
CATEGORIES:hours
END:VEVENT
BEGIN:VEVENT
DTSTART;VALUE=DATE:20251106
DTEND;VALUE=DATE:20251107
DTSTAMP:20260423T013726
CREATED:20251027T162851Z
LAST-MODIFIED:20251027T162851Z
UID:4218-1762387200-1762473599@turtleislandadventureparks.com
SUMMARY:11AM-8PM
DESCRIPTION:
URL:https://turtleislandadventureparks.com/event/11am-8pm-173/
CATEGORIES:hours
END:VEVENT
BEGIN:VEVENT
DTSTART;VALUE=DATE:20251105
DTEND;VALUE=DATE:20251106
DTSTAMP:20260423T013726
CREATED:20251027T162826Z
LAST-MODIFIED:20251027T162826Z
UID:4215-1762300800-1762387199@turtleislandadventureparks.com
SUMMARY:11AM-8PM
DESCRIPTION:
URL:https://turtleislandadventureparks.com/event/11am-8pm-172/
CATEGORIES:hours
END:VEVENT
BEGIN:VEVENT
DTSTART;VALUE=DATE:20251104
DTEND;VALUE=DATE:20251105
DTSTAMP:20260423T013726
CREATED:20251027T162803Z
LAST-MODIFIED:20251027T162803Z
UID:4212-1762214400-1762300799@turtleislandadventureparks.com
SUMMARY:11AM-8PM
DESCRIPTION:
URL:https://turtleislandadventureparks.com/event/11am-8pm-171/
CATEGORIES:hours
END:VEVENT
BEGIN:VEVENT
DTSTART;VALUE=DATE:20251102
DTEND;VALUE=DATE:20251103
DTSTAMP:20260423T013726
CREATED:20251027T162643Z
LAST-MODIFIED:20251027T162643Z
UID:4206-1762041600-1762127999@turtleislandadventureparks.com
SUMMARY:9AM-8PM
DESCRIPTION:
URL:https://turtleislandadventureparks.com/event/9am-8pm-93/
CATEGORIES:hours
END:VEVENT
BEGIN:VEVENT
DTSTART;VALUE=DATE:20251101
DTEND;VALUE=DATE:20251102
DTSTAMP:20260423T013726
CREATED:20251027T162624Z
LAST-MODIFIED:20251027T162624Z
UID:4203-1761955200-1762041599@turtleislandadventureparks.com
SUMMARY:9AM-8PM
DESCRIPTION:
URL:https://turtleislandadventureparks.com/event/9am-8pm-92/
CATEGORIES:hours
END:VEVENT
BEGIN:VEVENT
DTSTART;VALUE=DATE:20251031
DTEND;VALUE=DATE:20251101
DTSTAMP:20260423T013726
CREATED:20250930T180032Z
LAST-MODIFIED:20251027T165544Z
UID:4189-1761868800-1761955199@turtleislandadventureparks.com
SUMMARY:11AM-4PM
DESCRIPTION:Happy Halloween!
URL:https://turtleislandadventureparks.com/event/11am-4pm/
CATEGORIES:hours
END:VEVENT
BEGIN:VEVENT
DTSTART;VALUE=DATE:20251030
DTEND;VALUE=DATE:20251031
DTSTAMP:20260423T013726
CREATED:20250930T180012Z
LAST-MODIFIED:20251027T165828Z
UID:4186-1761782400-1761868799@turtleislandadventureparks.com
SUMMARY:11AM-4PM
DESCRIPTION:TMBCI Annual Haunted Hallway \nLocation: Turtle Mountain Tribal Headquarters \nKids Hour 5PM-6PM \nTerror Time 6PM-8:30PM \nFREE ADMISSION and CANDY FOR ALL!
URL:https://turtleislandadventureparks.com/event/11am-8pm-170/
CATEGORIES:hours
END:VEVENT
BEGIN:VEVENT
DTSTART;VALUE=DATE:20251029
DTEND;VALUE=DATE:20251030
DTSTAMP:20260423T013726
CREATED:20250930T175959Z
LAST-MODIFIED:20251027T165452Z
UID:4183-1761696000-1761782399@turtleislandadventureparks.com
SUMMARY:11AM-4PM
DESCRIPTION:SkyDancer Casino – Drive-Thru TRUNK OR TREAT! \nTIME: 5PM-8PM
URL:https://turtleislandadventureparks.com/event/11am-8pm-169/
CATEGORIES:hours
END:VEVENT
BEGIN:VEVENT
DTSTART;VALUE=DATE:20251028
DTEND;VALUE=DATE:20251029
DTSTAMP:20260423T013726
CREATED:20250930T175944Z
LAST-MODIFIED:20250930T175944Z
UID:4180-1761609600-1761695999@turtleislandadventureparks.com
SUMMARY:11AM-8PM
DESCRIPTION:
URL:https://turtleislandadventureparks.com/event/11am-8pm-168/
CATEGORIES:hours
END:VEVENT
BEGIN:VEVENT
DTSTART;VALUE=DATE:20251026
DTEND;VALUE=DATE:20251027
DTSTAMP:20260423T013726
CREATED:20250930T175912Z
LAST-MODIFIED:20250930T175912Z
UID:4174-1761436800-1761523199@turtleislandadventureparks.com
SUMMARY:9AM-8PM
DESCRIPTION:
URL:https://turtleislandadventureparks.com/event/9am-8pm-91/
CATEGORIES:hours
END:VEVENT
BEGIN:VEVENT
DTSTART;VALUE=DATE:20251025
DTEND;VALUE=DATE:20251026
DTSTAMP:20260423T013726
CREATED:20250930T175857Z
LAST-MODIFIED:20250930T175857Z
UID:4171-1761350400-1761436799@turtleislandadventureparks.com
SUMMARY:9AM-8PM
DESCRIPTION:
URL:https://turtleislandadventureparks.com/event/9am-8pm-90/
CATEGORIES:hours
END:VEVENT
BEGIN:VEVENT
DTSTART;VALUE=DATE:20251024
DTEND;VALUE=DATE:20251025
DTSTAMP:20260423T013726
CREATED:20250930T175843Z
LAST-MODIFIED:20250930T175843Z
UID:4168-1761264000-1761350399@turtleislandadventureparks.com
SUMMARY:11AM-8PM
DESCRIPTION:
URL:https://turtleislandadventureparks.com/event/11am-8pm-167/
CATEGORIES:hours
END:VEVENT
BEGIN:VEVENT
DTSTART;VALUE=DATE:20251023
DTEND;VALUE=DATE:20251024
DTSTAMP:20260423T013726
CREATED:20250930T175823Z
LAST-MODIFIED:20250930T175823Z
UID:4165-1761177600-1761263999@turtleislandadventureparks.com
SUMMARY:11AM-8PM
DESCRIPTION:
URL:https://turtleislandadventureparks.com/event/11am-8pm-166/
CATEGORIES:hours
END:VEVENT
BEGIN:VEVENT
DTSTART;VALUE=DATE:20251022
DTEND;VALUE=DATE:20251023
DTSTAMP:20260423T013726
CREATED:20250930T175809Z
LAST-MODIFIED:20250930T175809Z
UID:4162-1761091200-1761177599@turtleislandadventureparks.com
SUMMARY:11AM-8PM
DESCRIPTION:
URL:https://turtleislandadventureparks.com/event/11am-8pm-165/
CATEGORIES:hours
END:VEVENT
BEGIN:VEVENT
DTSTART;VALUE=DATE:20251021
DTEND;VALUE=DATE:20251022
DTSTAMP:20260423T013726
CREATED:20250930T175752Z
LAST-MODIFIED:20250930T175752Z
UID:4159-1761004800-1761091199@turtleislandadventureparks.com
SUMMARY:11AM-8PM
DESCRIPTION:
URL:https://turtleislandadventureparks.com/event/11am-8pm-164/
CATEGORIES:hours
END:VEVENT
BEGIN:VEVENT
DTSTART;VALUE=DATE:20251019
DTEND;VALUE=DATE:20251020
DTSTAMP:20260423T013726
CREATED:20250930T175720Z
LAST-MODIFIED:20250930T175720Z
UID:4153-1760832000-1760918399@turtleislandadventureparks.com
SUMMARY:9AM-8PM
DESCRIPTION:
URL:https://turtleislandadventureparks.com/event/9am-8pm-89/
CATEGORIES:hours
END:VEVENT
BEGIN:VEVENT
DTSTART;VALUE=DATE:20251018
DTEND;VALUE=DATE:20251019
DTSTAMP:20260423T013726
CREATED:20250930T175704Z
LAST-MODIFIED:20250930T175704Z
UID:4150-1760745600-1760831999@turtleislandadventureparks.com
SUMMARY:9AM-8PM
DESCRIPTION:
URL:https://turtleislandadventureparks.com/event/9am-8pm-88/
CATEGORIES:hours
END:VEVENT
BEGIN:VEVENT
DTSTART;VALUE=DATE:20251017
DTEND;VALUE=DATE:20251018
DTSTAMP:20260423T013726
CREATED:20250930T175650Z
LAST-MODIFIED:20250930T175650Z
UID:4147-1760659200-1760745599@turtleislandadventureparks.com
SUMMARY:11AM-8PM
DESCRIPTION:
URL:https://turtleislandadventureparks.com/event/11am-8pm-163/
CATEGORIES:hours
END:VEVENT
BEGIN:VEVENT
DTSTART;VALUE=DATE:20251016
DTEND;VALUE=DATE:20251017
DTSTAMP:20260423T013726
CREATED:20250930T175559Z
LAST-MODIFIED:20250930T175559Z
UID:4143-1760572800-1760659199@turtleislandadventureparks.com
SUMMARY:11AM-8PM
DESCRIPTION:
URL:https://turtleislandadventureparks.com/event/11am-8pm-162/
CATEGORIES:hours
END:VEVENT
BEGIN:VEVENT
DTSTART;VALUE=DATE:20251015
DTEND;VALUE=DATE:20251016
DTSTAMP:20260423T013726
CREATED:20250930T175545Z
LAST-MODIFIED:20250930T175545Z
UID:4140-1760486400-1760572799@turtleislandadventureparks.com
SUMMARY:11AM-8PM
DESCRIPTION:
URL:https://turtleislandadventureparks.com/event/11am-8pm-161/
CATEGORIES:hours
END:VEVENT
END:VCALENDAR