BEGIN:VCALENDAR
VERSION:2.0
PRODID:-//Turtle Island Adventure Parks - ECPv6.2.8.1//NONSGML v1.0//EN
CALSCALE:GREGORIAN
METHOD:PUBLISH
X-WR-CALNAME:Turtle Island Adventure Parks
X-ORIGINAL-URL:https://turtleislandadventureparks.com
X-WR-CALDESC:Events for Turtle Island Adventure Parks
REFRESH-INTERVAL;VALUE=DURATION:PT1H
X-Robots-Tag:noindex
X-PUBLISHED-TTL:PT1H
BEGIN:VTIMEZONE
TZID:America/Chicago
BEGIN:DAYLIGHT
TZOFFSETFROM:-0600
TZOFFSETTO:-0500
TZNAME:CDT
DTSTART:20250309T080000
END:DAYLIGHT
BEGIN:STANDARD
TZOFFSETFROM:-0500
TZOFFSETTO:-0600
TZNAME:CST
DTSTART:20251102T070000
END:STANDARD
END:VTIMEZONE
BEGIN:VEVENT
DTSTART;VALUE=DATE:20251007
DTEND;VALUE=DATE:20251008
DTSTAMP:20260423T055255
CREATED:20250930T175210Z
LAST-MODIFIED:20250930T175210Z
UID:4114-1759795200-1759881599@turtleislandadventureparks.com
SUMMARY:11AM-8PM
DESCRIPTION:
URL:https://turtleislandadventureparks.com/event/11am-8pm-156/
CATEGORIES:hours
END:VEVENT
BEGIN:VEVENT
DTSTART;VALUE=DATE:20251005
DTEND;VALUE=DATE:20251006
DTSTAMP:20260423T055255
CREATED:20250930T175121Z
LAST-MODIFIED:20250930T175121Z
UID:4108-1759622400-1759708799@turtleislandadventureparks.com
SUMMARY:9AM-8PM
DESCRIPTION:
URL:https://turtleislandadventureparks.com/event/9am-8pm-85/
CATEGORIES:hours
END:VEVENT
BEGIN:VEVENT
DTSTART;VALUE=DATE:20251004
DTEND;VALUE=DATE:20251005
DTSTAMP:20260423T055255
CREATED:20250930T175103Z
LAST-MODIFIED:20250930T175103Z
UID:4105-1759536000-1759622399@turtleislandadventureparks.com
SUMMARY:9AM-8PM
DESCRIPTION:
URL:https://turtleislandadventureparks.com/event/9am-8pm-84/
CATEGORIES:hours
END:VEVENT
BEGIN:VEVENT
DTSTART;VALUE=DATE:20251003
DTEND;VALUE=DATE:20251004
DTSTAMP:20260423T055255
CREATED:20250930T175042Z
LAST-MODIFIED:20250930T175042Z
UID:4102-1759449600-1759535999@turtleislandadventureparks.com
SUMMARY:11AM-8PM
DESCRIPTION:
URL:https://turtleislandadventureparks.com/event/11am-8pm-155/
CATEGORIES:hours
END:VEVENT
BEGIN:VEVENT
DTSTART;VALUE=DATE:20251002
DTEND;VALUE=DATE:20251003
DTSTAMP:20260423T055255
CREATED:20250930T175015Z
LAST-MODIFIED:20250930T175015Z
UID:4099-1759363200-1759449599@turtleislandadventureparks.com
SUMMARY:11AM-8PM
DESCRIPTION:
URL:https://turtleislandadventureparks.com/event/11am-8pm-154/
CATEGORIES:hours
END:VEVENT
BEGIN:VEVENT
DTSTART;VALUE=DATE:20251001
DTEND;VALUE=DATE:20251002
DTSTAMP:20260423T055255
CREATED:20250930T174959Z
LAST-MODIFIED:20250930T174959Z
UID:4096-1759276800-1759363199@turtleislandadventureparks.com
SUMMARY:11AM-8PM
DESCRIPTION:
URL:https://turtleislandadventureparks.com/event/11am-8pm-153/
CATEGORIES:hours
END:VEVENT
BEGIN:VEVENT
DTSTART;VALUE=DATE:20250930
DTEND;VALUE=DATE:20251001
DTSTAMP:20260423T055255
CREATED:20250831T233209Z
LAST-MODIFIED:20250930T174933Z
UID:4081-1759190400-1759276799@turtleislandadventureparks.com
SUMMARY:11AM-8PM
DESCRIPTION:
URL:https://turtleislandadventureparks.com/event/11am-8pm-152/
CATEGORIES:hours
END:VEVENT
BEGIN:VEVENT
DTSTART;VALUE=DATE:20250928
DTEND;VALUE=DATE:20250929
DTSTAMP:20260423T055255
CREATED:20250831T233058Z
LAST-MODIFIED:20250831T233058Z
UID:4075-1759017600-1759103999@turtleislandadventureparks.com
SUMMARY:9AM-8PM
DESCRIPTION:
URL:https://turtleislandadventureparks.com/event/9am-8pm-83/
CATEGORIES:hours
END:VEVENT
BEGIN:VEVENT
DTSTART;VALUE=DATE:20250927
DTEND;VALUE=DATE:20250928
DTSTAMP:20260423T055255
CREATED:20250831T233032Z
LAST-MODIFIED:20250831T233032Z
UID:4072-1758931200-1759017599@turtleislandadventureparks.com
SUMMARY:9AM-8PM
DESCRIPTION:
URL:https://turtleislandadventureparks.com/event/9am-8pm-82/
CATEGORIES:hours
END:VEVENT
BEGIN:VEVENT
DTSTART;VALUE=DATE:20250926
DTEND;VALUE=DATE:20250927
DTSTAMP:20260423T055255
CREATED:20250831T233009Z
LAST-MODIFIED:20250831T233009Z
UID:4069-1758844800-1758931199@turtleislandadventureparks.com
SUMMARY:11AM-8PM
DESCRIPTION:Family of 4 for $40!
URL:https://turtleislandadventureparks.com/event/11am-8pm-151/
CATEGORIES:hours
END:VEVENT
BEGIN:VEVENT
DTSTART;VALUE=DATE:20250925
DTEND;VALUE=DATE:20250926
DTSTAMP:20260423T055255
CREATED:20250831T232935Z
LAST-MODIFIED:20250831T232935Z
UID:4066-1758758400-1758844799@turtleislandadventureparks.com
SUMMARY:11AM-8PM
DESCRIPTION:Super Twilight Promo – 6PM-8PM $10 Admission
URL:https://turtleislandadventureparks.com/event/11am-8pm-150/
CATEGORIES:hours
END:VEVENT
BEGIN:VEVENT
DTSTART;VALUE=DATE:20250924
DTEND;VALUE=DATE:20250925
DTSTAMP:20260423T055255
CREATED:20250831T232851Z
LAST-MODIFIED:20250831T232851Z
UID:4063-1758672000-1758758399@turtleislandadventureparks.com
SUMMARY:11AM-8PM
DESCRIPTION:Wacky Wheel of Fortune – Spin to win\, one spin per paid transaction.
URL:https://turtleislandadventureparks.com/event/11am-8pm-149/
CATEGORIES:hours
END:VEVENT
BEGIN:VEVENT
DTSTART;VALUE=DATE:20250923
DTEND;VALUE=DATE:20250924
DTSTAMP:20260423T055255
CREATED:20250831T232808Z
LAST-MODIFIED:20250831T232808Z
UID:4060-1758585600-1758671999@turtleislandadventureparks.com
SUMMARY:11AM-8PM
DESCRIPTION:BOGO – BUY 1 GET 1 FREE!
URL:https://turtleislandadventureparks.com/event/11am-8pm-148/
CATEGORIES:hours
END:VEVENT
BEGIN:VEVENT
DTSTART;VALUE=DATE:20250921
DTEND;VALUE=DATE:20250922
DTSTAMP:20260423T055255
CREATED:20250831T232659Z
LAST-MODIFIED:20250831T232659Z
UID:4054-1758412800-1758499199@turtleislandadventureparks.com
SUMMARY:9AM-8PM
DESCRIPTION:
URL:https://turtleislandadventureparks.com/event/9am-8pm-81/
CATEGORIES:hours
END:VEVENT
BEGIN:VEVENT
DTSTART;VALUE=DATE:20250920
DTEND;VALUE=DATE:20250921
DTSTAMP:20260423T055255
CREATED:20250831T232636Z
LAST-MODIFIED:20250831T232636Z
UID:4051-1758326400-1758412799@turtleislandadventureparks.com
SUMMARY:9AM-8PM
DESCRIPTION:
URL:https://turtleislandadventureparks.com/event/9am-8pm-80/
CATEGORIES:hours
END:VEVENT
BEGIN:VEVENT
DTSTART;VALUE=DATE:20250919
DTEND;VALUE=DATE:20250920
DTSTAMP:20260423T055255
CREATED:20250831T232613Z
LAST-MODIFIED:20250831T232613Z
UID:4048-1758240000-1758326399@turtleislandadventureparks.com
SUMMARY:11AM-8PM
DESCRIPTION:Family of 4 for $40!
URL:https://turtleislandadventureparks.com/event/11am-8pm-147/
CATEGORIES:hours
END:VEVENT
BEGIN:VEVENT
DTSTART;VALUE=DATE:20250918
DTEND;VALUE=DATE:20250919
DTSTAMP:20260423T055255
CREATED:20250831T232437Z
LAST-MODIFIED:20250831T232437Z
UID:4044-1758153600-1758239999@turtleislandadventureparks.com
SUMMARY:11AM-8PM
DESCRIPTION:Super Twilight Promo – 6PM-8PM $10 Admission.
URL:https://turtleislandadventureparks.com/event/11am-8pm-146/
CATEGORIES:hours
END:VEVENT
BEGIN:VEVENT
DTSTART;VALUE=DATE:20250917
DTEND;VALUE=DATE:20250918
DTSTAMP:20260423T055255
CREATED:20250831T232339Z
LAST-MODIFIED:20250831T232339Z
UID:4041-1758067200-1758153599@turtleislandadventureparks.com
SUMMARY:11AM-8PM
DESCRIPTION:Wacky Wheel of Fortune – Spin to win\, one spin per paid transaction.
URL:https://turtleislandadventureparks.com/event/11am-8pm-145/
CATEGORIES:hours
END:VEVENT
BEGIN:VEVENT
DTSTART;VALUE=DATE:20250916
DTEND;VALUE=DATE:20250917
DTSTAMP:20260423T055255
CREATED:20250831T232257Z
LAST-MODIFIED:20250831T232257Z
UID:4038-1757980800-1758067199@turtleislandadventureparks.com
SUMMARY:11AM-8PM
DESCRIPTION:BOGO – BUY 1 GET 1 FREE ADMISSION!
URL:https://turtleislandadventureparks.com/event/11am-8pm-144/
CATEGORIES:hours
END:VEVENT
BEGIN:VEVENT
DTSTART;VALUE=DATE:20250914
DTEND;VALUE=DATE:20250915
DTSTAMP:20260423T055255
CREATED:20250831T232146Z
LAST-MODIFIED:20250831T232146Z
UID:4032-1757808000-1757894399@turtleislandadventureparks.com
SUMMARY:9AM-8PM
DESCRIPTION:
URL:https://turtleislandadventureparks.com/event/9am-8pm-79/
CATEGORIES:hours
END:VEVENT
BEGIN:VEVENT
DTSTART;VALUE=DATE:20250913
DTEND;VALUE=DATE:20250914
DTSTAMP:20260423T055255
CREATED:20250831T232113Z
LAST-MODIFIED:20250831T232113Z
UID:4029-1757721600-1757807999@turtleislandadventureparks.com
SUMMARY:9AM-8PM
DESCRIPTION:
URL:https://turtleislandadventureparks.com/event/9am-8pm-78/
CATEGORIES:hours
END:VEVENT
BEGIN:VEVENT
DTSTART;VALUE=DATE:20250912
DTEND;VALUE=DATE:20250913
DTSTAMP:20260423T055255
CREATED:20250831T232034Z
LAST-MODIFIED:20250831T232034Z
UID:4026-1757635200-1757721599@turtleislandadventureparks.com
SUMMARY:11AM-8PM
DESCRIPTION:Family of 4 for $40!
URL:https://turtleislandadventureparks.com/event/11am-8pm-143/
CATEGORIES:hours
END:VEVENT
BEGIN:VEVENT
DTSTART;VALUE=DATE:20250911
DTEND;VALUE=DATE:20250912
DTSTAMP:20260423T055255
CREATED:20250831T231953Z
LAST-MODIFIED:20250831T231953Z
UID:4023-1757548800-1757635199@turtleislandadventureparks.com
SUMMARY:11AM-8PM
DESCRIPTION:Super Twilight Promo – 6PM-8PM $10 Admission
URL:https://turtleislandadventureparks.com/event/11am-8pm-142/
CATEGORIES:hours
END:VEVENT
BEGIN:VEVENT
DTSTART;VALUE=DATE:20250910
DTEND;VALUE=DATE:20250911
DTSTAMP:20260423T055255
CREATED:20250831T231855Z
LAST-MODIFIED:20250831T231855Z
UID:4020-1757462400-1757548799@turtleislandadventureparks.com
SUMMARY:11AM-8PM
DESCRIPTION:Wacky Wheel of Fortune – Spin to win\, one spin per paid transaction.
URL:https://turtleislandadventureparks.com/event/11am-8pm-141/
CATEGORIES:hours
END:VEVENT
BEGIN:VEVENT
DTSTART;VALUE=DATE:20250907
DTEND;VALUE=DATE:20250908
DTSTAMP:20260423T055255
CREATED:20250831T231634Z
LAST-MODIFIED:20250831T231634Z
UID:4011-1757203200-1757289599@turtleislandadventureparks.com
SUMMARY:9AM-8PM
DESCRIPTION:
URL:https://turtleislandadventureparks.com/event/9am-8pm-77/
CATEGORIES:hours
END:VEVENT
BEGIN:VEVENT
DTSTART;VALUE=DATE:20250906
DTEND;VALUE=DATE:20250907
DTSTAMP:20260423T055255
CREATED:20250831T231606Z
LAST-MODIFIED:20250831T231606Z
UID:4008-1757116800-1757203199@turtleislandadventureparks.com
SUMMARY:9AM-8PM
DESCRIPTION:
URL:https://turtleislandadventureparks.com/event/9am-8pm-76/
CATEGORIES:hours
END:VEVENT
BEGIN:VEVENT
DTSTART;VALUE=DATE:20250905
DTEND;VALUE=DATE:20250906
DTSTAMP:20260423T055255
CREATED:20250831T231515Z
LAST-MODIFIED:20250831T231515Z
UID:4005-1757030400-1757116799@turtleislandadventureparks.com
SUMMARY:11AM-8PM
DESCRIPTION:Family of 4 for $40
URL:https://turtleislandadventureparks.com/event/11am-8pm-139/
CATEGORIES:hours
END:VEVENT
BEGIN:VEVENT
DTSTART;VALUE=DATE:20250904
DTEND;VALUE=DATE:20250905
DTSTAMP:20260423T055255
CREATED:20250831T231431Z
LAST-MODIFIED:20250831T231431Z
UID:4001-1756944000-1757030399@turtleislandadventureparks.com
SUMMARY:11AM-8PM
DESCRIPTION:Super Twilight Promo – 6PM-8PM $10 Admission
URL:https://turtleislandadventureparks.com/event/11am-8pm-138/
CATEGORIES:hours
END:VEVENT
BEGIN:VEVENT
DTSTART;VALUE=DATE:20250903
DTEND;VALUE=DATE:20250904
DTSTAMP:20260423T055255
CREATED:20250831T231208Z
LAST-MODIFIED:20250831T231208Z
UID:3999-1756857600-1756943999@turtleislandadventureparks.com
SUMMARY:11AM-8PM
DESCRIPTION:Wacky Wheel of Fortune – Spin to win\, one spin per paid transaction.
URL:https://turtleislandadventureparks.com/event/11am-8pm-137/
CATEGORIES:hours
END:VEVENT
BEGIN:VEVENT
DTSTART;VALUE=DATE:20250831
DTEND;VALUE=DATE:20250901
DTSTAMP:20260423T055255
CREATED:20250806T141730Z
LAST-MODIFIED:20250806T141730Z
UID:3983-1756598400-1756684799@turtleislandadventureparks.com
SUMMARY:9AM-8PM
DESCRIPTION:
URL:https://turtleislandadventureparks.com/event/9am-8pm-75/
CATEGORIES:hours
END:VEVENT
END:VCALENDAR