BEGIN:VCALENDAR
VERSION:2.0
PRODID:-//Turtle Island Adventure Parks - ECPv6.2.8.1//NONSGML v1.0//EN
CALSCALE:GREGORIAN
METHOD:PUBLISH
X-ORIGINAL-URL:https://turtleislandadventureparks.com
X-WR-CALDESC:Events for Turtle Island Adventure Parks
REFRESH-INTERVAL;VALUE=DURATION:PT1H
X-Robots-Tag:noindex
X-PUBLISHED-TTL:PT1H
BEGIN:VTIMEZONE
TZID:America/Chicago
BEGIN:DAYLIGHT
TZOFFSETFROM:-0600
TZOFFSETTO:-0500
TZNAME:CDT
DTSTART:20250309T080000
END:DAYLIGHT
BEGIN:STANDARD
TZOFFSETFROM:-0500
TZOFFSETTO:-0600
TZNAME:CST
DTSTART:20251102T070000
END:STANDARD
END:VTIMEZONE
BEGIN:VEVENT
DTSTART;VALUE=DATE:20250907
DTEND;VALUE=DATE:20250908
DTSTAMP:20260423T083303
CREATED:20250831T231634Z
LAST-MODIFIED:20250831T231634Z
UID:4011-1757203200-1757289599@turtleislandadventureparks.com
SUMMARY:9AM-8PM
DESCRIPTION:
URL:https://turtleislandadventureparks.com/event/9am-8pm-77/
CATEGORIES:hours
END:VEVENT
BEGIN:VEVENT
DTSTART;VALUE=DATE:20250906
DTEND;VALUE=DATE:20250907
DTSTAMP:20260423T083303
CREATED:20250831T231606Z
LAST-MODIFIED:20250831T231606Z
UID:4008-1757116800-1757203199@turtleislandadventureparks.com
SUMMARY:9AM-8PM
DESCRIPTION:
URL:https://turtleislandadventureparks.com/event/9am-8pm-76/
CATEGORIES:hours
END:VEVENT
BEGIN:VEVENT
DTSTART;VALUE=DATE:20250905
DTEND;VALUE=DATE:20250906
DTSTAMP:20260423T083303
CREATED:20250831T231515Z
LAST-MODIFIED:20250831T231515Z
UID:4005-1757030400-1757116799@turtleislandadventureparks.com
SUMMARY:11AM-8PM
DESCRIPTION:Family of 4 for $40
URL:https://turtleislandadventureparks.com/event/11am-8pm-139/
CATEGORIES:hours
END:VEVENT
BEGIN:VEVENT
DTSTART;VALUE=DATE:20250904
DTEND;VALUE=DATE:20250905
DTSTAMP:20260423T083303
CREATED:20250831T231431Z
LAST-MODIFIED:20250831T231431Z
UID:4001-1756944000-1757030399@turtleislandadventureparks.com
SUMMARY:11AM-8PM
DESCRIPTION:Super Twilight Promo – 6PM-8PM $10 Admission
URL:https://turtleislandadventureparks.com/event/11am-8pm-138/
CATEGORIES:hours
END:VEVENT
BEGIN:VEVENT
DTSTART;VALUE=DATE:20250903
DTEND;VALUE=DATE:20250904
DTSTAMP:20260423T083303
CREATED:20250831T231208Z
LAST-MODIFIED:20250831T231208Z
UID:3999-1756857600-1756943999@turtleislandadventureparks.com
SUMMARY:11AM-8PM
DESCRIPTION:Wacky Wheel of Fortune – Spin to win\, one spin per paid transaction.
URL:https://turtleislandadventureparks.com/event/11am-8pm-137/
CATEGORIES:hours
END:VEVENT
BEGIN:VEVENT
DTSTART;VALUE=DATE:20250831
DTEND;VALUE=DATE:20250901
DTSTAMP:20260423T083303
CREATED:20250806T141730Z
LAST-MODIFIED:20250806T141730Z
UID:3983-1756598400-1756684799@turtleislandadventureparks.com
SUMMARY:9AM-8PM
DESCRIPTION:
URL:https://turtleislandadventureparks.com/event/9am-8pm-75/
CATEGORIES:hours
END:VEVENT
BEGIN:VEVENT
DTSTART;VALUE=DATE:20250830
DTEND;VALUE=DATE:20250831
DTSTAMP:20260423T083303
CREATED:20250806T141715Z
LAST-MODIFIED:20250806T141715Z
UID:3980-1756512000-1756598399@turtleislandadventureparks.com
SUMMARY:9AM-8PM
DESCRIPTION:
URL:https://turtleislandadventureparks.com/event/9am-8pm-74/
CATEGORIES:hours
END:VEVENT
BEGIN:VEVENT
DTSTART;VALUE=DATE:20250829
DTEND;VALUE=DATE:20250830
DTSTAMP:20260423T083303
CREATED:20250806T141701Z
LAST-MODIFIED:20250806T141701Z
UID:3977-1756425600-1756511999@turtleislandadventureparks.com
SUMMARY:11AM-8PM
DESCRIPTION:Family of 4 for $40
URL:https://turtleislandadventureparks.com/event/11am-8pm-136/
CATEGORIES:hours
END:VEVENT
BEGIN:VEVENT
DTSTART;VALUE=DATE:20250828
DTEND;VALUE=DATE:20250829
DTSTAMP:20260423T083303
CREATED:20250806T141638Z
LAST-MODIFIED:20250806T141638Z
UID:3974-1756339200-1756425599@turtleislandadventureparks.com
SUMMARY:11AM-8PM
DESCRIPTION:Super Twilight – $10 Admission from 6pm-8pm
URL:https://turtleislandadventureparks.com/event/11am-8pm-135/
CATEGORIES:hours
END:VEVENT
BEGIN:VEVENT
DTSTART;VALUE=DATE:20250827
DTEND;VALUE=DATE:20250828
DTSTAMP:20260423T083303
CREATED:20250806T141557Z
LAST-MODIFIED:20250806T141557Z
UID:3971-1756252800-1756339199@turtleislandadventureparks.com
SUMMARY:11AM-8PM
DESCRIPTION:Wacky Wheel Wednesday \nOne spin per paid transaction. Win prizes\, discounts and more!
URL:https://turtleislandadventureparks.com/event/11am-8pm-134/
CATEGORIES:hours
END:VEVENT
BEGIN:VEVENT
DTSTART;VALUE=DATE:20250826
DTEND;VALUE=DATE:20250827
DTSTAMP:20260423T083303
CREATED:20250806T141541Z
LAST-MODIFIED:20250806T141541Z
UID:3968-1756166400-1756252799@turtleislandadventureparks.com
SUMMARY:11AM-8PM
DESCRIPTION:Buy 1 Get 1 FREE! \nTaco Tuesday Special – Taco Pizza $15
URL:https://turtleislandadventureparks.com/event/11am-8pm-133/
CATEGORIES:hours
END:VEVENT
BEGIN:VEVENT
DTSTART;VALUE=DATE:20250824
DTEND;VALUE=DATE:20250825
DTSTAMP:20260423T083303
CREATED:20250806T141440Z
LAST-MODIFIED:20250806T141440Z
UID:3962-1755993600-1756079999@turtleislandadventureparks.com
SUMMARY:9AM-8PM
DESCRIPTION:
URL:https://turtleislandadventureparks.com/event/9am-8pm-73/
CATEGORIES:hours
END:VEVENT
BEGIN:VEVENT
DTSTART;VALUE=DATE:20250823
DTEND;VALUE=DATE:20250824
DTSTAMP:20260423T083303
CREATED:20250806T141425Z
LAST-MODIFIED:20250806T141425Z
UID:3959-1755907200-1755993599@turtleislandadventureparks.com
SUMMARY:9AM-8PM
DESCRIPTION:
URL:https://turtleislandadventureparks.com/event/9am-8pm-72/
CATEGORIES:hours
END:VEVENT
BEGIN:VEVENT
DTSTART;VALUE=DATE:20250822
DTEND;VALUE=DATE:20250823
DTSTAMP:20260423T083303
CREATED:20250806T141254Z
LAST-MODIFIED:20250806T141254Z
UID:3955-1755820800-1755907199@turtleislandadventureparks.com
SUMMARY:11AM-8PM
DESCRIPTION:Family of 4 for $40
URL:https://turtleislandadventureparks.com/event/11am-8pm-132/
CATEGORIES:hours
END:VEVENT
BEGIN:VEVENT
DTSTART;VALUE=DATE:20250821
DTEND;VALUE=DATE:20250822
DTSTAMP:20260423T083303
CREATED:20250806T141230Z
LAST-MODIFIED:20250806T141230Z
UID:3952-1755734400-1755820799@turtleislandadventureparks.com
SUMMARY:11AM-8PM
DESCRIPTION:Super Twilight – $10 Admission from 6pm-8pm!
URL:https://turtleislandadventureparks.com/event/11am-8pm-131/
CATEGORIES:hours
END:VEVENT
BEGIN:VEVENT
DTSTART;VALUE=DATE:20250820
DTEND;VALUE=DATE:20250821
DTSTAMP:20260423T083303
CREATED:20250806T141152Z
LAST-MODIFIED:20250806T141152Z
UID:3949-1755648000-1755734399@turtleislandadventureparks.com
SUMMARY:11AM-8PM
DESCRIPTION:Wacky Wheel Wednesday \nOne spin per paid transaction. Win prizes\, discounts and more!
URL:https://turtleislandadventureparks.com/event/11am-8pm-130/
CATEGORIES:hours
END:VEVENT
BEGIN:VEVENT
DTSTART;VALUE=DATE:20250819
DTEND;VALUE=DATE:20250820
DTSTAMP:20260423T083303
CREATED:20250806T141130Z
LAST-MODIFIED:20250806T141130Z
UID:3946-1755561600-1755647999@turtleislandadventureparks.com
SUMMARY:11AM-8PM
DESCRIPTION:Buy 1 Get 1 FREE! \nTaco Tuesday Special – Taco Pizza $15
URL:https://turtleislandadventureparks.com/event/11am-8pm-129/
CATEGORIES:hours
END:VEVENT
BEGIN:VEVENT
DTSTART;VALUE=DATE:20250817
DTEND;VALUE=DATE:20250818
DTSTAMP:20260423T083303
CREATED:20250806T140722Z
LAST-MODIFIED:20250806T140722Z
UID:3933-1755388800-1755475199@turtleislandadventureparks.com
SUMMARY:9AM-8PM
DESCRIPTION:
URL:https://turtleislandadventureparks.com/event/9am-8pm-71/
CATEGORIES:hours
END:VEVENT
BEGIN:VEVENT
DTSTART;VALUE=DATE:20250816
DTEND;VALUE=DATE:20250817
DTSTAMP:20260423T083303
CREATED:20250806T140707Z
LAST-MODIFIED:20250806T140707Z
UID:3930-1755302400-1755388799@turtleislandadventureparks.com
SUMMARY:9AM-8PM
DESCRIPTION:
URL:https://turtleislandadventureparks.com/event/9am-8pm-70/
CATEGORIES:hours
END:VEVENT
BEGIN:VEVENT
DTSTART;VALUE=DATE:20250815
DTEND;VALUE=DATE:20250816
DTSTAMP:20260423T083303
CREATED:20250806T140650Z
LAST-MODIFIED:20250806T140925Z
UID:3927-1755216000-1755302399@turtleislandadventureparks.com
SUMMARY:11AM-8PM
DESCRIPTION:Family of 4 for $40
URL:https://turtleislandadventureparks.com/event/11am-8pm-128/
CATEGORIES:hours
END:VEVENT
BEGIN:VEVENT
DTSTART;VALUE=DATE:20250814
DTEND;VALUE=DATE:20250815
DTSTAMP:20260423T083303
CREATED:20250806T140620Z
LAST-MODIFIED:20250806T140620Z
UID:3924-1755129600-1755215999@turtleislandadventureparks.com
SUMMARY:11AM-8PM
DESCRIPTION:Super Twilight – $10 Admission from 6pm-8pm
URL:https://turtleislandadventureparks.com/event/11am-8pm-127/
CATEGORIES:hours
END:VEVENT
BEGIN:VEVENT
DTSTART;VALUE=DATE:20250813
DTEND;VALUE=DATE:20250814
DTSTAMP:20260423T083303
CREATED:20250806T140540Z
LAST-MODIFIED:20250806T140911Z
UID:3921-1755043200-1755129599@turtleislandadventureparks.com
SUMMARY:11AM-8PM
DESCRIPTION:Wacky Wheel Wednesday \nOne spin per paid transaction. Win prizes\, discounts and more!
URL:https://turtleislandadventureparks.com/event/11am-8pm-126/
CATEGORIES:hours
END:VEVENT
BEGIN:VEVENT
DTSTART;VALUE=DATE:20250812
DTEND;VALUE=DATE:20250813
DTSTAMP:20260423T083303
CREATED:20250806T140421Z
LAST-MODIFIED:20250806T140421Z
UID:3918-1754956800-1755043199@turtleislandadventureparks.com
SUMMARY:11AM-8PM
DESCRIPTION:BUY 1 Get 1 FREE! \nTaco Pizza Tuesday Special $15
URL:https://turtleislandadventureparks.com/event/11am-8pm-125/
CATEGORIES:hours
END:VEVENT
BEGIN:VEVENT
DTSTART;VALUE=DATE:20250810
DTEND;VALUE=DATE:20250811
DTSTAMP:20260423T083303
CREATED:20250806T140313Z
LAST-MODIFIED:20250806T140313Z
UID:3912-1754784000-1754870399@turtleislandadventureparks.com
SUMMARY:9AM-8PM
DESCRIPTION:
URL:https://turtleislandadventureparks.com/event/9am-8pm-69/
CATEGORIES:hours
END:VEVENT
BEGIN:VEVENT
DTSTART;VALUE=DATE:20250809
DTEND;VALUE=DATE:20250810
DTSTAMP:20260423T083303
CREATED:20250806T140258Z
LAST-MODIFIED:20250806T185010Z
UID:3909-1754697600-1754783999@turtleislandadventureparks.com
SUMMARY:9AM-6PM
DESCRIPTION:Turtle Island Adventure Parks – Indoor Waterpark will close at 6:00PM \nTurtle Island Adventure Parks – Sky High Trampoline Park Hours will remain 9:00AM-8:00PM
URL:https://turtleislandadventureparks.com/event/9am-8pm-68/
CATEGORIES:hours
END:VEVENT
BEGIN:VEVENT
DTSTART;VALUE=DATE:20250808
DTEND;VALUE=DATE:20250809
DTSTAMP:20260423T083303
CREATED:20250806T140211Z
LAST-MODIFIED:20250806T140211Z
UID:3906-1754611200-1754697599@turtleislandadventureparks.com
SUMMARY:11AM-8PM
DESCRIPTION:Family of 4 for $40
URL:https://turtleislandadventureparks.com/event/11am-8pm-124/
CATEGORIES:hours
END:VEVENT
BEGIN:VEVENT
DTSTART;VALUE=DATE:20250807
DTEND;VALUE=DATE:20250808
DTSTAMP:20260423T083303
CREATED:20250806T140146Z
LAST-MODIFIED:20250806T140146Z
UID:3903-1754524800-1754611199@turtleislandadventureparks.com
SUMMARY:11AM-8PM
DESCRIPTION:Super Twilight – $10 Admission from 6pm-8pm!
URL:https://turtleislandadventureparks.com/event/11am-8pm-123/
CATEGORIES:hours
END:VEVENT
BEGIN:VEVENT
DTSTART;VALUE=DATE:20250806
DTEND;VALUE=DATE:20250807
DTSTAMP:20260423T083303
CREATED:20250806T140014Z
LAST-MODIFIED:20250806T140014Z
UID:3900-1754438400-1754524799@turtleislandadventureparks.com
SUMMARY:11AM-8PM
DESCRIPTION:Wacky Wheel Wednesday \nOne spin per paid transaction. Win prizes\, discounts and more!
URL:https://turtleislandadventureparks.com/event/11am-8pm-122/
CATEGORIES:hours
END:VEVENT
BEGIN:VEVENT
DTSTART;VALUE=DATE:20250805
DTEND;VALUE=DATE:20250806
DTSTAMP:20260423T083303
CREATED:20250806T135921Z
LAST-MODIFIED:20250806T135921Z
UID:3897-1754352000-1754438399@turtleislandadventureparks.com
SUMMARY:11AM-8PM
DESCRIPTION:BUY 2 Get 1 FREE!
URL:https://turtleislandadventureparks.com/event/11am-8pm-121/
CATEGORIES:hours
END:VEVENT
BEGIN:VEVENT
DTSTART;VALUE=DATE:20250803
DTEND;VALUE=DATE:20250804
DTSTAMP:20260423T083303
CREATED:20250806T135822Z
LAST-MODIFIED:20250806T135822Z
UID:3891-1754179200-1754265599@turtleislandadventureparks.com
SUMMARY:9AM-8PM
DESCRIPTION:
URL:https://turtleislandadventureparks.com/event/9am-8pm-67/
CATEGORIES:hours
END:VEVENT
END:VCALENDAR