BEGIN:VCALENDAR
VERSION:2.0
PRODID:-//Turtle Island Adventure Parks - ECPv6.2.8.1//NONSGML v1.0//EN
CALSCALE:GREGORIAN
METHOD:PUBLISH
X-ORIGINAL-URL:https://turtleislandadventureparks.com
X-WR-CALDESC:Events for Turtle Island Adventure Parks
REFRESH-INTERVAL;VALUE=DURATION:PT1H
X-Robots-Tag:noindex
X-PUBLISHED-TTL:PT1H
BEGIN:VTIMEZONE
TZID:America/Chicago
BEGIN:DAYLIGHT
TZOFFSETFROM:-0600
TZOFFSETTO:-0500
TZNAME:CDT
DTSTART:20250309T080000
END:DAYLIGHT
BEGIN:STANDARD
TZOFFSETFROM:-0500
TZOFFSETTO:-0600
TZNAME:CST
DTSTART:20251102T070000
END:STANDARD
END:VTIMEZONE
BEGIN:VEVENT
DTSTART;VALUE=DATE:20250809
DTEND;VALUE=DATE:20250810
DTSTAMP:20260423T110540
CREATED:20250806T140258Z
LAST-MODIFIED:20250806T185010Z
UID:3909-1754697600-1754783999@turtleislandadventureparks.com
SUMMARY:9AM-6PM
DESCRIPTION:Turtle Island Adventure Parks – Indoor Waterpark will close at 6:00PM \nTurtle Island Adventure Parks – Sky High Trampoline Park Hours will remain 9:00AM-8:00PM
URL:https://turtleislandadventureparks.com/event/9am-8pm-68/
CATEGORIES:hours
END:VEVENT
BEGIN:VEVENT
DTSTART;VALUE=DATE:20250808
DTEND;VALUE=DATE:20250809
DTSTAMP:20260423T110540
CREATED:20250806T140211Z
LAST-MODIFIED:20250806T140211Z
UID:3906-1754611200-1754697599@turtleislandadventureparks.com
SUMMARY:11AM-8PM
DESCRIPTION:Family of 4 for $40
URL:https://turtleislandadventureparks.com/event/11am-8pm-124/
CATEGORIES:hours
END:VEVENT
BEGIN:VEVENT
DTSTART;VALUE=DATE:20250807
DTEND;VALUE=DATE:20250808
DTSTAMP:20260423T110540
CREATED:20250806T140146Z
LAST-MODIFIED:20250806T140146Z
UID:3903-1754524800-1754611199@turtleislandadventureparks.com
SUMMARY:11AM-8PM
DESCRIPTION:Super Twilight – $10 Admission from 6pm-8pm!
URL:https://turtleislandadventureparks.com/event/11am-8pm-123/
CATEGORIES:hours
END:VEVENT
BEGIN:VEVENT
DTSTART;VALUE=DATE:20250806
DTEND;VALUE=DATE:20250807
DTSTAMP:20260423T110540
CREATED:20250806T140014Z
LAST-MODIFIED:20250806T140014Z
UID:3900-1754438400-1754524799@turtleislandadventureparks.com
SUMMARY:11AM-8PM
DESCRIPTION:Wacky Wheel Wednesday \nOne spin per paid transaction. Win prizes\, discounts and more!
URL:https://turtleislandadventureparks.com/event/11am-8pm-122/
CATEGORIES:hours
END:VEVENT
BEGIN:VEVENT
DTSTART;VALUE=DATE:20250805
DTEND;VALUE=DATE:20250806
DTSTAMP:20260423T110540
CREATED:20250806T135921Z
LAST-MODIFIED:20250806T135921Z
UID:3897-1754352000-1754438399@turtleislandadventureparks.com
SUMMARY:11AM-8PM
DESCRIPTION:BUY 2 Get 1 FREE!
URL:https://turtleislandadventureparks.com/event/11am-8pm-121/
CATEGORIES:hours
END:VEVENT
BEGIN:VEVENT
DTSTART;VALUE=DATE:20250803
DTEND;VALUE=DATE:20250804
DTSTAMP:20260423T110540
CREATED:20250806T135822Z
LAST-MODIFIED:20250806T135822Z
UID:3891-1754179200-1754265599@turtleislandadventureparks.com
SUMMARY:9AM-8PM
DESCRIPTION:
URL:https://turtleislandadventureparks.com/event/9am-8pm-67/
CATEGORIES:hours
END:VEVENT
BEGIN:VEVENT
DTSTART;VALUE=DATE:20250802
DTEND;VALUE=DATE:20250803
DTSTAMP:20260423T110540
CREATED:20250806T135802Z
LAST-MODIFIED:20250806T135802Z
UID:3888-1754092800-1754179199@turtleislandadventureparks.com
SUMMARY:9AM-8PM
DESCRIPTION:
URL:https://turtleislandadventureparks.com/event/9am-8pm-66/
CATEGORIES:hours
END:VEVENT
BEGIN:VEVENT
DTSTART;VALUE=DATE:20250801
DTEND;VALUE=DATE:20250802
DTSTAMP:20260423T110540
CREATED:20250806T135740Z
LAST-MODIFIED:20250806T135740Z
UID:3885-1754006400-1754092799@turtleislandadventureparks.com
SUMMARY:11AM-8PM
DESCRIPTION:Family of 4 for $40
URL:https://turtleislandadventureparks.com/event/11am-8pm-120/
CATEGORIES:hours
END:VEVENT
BEGIN:VEVENT
DTSTART;VALUE=DATE:20250731
DTEND;VALUE=DATE:20250801
DTSTAMP:20260423T110540
CREATED:20250630T152656Z
LAST-MODIFIED:20250630T152656Z
UID:3862-1753920000-1754006399@turtleislandadventureparks.com
SUMMARY:11AM-8PM
DESCRIPTION:
URL:https://turtleislandadventureparks.com/event/11am-8pm-119/
CATEGORIES:hours
END:VEVENT
BEGIN:VEVENT
DTSTART;VALUE=DATE:20250730
DTEND;VALUE=DATE:20250731
DTSTAMP:20260423T110540
CREATED:20250630T152637Z
LAST-MODIFIED:20250630T152937Z
UID:3859-1753833600-1753919999@turtleislandadventureparks.com
SUMMARY:11AM-8PM
DESCRIPTION:Wacky Wheel Wednesday \nSpin the wheel for your chance to win. \nOne spin per transaction.
URL:https://turtleislandadventureparks.com/event/11am-8pm-118/
CATEGORIES:hours
END:VEVENT
BEGIN:VEVENT
DTSTART;VALUE=DATE:20250729
DTEND;VALUE=DATE:20250730
DTSTAMP:20260423T110540
CREATED:20250630T152605Z
LAST-MODIFIED:20250630T152605Z
UID:3856-1753747200-1753833599@turtleislandadventureparks.com
SUMMARY:11AM-8PM
DESCRIPTION:Buy 2 get 1 FREE!
URL:https://turtleislandadventureparks.com/event/11am-8pm-117/
CATEGORIES:hours
END:VEVENT
BEGIN:VEVENT
DTSTART;VALUE=DATE:20250727
DTEND;VALUE=DATE:20250728
DTSTAMP:20260423T110540
CREATED:20250630T152526Z
LAST-MODIFIED:20250630T152526Z
UID:3850-1753574400-1753660799@turtleislandadventureparks.com
SUMMARY:9AM-8PM
DESCRIPTION:
URL:https://turtleislandadventureparks.com/event/9am-8pm-65/
CATEGORIES:hours
END:VEVENT
BEGIN:VEVENT
DTSTART;VALUE=DATE:20250726
DTEND;VALUE=DATE:20250727
DTSTAMP:20260423T110540
CREATED:20250630T152511Z
LAST-MODIFIED:20250630T152511Z
UID:3847-1753488000-1753574399@turtleislandadventureparks.com
SUMMARY:9AM-8PM
DESCRIPTION:
URL:https://turtleislandadventureparks.com/event/9am-8pm-64/
CATEGORIES:hours
END:VEVENT
BEGIN:VEVENT
DTSTART;VALUE=DATE:20250725
DTEND;VALUE=DATE:20250726
DTSTAMP:20260423T110540
CREATED:20250630T152456Z
LAST-MODIFIED:20250630T152456Z
UID:3844-1753401600-1753487999@turtleislandadventureparks.com
SUMMARY:11AM-8PM
DESCRIPTION:Family of 4 for $40
URL:https://turtleislandadventureparks.com/event/11am-8pm-116/
CATEGORIES:hours
END:VEVENT
BEGIN:VEVENT
DTSTART;VALUE=DATE:20250724
DTEND;VALUE=DATE:20250725
DTSTAMP:20260423T110540
CREATED:20250630T152435Z
LAST-MODIFIED:20250630T152435Z
UID:3841-1753315200-1753401599@turtleislandadventureparks.com
SUMMARY:11AM-8PM
DESCRIPTION:
URL:https://turtleislandadventureparks.com/event/11am-8pm-115/
CATEGORIES:hours
END:VEVENT
BEGIN:VEVENT
DTSTART;VALUE=DATE:20250723
DTEND;VALUE=DATE:20250724
DTSTAMP:20260423T110540
CREATED:20250630T152418Z
LAST-MODIFIED:20250630T152913Z
UID:3838-1753228800-1753315199@turtleislandadventureparks.com
SUMMARY:11AM-8PM
DESCRIPTION:Wacky Wheel Wednesday \nSpin the wheel for your chance to win. \nOne spin per transaction.
URL:https://turtleislandadventureparks.com/event/11am-8pm-114/
CATEGORIES:hours
END:VEVENT
BEGIN:VEVENT
DTSTART;VALUE=DATE:20250722
DTEND;VALUE=DATE:20250723
DTSTAMP:20260423T110540
CREATED:20250630T152339Z
LAST-MODIFIED:20250630T152339Z
UID:3835-1753142400-1753228799@turtleislandadventureparks.com
SUMMARY:11AM-8PM
DESCRIPTION:Buy 2 get 1 FREE!
URL:https://turtleislandadventureparks.com/event/11am-8pm-113/
CATEGORIES:hours
END:VEVENT
BEGIN:VEVENT
DTSTART;VALUE=DATE:20250720
DTEND;VALUE=DATE:20250721
DTSTAMP:20260423T110540
CREATED:20250630T152259Z
LAST-MODIFIED:20250630T152724Z
UID:3829-1752969600-1753055999@turtleislandadventureparks.com
SUMMARY:9AM-8PM
DESCRIPTION:
URL:https://turtleislandadventureparks.com/event/9am-8pm-63/
CATEGORIES:hours
END:VEVENT
BEGIN:VEVENT
DTSTART;VALUE=DATE:20250719
DTEND;VALUE=DATE:20250720
DTSTAMP:20260423T110540
CREATED:20250630T152241Z
LAST-MODIFIED:20250630T152241Z
UID:3826-1752883200-1752969599@turtleislandadventureparks.com
SUMMARY:9AM-8PM
DESCRIPTION:
URL:https://turtleislandadventureparks.com/event/9am-8pm-62/
CATEGORIES:hours
END:VEVENT
BEGIN:VEVENT
DTSTART;VALUE=DATE:20250718
DTEND;VALUE=DATE:20250719
DTSTAMP:20260423T110540
CREATED:20250630T152225Z
LAST-MODIFIED:20250630T152225Z
UID:3823-1752796800-1752883199@turtleislandadventureparks.com
SUMMARY:11AM-8PM
DESCRIPTION:Family of 4 for $40
URL:https://turtleislandadventureparks.com/event/11am-8pm-112/
CATEGORIES:hours
END:VEVENT
BEGIN:VEVENT
DTSTART;VALUE=DATE:20250717
DTEND;VALUE=DATE:20250718
DTSTAMP:20260423T110540
CREATED:20250630T152202Z
LAST-MODIFIED:20250630T152202Z
UID:3820-1752710400-1752796799@turtleislandadventureparks.com
SUMMARY:11AM-8PM
DESCRIPTION:
URL:https://turtleislandadventureparks.com/event/11am-8pm-111/
CATEGORIES:hours
END:VEVENT
BEGIN:VEVENT
DTSTART;VALUE=DATE:20250716
DTEND;VALUE=DATE:20250717
DTSTAMP:20260423T110540
CREATED:20250630T152138Z
LAST-MODIFIED:20250630T152854Z
UID:3817-1752624000-1752710399@turtleislandadventureparks.com
SUMMARY:11AM-8PM
DESCRIPTION:Wacky Wheel Wednesday \nSpin the wheel for your chance to win. \nOne spin per transaction.
URL:https://turtleislandadventureparks.com/event/11am-8pm-110/
CATEGORIES:hours
END:VEVENT
BEGIN:VEVENT
DTSTART;VALUE=DATE:20250715
DTEND;VALUE=DATE:20250716
DTSTAMP:20260423T110540
CREATED:20250630T152056Z
LAST-MODIFIED:20250630T152056Z
UID:3814-1752537600-1752623999@turtleislandadventureparks.com
SUMMARY:11AM-8PM
DESCRIPTION:Buy 2 get 1 FREE!
URL:https://turtleislandadventureparks.com/event/11am-8pm-109/
CATEGORIES:hours
END:VEVENT
BEGIN:VEVENT
DTSTART;VALUE=DATE:20250713
DTEND;VALUE=DATE:20250714
DTSTAMP:20260423T110540
CREATED:20250630T152010Z
LAST-MODIFIED:20250630T152010Z
UID:3808-1752364800-1752451199@turtleislandadventureparks.com
SUMMARY:9AM-8PM
DESCRIPTION:
URL:https://turtleislandadventureparks.com/event/9am-8pm-61/
CATEGORIES:hours
END:VEVENT
BEGIN:VEVENT
DTSTART;VALUE=DATE:20250712
DTEND;VALUE=DATE:20250713
DTSTAMP:20260423T110540
CREATED:20250630T151956Z
LAST-MODIFIED:20250707T191357Z
UID:3805-1752278400-1752364799@turtleislandadventureparks.com
SUMMARY:9AM-6PM
DESCRIPTION:
URL:https://turtleislandadventureparks.com/event/9am-8pm-60/
CATEGORIES:hours
END:VEVENT
BEGIN:VEVENT
DTSTART;VALUE=DATE:20250711
DTEND;VALUE=DATE:20250712
DTSTAMP:20260423T110540
CREATED:20250630T151941Z
LAST-MODIFIED:20250630T151941Z
UID:3802-1752192000-1752278399@turtleislandadventureparks.com
SUMMARY:11AM-8PM
DESCRIPTION:Family of 4 for $40
URL:https://turtleislandadventureparks.com/event/11am-8pm-108/
CATEGORIES:hours
END:VEVENT
BEGIN:VEVENT
DTSTART;VALUE=DATE:20250710
DTEND;VALUE=DATE:20250711
DTSTAMP:20260423T110540
CREATED:20250630T151920Z
LAST-MODIFIED:20250630T151920Z
UID:3799-1752105600-1752191999@turtleislandadventureparks.com
SUMMARY:11AM-8PM
DESCRIPTION:
URL:https://turtleislandadventureparks.com/event/11am-8pm-107/
CATEGORIES:hours
END:VEVENT
BEGIN:VEVENT
DTSTART;VALUE=DATE:20250709
DTEND;VALUE=DATE:20250710
DTSTAMP:20260423T110540
CREATED:20250630T151906Z
LAST-MODIFIED:20250630T152833Z
UID:3796-1752019200-1752105599@turtleislandadventureparks.com
SUMMARY:11AM-8PM
DESCRIPTION:Wacky Weel Wednesday \nSpin the wheel for your chance to win. \nOne spin per transaction.
URL:https://turtleislandadventureparks.com/event/11am-8pm-106/
CATEGORIES:hours
END:VEVENT
BEGIN:VEVENT
DTSTART;VALUE=DATE:20250708
DTEND;VALUE=DATE:20250709
DTSTAMP:20260423T110540
CREATED:20250630T151833Z
LAST-MODIFIED:20250630T151833Z
UID:3793-1751932800-1752019199@turtleislandadventureparks.com
SUMMARY:11AM-8PM
DESCRIPTION:Buy 2 Get 1 FREE!
URL:https://turtleislandadventureparks.com/event/11am-8pm-105/
CATEGORIES:hours
END:VEVENT
BEGIN:VEVENT
DTSTART;VALUE=DATE:20250706
DTEND;VALUE=DATE:20250707
DTSTAMP:20260423T110540
CREATED:20250630T151707Z
LAST-MODIFIED:20250630T151707Z
UID:3787-1751760000-1751846399@turtleislandadventureparks.com
SUMMARY:9AM-8PM
DESCRIPTION:
URL:https://turtleislandadventureparks.com/event/9am-8pm-59/
CATEGORIES:hours
END:VEVENT
END:VCALENDAR