BEGIN:VCALENDAR
VERSION:2.0
PRODID:-//Turtle Island Adventure Parks - ECPv6.2.8.1//NONSGML v1.0//EN
CALSCALE:GREGORIAN
METHOD:PUBLISH
X-WR-CALNAME:Turtle Island Adventure Parks
X-ORIGINAL-URL:https://turtleislandadventureparks.com
X-WR-CALDESC:Events for Turtle Island Adventure Parks
REFRESH-INTERVAL;VALUE=DURATION:PT1H
X-Robots-Tag:noindex
X-PUBLISHED-TTL:PT1H
BEGIN:VTIMEZONE
TZID:America/Chicago
BEGIN:DAYLIGHT
TZOFFSETFROM:-0600
TZOFFSETTO:-0500
TZNAME:CDT
DTSTART:20250309T080000
END:DAYLIGHT
BEGIN:STANDARD
TZOFFSETFROM:-0500
TZOFFSETTO:-0600
TZNAME:CST
DTSTART:20251102T070000
END:STANDARD
END:VTIMEZONE
BEGIN:VEVENT
DTSTART;VALUE=DATE:20250712
DTEND;VALUE=DATE:20250713
DTSTAMP:20260423T142010
CREATED:20250630T151956Z
LAST-MODIFIED:20250707T191357Z
UID:3805-1752278400-1752364799@turtleislandadventureparks.com
SUMMARY:9AM-6PM
DESCRIPTION:
URL:https://turtleislandadventureparks.com/event/9am-8pm-60/
CATEGORIES:hours
END:VEVENT
BEGIN:VEVENT
DTSTART;VALUE=DATE:20250711
DTEND;VALUE=DATE:20250712
DTSTAMP:20260423T142010
CREATED:20250630T151941Z
LAST-MODIFIED:20250630T151941Z
UID:3802-1752192000-1752278399@turtleislandadventureparks.com
SUMMARY:11AM-8PM
DESCRIPTION:Family of 4 for $40
URL:https://turtleislandadventureparks.com/event/11am-8pm-108/
CATEGORIES:hours
END:VEVENT
BEGIN:VEVENT
DTSTART;VALUE=DATE:20250710
DTEND;VALUE=DATE:20250711
DTSTAMP:20260423T142010
CREATED:20250630T151920Z
LAST-MODIFIED:20250630T151920Z
UID:3799-1752105600-1752191999@turtleislandadventureparks.com
SUMMARY:11AM-8PM
DESCRIPTION:
URL:https://turtleislandadventureparks.com/event/11am-8pm-107/
CATEGORIES:hours
END:VEVENT
BEGIN:VEVENT
DTSTART;VALUE=DATE:20250709
DTEND;VALUE=DATE:20250710
DTSTAMP:20260423T142010
CREATED:20250630T151906Z
LAST-MODIFIED:20250630T152833Z
UID:3796-1752019200-1752105599@turtleislandadventureparks.com
SUMMARY:11AM-8PM
DESCRIPTION:Wacky Weel Wednesday \nSpin the wheel for your chance to win. \nOne spin per transaction.
URL:https://turtleislandadventureparks.com/event/11am-8pm-106/
CATEGORIES:hours
END:VEVENT
BEGIN:VEVENT
DTSTART;VALUE=DATE:20250708
DTEND;VALUE=DATE:20250709
DTSTAMP:20260423T142010
CREATED:20250630T151833Z
LAST-MODIFIED:20250630T151833Z
UID:3793-1751932800-1752019199@turtleislandadventureparks.com
SUMMARY:11AM-8PM
DESCRIPTION:Buy 2 Get 1 FREE!
URL:https://turtleislandadventureparks.com/event/11am-8pm-105/
CATEGORIES:hours
END:VEVENT
BEGIN:VEVENT
DTSTART;VALUE=DATE:20250706
DTEND;VALUE=DATE:20250707
DTSTAMP:20260423T142010
CREATED:20250630T151707Z
LAST-MODIFIED:20250630T151707Z
UID:3787-1751760000-1751846399@turtleislandadventureparks.com
SUMMARY:9AM-8PM
DESCRIPTION:
URL:https://turtleislandadventureparks.com/event/9am-8pm-59/
CATEGORIES:hours
END:VEVENT
BEGIN:VEVENT
DTSTART;VALUE=DATE:20250705
DTEND;VALUE=DATE:20250706
DTSTAMP:20260423T142010
CREATED:20250630T151649Z
LAST-MODIFIED:20250630T151649Z
UID:3784-1751673600-1751759999@turtleislandadventureparks.com
SUMMARY:9AM-8PM
DESCRIPTION:
URL:https://turtleislandadventureparks.com/event/9am-8pm-58/
CATEGORIES:hours
END:VEVENT
BEGIN:VEVENT
DTSTART;VALUE=DATE:20250703
DTEND;VALUE=DATE:20250704
DTSTAMP:20260423T142010
CREATED:20250630T151519Z
LAST-MODIFIED:20250630T151519Z
UID:3775-1751500800-1751587199@turtleislandadventureparks.com
SUMMARY:11AM-8PM
DESCRIPTION:
URL:https://turtleislandadventureparks.com/event/11am-8pm-104/
CATEGORIES:hours
END:VEVENT
BEGIN:VEVENT
DTSTART;VALUE=DATE:20250702
DTEND;VALUE=DATE:20250703
DTSTAMP:20260423T142010
CREATED:20250630T151455Z
LAST-MODIFIED:20250630T151455Z
UID:3772-1751414400-1751500799@turtleislandadventureparks.com
SUMMARY:11AM-8PM
DESCRIPTION:Wacky Wheel Wednesday \nSpin the wheel for your chance to win! \nOne Spin per transaction.
URL:https://turtleislandadventureparks.com/event/11am-8pm-103/
CATEGORIES:hours
END:VEVENT
BEGIN:VEVENT
DTSTART;VALUE=DATE:20250701
DTEND;VALUE=DATE:20250702
DTSTAMP:20260423T142010
CREATED:20250630T151414Z
LAST-MODIFIED:20250630T151414Z
UID:3769-1751328000-1751414399@turtleislandadventureparks.com
SUMMARY:11AM-8PM
DESCRIPTION:Buy 2 Get 1 Free!
URL:https://turtleislandadventureparks.com/event/11am-8pm-102/
CATEGORIES:hours
END:VEVENT
BEGIN:VEVENT
DTSTART;VALUE=DATE:20250629
DTEND;VALUE=DATE:20250630
DTSTAMP:20260423T142010
CREATED:20250602T135524Z
LAST-MODIFIED:20250602T135941Z
UID:3698-1751155200-1751241599@turtleislandadventureparks.com
SUMMARY:9AM-8PM
DESCRIPTION:
URL:https://turtleislandadventureparks.com/event/9am-8pm-57/
CATEGORIES:hours
END:VEVENT
BEGIN:VEVENT
DTSTART;VALUE=DATE:20250628
DTEND;VALUE=DATE:20250629
DTSTAMP:20260423T142010
CREATED:20250602T135506Z
LAST-MODIFIED:20250602T135506Z
UID:3695-1751068800-1751155199@turtleislandadventureparks.com
SUMMARY:9AM-8PM
DESCRIPTION:
URL:https://turtleislandadventureparks.com/event/9am-8pm-56/
CATEGORIES:hours
END:VEVENT
BEGIN:VEVENT
DTSTART;VALUE=DATE:20250627
DTEND;VALUE=DATE:20250628
DTSTAMP:20260423T142010
CREATED:20250602T135449Z
LAST-MODIFIED:20250602T135449Z
UID:3692-1750982400-1751068799@turtleislandadventureparks.com
SUMMARY:11AM-8PM
DESCRIPTION:
URL:https://turtleislandadventureparks.com/event/11am-8pm-101/
CATEGORIES:hours
END:VEVENT
BEGIN:VEVENT
DTSTART;VALUE=DATE:20250626
DTEND;VALUE=DATE:20250627
DTSTAMP:20260423T142010
CREATED:20250602T135428Z
LAST-MODIFIED:20250602T135428Z
UID:3689-1750896000-1750982399@turtleislandadventureparks.com
SUMMARY:11AM-8PM
DESCRIPTION:
URL:https://turtleislandadventureparks.com/event/11am-8pm-100/
CATEGORIES:hours
END:VEVENT
BEGIN:VEVENT
DTSTART;VALUE=DATE:20250625
DTEND;VALUE=DATE:20250626
DTSTAMP:20260423T142010
CREATED:20250602T135411Z
LAST-MODIFIED:20250602T135411Z
UID:3686-1750809600-1750895999@turtleislandadventureparks.com
SUMMARY:11AM-8PM
DESCRIPTION:
URL:https://turtleislandadventureparks.com/event/11am-8pm-99/
CATEGORIES:hours
END:VEVENT
BEGIN:VEVENT
DTSTART;VALUE=DATE:20250624
DTEND;VALUE=DATE:20250625
DTSTAMP:20260423T142010
CREATED:20250602T135355Z
LAST-MODIFIED:20250602T135355Z
UID:3683-1750723200-1750809599@turtleislandadventureparks.com
SUMMARY:11AM-8PM
DESCRIPTION:
URL:https://turtleislandadventureparks.com/event/11am-8pm-98/
CATEGORIES:hours
END:VEVENT
BEGIN:VEVENT
DTSTART;VALUE=DATE:20250622
DTEND;VALUE=DATE:20250623
DTSTAMP:20260423T142010
CREATED:20250602T135307Z
LAST-MODIFIED:20250602T135307Z
UID:3677-1750550400-1750636799@turtleislandadventureparks.com
SUMMARY:9AM-8PM
DESCRIPTION:
URL:https://turtleislandadventureparks.com/event/9am-8pm-55/
CATEGORIES:hours
END:VEVENT
BEGIN:VEVENT
DTSTART;VALUE=DATE:20250621
DTEND;VALUE=DATE:20250622
DTSTAMP:20260423T142010
CREATED:20250602T135201Z
LAST-MODIFIED:20250602T135201Z
UID:3673-1750464000-1750550399@turtleislandadventureparks.com
SUMMARY:9AM-8PM
DESCRIPTION:
URL:https://turtleislandadventureparks.com/event/9am-8pm-54/
CATEGORIES:hours
END:VEVENT
BEGIN:VEVENT
DTSTART;VALUE=DATE:20250620
DTEND;VALUE=DATE:20250621
DTSTAMP:20260423T142010
CREATED:20250602T135143Z
LAST-MODIFIED:20250611T134900Z
UID:3670-1750377600-1750463999@turtleislandadventureparks.com
SUMMARY:1PM-8PM
DESCRIPTION:
URL:https://turtleislandadventureparks.com/event/11am-8pm-97/
CATEGORIES:hours
END:VEVENT
BEGIN:VEVENT
DTSTART;VALUE=DATE:20250619
DTEND;VALUE=DATE:20250620
DTSTAMP:20260423T142010
CREATED:20250602T135118Z
LAST-MODIFIED:20250602T135118Z
UID:3667-1750291200-1750377599@turtleislandadventureparks.com
SUMMARY:11AM-8PM
DESCRIPTION:
URL:https://turtleislandadventureparks.com/event/11am-8pm-96/
CATEGORIES:hours
END:VEVENT
BEGIN:VEVENT
DTSTART;VALUE=DATE:20250618
DTEND;VALUE=DATE:20250619
DTSTAMP:20260423T142010
CREATED:20250602T135101Z
LAST-MODIFIED:20250611T134822Z
UID:3664-1750204800-1750291199@turtleislandadventureparks.com
SUMMARY:1PM-8PM
DESCRIPTION:
URL:https://turtleislandadventureparks.com/event/11am-8pm-95/
CATEGORIES:hours
END:VEVENT
BEGIN:VEVENT
DTSTART;VALUE=DATE:20250617
DTEND;VALUE=DATE:20250618
DTSTAMP:20260423T142010
CREATED:20250602T135044Z
LAST-MODIFIED:20250611T134409Z
UID:3661-1750118400-1750204799@turtleislandadventureparks.com
SUMMARY:1PM-8PM
DESCRIPTION:
URL:https://turtleislandadventureparks.com/event/11am-8pm-94/
CATEGORIES:hours
END:VEVENT
BEGIN:VEVENT
DTSTART;VALUE=DATE:20250615
DTEND;VALUE=DATE:20250616
DTSTAMP:20260423T142010
CREATED:20250602T134959Z
LAST-MODIFIED:20250602T134959Z
UID:3655-1749945600-1750031999@turtleislandadventureparks.com
SUMMARY:9AM-8PM
DESCRIPTION:HAPPY FATHER’S DAY!
URL:https://turtleislandadventureparks.com/event/9am-8pm-53/
CATEGORIES:hours
END:VEVENT
BEGIN:VEVENT
DTSTART;VALUE=DATE:20250614
DTEND;VALUE=DATE:20250615
DTSTAMP:20260423T142010
CREATED:20250602T134837Z
LAST-MODIFIED:20250602T134837Z
UID:3652-1749859200-1749945599@turtleislandadventureparks.com
SUMMARY:9AM-8PM
DESCRIPTION:
URL:https://turtleislandadventureparks.com/event/9am-8pm-52/
CATEGORIES:hours
END:VEVENT
BEGIN:VEVENT
DTSTART;VALUE=DATE:20250613
DTEND;VALUE=DATE:20250614
DTSTAMP:20260423T142010
CREATED:20250602T134817Z
LAST-MODIFIED:20250602T134817Z
UID:3649-1749772800-1749859199@turtleislandadventureparks.com
SUMMARY:11AM-8PM
DESCRIPTION:
URL:https://turtleislandadventureparks.com/event/11am-8pm-93/
CATEGORIES:hours
END:VEVENT
BEGIN:VEVENT
DTSTART;VALUE=DATE:20250612
DTEND;VALUE=DATE:20250613
DTSTAMP:20260423T142010
CREATED:20250602T134711Z
LAST-MODIFIED:20250602T134711Z
UID:3643-1749686400-1749772799@turtleislandadventureparks.com
SUMMARY:11AM-8PM
DESCRIPTION:
URL:https://turtleislandadventureparks.com/event/11am-8pm-92/
CATEGORIES:hours
END:VEVENT
BEGIN:VEVENT
DTSTART;VALUE=DATE:20250611
DTEND;VALUE=DATE:20250612
DTSTAMP:20260423T142010
CREATED:20250602T134641Z
LAST-MODIFIED:20250602T134641Z
UID:3640-1749600000-1749686399@turtleislandadventureparks.com
SUMMARY:11AM-8PM
DESCRIPTION:
URL:https://turtleislandadventureparks.com/event/11am-8pm-91/
CATEGORIES:hours
END:VEVENT
BEGIN:VEVENT
DTSTART;VALUE=DATE:20250610
DTEND;VALUE=DATE:20250611
DTSTAMP:20260423T142010
CREATED:20250602T134622Z
LAST-MODIFIED:20250602T134622Z
UID:3637-1749513600-1749599999@turtleislandadventureparks.com
SUMMARY:11AM-8PM
DESCRIPTION:
URL:https://turtleislandadventureparks.com/event/11am-8pm-90/
CATEGORIES:hours
END:VEVENT
BEGIN:VEVENT
DTSTART;VALUE=DATE:20250608
DTEND;VALUE=DATE:20250609
DTSTAMP:20260423T142010
CREATED:20250602T134306Z
LAST-MODIFIED:20250602T134306Z
UID:3631-1749340800-1749427199@turtleislandadventureparks.com
SUMMARY:9AM-8PM
DESCRIPTION:
URL:https://turtleislandadventureparks.com/event/9am-8pm-51/
CATEGORIES:hours
END:VEVENT
BEGIN:VEVENT
DTSTART;VALUE=DATE:20250607
DTEND;VALUE=DATE:20250608
DTSTAMP:20260423T142010
CREATED:20250602T134248Z
LAST-MODIFIED:20250602T134248Z
UID:3628-1749254400-1749340799@turtleislandadventureparks.com
SUMMARY:9AM-8PM
DESCRIPTION:
URL:https://turtleislandadventureparks.com/event/9am-8pm-50/
CATEGORIES:hours
END:VEVENT
END:VCALENDAR