BEGIN:VCALENDAR
VERSION:2.0
PRODID:-//Turtle Island Adventure Parks - ECPv6.2.8.1//NONSGML v1.0//EN
CALSCALE:GREGORIAN
METHOD:PUBLISH
X-ORIGINAL-URL:https://turtleislandadventureparks.com
X-WR-CALDESC:Events for Turtle Island Adventure Parks
REFRESH-INTERVAL;VALUE=DURATION:PT1H
X-Robots-Tag:noindex
X-PUBLISHED-TTL:PT1H
BEGIN:VTIMEZONE
TZID:America/Chicago
BEGIN:DAYLIGHT
TZOFFSETFROM:-0600
TZOFFSETTO:-0500
TZNAME:CDT
DTSTART:20250309T080000
END:DAYLIGHT
BEGIN:STANDARD
TZOFFSETFROM:-0500
TZOFFSETTO:-0600
TZNAME:CST
DTSTART:20251102T070000
END:STANDARD
END:VTIMEZONE
BEGIN:VEVENT
DTSTART;TZID=America/Chicago:20250530T110000
DTEND;TZID=America/Chicago:20250530T200000
DTSTAMP:20260423T181252
CREATED:20250501T044110Z
LAST-MODIFIED:20250501T044110Z
UID:3589-1748602800-1748635200@turtleislandadventureparks.com
SUMMARY:OPEN TO PUBLIC
DESCRIPTION:
URL:https://turtleislandadventureparks.com/event/open-to-public-23/
CATEGORIES:hours
END:VEVENT
BEGIN:VEVENT
DTSTART;TZID=America/Chicago:20250529T110000
DTEND;TZID=America/Chicago:20250529T200000
DTSTAMP:20260423T181252
CREATED:20250501T044036Z
LAST-MODIFIED:20250501T044036Z
UID:3586-1748516400-1748548800@turtleislandadventureparks.com
SUMMARY:OPEN TO PUBLIC
DESCRIPTION:
URL:https://turtleislandadventureparks.com/event/open-to-public-22/
CATEGORIES:hours
END:VEVENT
BEGIN:VEVENT
DTSTART;TZID=America/Chicago:20250528T110000
DTEND;TZID=America/Chicago:20250528T200000
DTSTAMP:20260423T181252
CREATED:20250501T044010Z
LAST-MODIFIED:20250501T044010Z
UID:3583-1748430000-1748462400@turtleislandadventureparks.com
SUMMARY:OPEN TO PUBLIC
DESCRIPTION:
URL:https://turtleislandadventureparks.com/event/open-to-public-21/
CATEGORIES:hours
END:VEVENT
BEGIN:VEVENT
DTSTART;TZID=America/Chicago:20250527T110000
DTEND;TZID=America/Chicago:20250527T200000
DTSTAMP:20260423T181252
CREATED:20250501T043939Z
LAST-MODIFIED:20250501T043939Z
UID:3580-1748343600-1748376000@turtleislandadventureparks.com
SUMMARY:OPEN TO PUBLIC
DESCRIPTION:
URL:https://turtleislandadventureparks.com/event/open-to-public-20/
CATEGORIES:hours
END:VEVENT
BEGIN:VEVENT
DTSTART;TZID=America/Chicago:20250524T090000
DTEND;TZID=America/Chicago:20250524T200000
DTSTAMP:20260423T181252
CREATED:20250501T043726Z
LAST-MODIFIED:20250501T043726Z
UID:3568-1748077200-1748116800@turtleislandadventureparks.com
SUMMARY:OPEN TO PUBLIC
DESCRIPTION:
URL:https://turtleislandadventureparks.com/event/open-to-public-18/
CATEGORIES:hours
END:VEVENT
BEGIN:VEVENT
DTSTART;TZID=America/Chicago:20250522T150000
DTEND;TZID=America/Chicago:20250522T200000
DTSTAMP:20260423T181252
CREATED:20250501T043514Z
LAST-MODIFIED:20250501T043514Z
UID:3561-1747926000-1747944000@turtleislandadventureparks.com
SUMMARY:OPEN TO PUBLIC
DESCRIPTION:
URL:https://turtleislandadventureparks.com/event/open-to-public-16/
CATEGORIES:hours
END:VEVENT
BEGIN:VEVENT
DTSTART;TZID=America/Chicago:20250521T150000
DTEND;TZID=America/Chicago:20250521T200000
DTSTAMP:20260423T181252
CREATED:20250501T043357Z
LAST-MODIFIED:20250501T043357Z
UID:3555-1747839600-1747857600@turtleislandadventureparks.com
SUMMARY:OPEN TO PUBLIC
DESCRIPTION:
URL:https://turtleislandadventureparks.com/event/open-to-public-15/
CATEGORIES:hours
END:VEVENT
BEGIN:VEVENT
DTSTART;TZID=America/Chicago:20250520T150000
DTEND;TZID=America/Chicago:20250520T200000
DTSTAMP:20260423T181252
CREATED:20250501T043237Z
LAST-MODIFIED:20250501T043237Z
UID:3549-1747753200-1747771200@turtleislandadventureparks.com
SUMMARY:OPEN TO PUBLIC
DESCRIPTION:
URL:https://turtleislandadventureparks.com/event/open-to-public-14/
CATEGORIES:hours
END:VEVENT
BEGIN:VEVENT
DTSTART;TZID=America/Chicago:20250518T090000
DTEND;TZID=America/Chicago:20250518T200000
DTSTAMP:20260423T181252
CREATED:20250501T043045Z
LAST-MODIFIED:20250501T043045Z
UID:3540-1747558800-1747598400@turtleislandadventureparks.com
SUMMARY:OPEN TO PUBLIC
DESCRIPTION:
URL:https://turtleislandadventureparks.com/event/open-to-public-13/
CATEGORIES:hours
END:VEVENT
BEGIN:VEVENT
DTSTART;TZID=America/Chicago:20250517T090000
DTEND;TZID=America/Chicago:20250517T200000
DTSTAMP:20260423T181252
CREATED:20250501T043011Z
LAST-MODIFIED:20250501T043011Z
UID:3537-1747472400-1747512000@turtleislandadventureparks.com
SUMMARY:OPEN TO PUBLIC
DESCRIPTION:
URL:https://turtleislandadventureparks.com/event/open-to-public-12/
CATEGORIES:hours
END:VEVENT
BEGIN:VEVENT
DTSTART;TZID=America/Chicago:20250516T150000
DTEND;TZID=America/Chicago:20250516T200000
DTSTAMP:20260423T181252
CREATED:20250501T042942Z
LAST-MODIFIED:20250501T042942Z
UID:3534-1747407600-1747425600@turtleislandadventureparks.com
SUMMARY:OPEN TO PUBLIC
DESCRIPTION:
URL:https://turtleislandadventureparks.com/event/open-to-public-11/
CATEGORIES:hours
END:VEVENT
BEGIN:VEVENT
DTSTART;TZID=America/Chicago:20250515T150000
DTEND;TZID=America/Chicago:20250515T200000
DTSTAMP:20260423T181252
CREATED:20250501T042839Z
LAST-MODIFIED:20250501T042839Z
UID:3528-1747321200-1747339200@turtleislandadventureparks.com
SUMMARY:OPEN TO PUBLIC
DESCRIPTION:
URL:https://turtleislandadventureparks.com/event/open-to-public-10/
CATEGORIES:hours
END:VEVENT
BEGIN:VEVENT
DTSTART;TZID=America/Chicago:20250514T150000
DTEND;TZID=America/Chicago:20250514T200000
DTSTAMP:20260423T181252
CREATED:20250501T042713Z
LAST-MODIFIED:20250501T042713Z
UID:3522-1747234800-1747252800@turtleislandadventureparks.com
SUMMARY:OPEN TO PUBLIC
DESCRIPTION:
URL:https://turtleislandadventureparks.com/event/open-to-public-9/
CATEGORIES:hours
END:VEVENT
BEGIN:VEVENT
DTSTART;TZID=America/Chicago:20250513T150000
DTEND;TZID=America/Chicago:20250513T200000
DTSTAMP:20260423T181252
CREATED:20250501T042601Z
LAST-MODIFIED:20250501T042601Z
UID:3516-1747148400-1747166400@turtleislandadventureparks.com
SUMMARY:OPEN TO PUBLIC
DESCRIPTION:
URL:https://turtleislandadventureparks.com/event/open-to-public-8/
CATEGORIES:hours
END:VEVENT
BEGIN:VEVENT
DTSTART;TZID=America/Chicago:20250511T090000
DTEND;TZID=America/Chicago:20250511T200000
DTSTAMP:20260423T181252
CREATED:20250501T042249Z
LAST-MODIFIED:20250501T042249Z
UID:3504-1746954000-1746993600@turtleislandadventureparks.com
SUMMARY:OPEN TO PUBLIC
DESCRIPTION:HAPPY MOTHERS DAY!
URL:https://turtleislandadventureparks.com/event/open-to-public-7/
CATEGORIES:hours
END:VEVENT
BEGIN:VEVENT
DTSTART;TZID=America/Chicago:20250510T090000
DTEND;TZID=America/Chicago:20250510T200000
DTSTAMP:20260423T181252
CREATED:20250501T042156Z
LAST-MODIFIED:20250501T042156Z
UID:3501-1746867600-1746907200@turtleislandadventureparks.com
SUMMARY:OPEN TO PUBLIC
DESCRIPTION:
URL:https://turtleislandadventureparks.com/event/open-to-public-6/
CATEGORIES:hours
END:VEVENT
BEGIN:VEVENT
DTSTART;TZID=America/Chicago:20250509T150000
DTEND;TZID=America/Chicago:20250509T200000
DTSTAMP:20260423T181252
CREATED:20250501T042033Z
LAST-MODIFIED:20250501T042033Z
UID:3498-1746802800-1746820800@turtleislandadventureparks.com
SUMMARY:OPEN TO PUBLIC
DESCRIPTION:
URL:https://turtleislandadventureparks.com/event/open-to-public-5/
CATEGORIES:hours
END:VEVENT
BEGIN:VEVENT
DTSTART;TZID=America/Chicago:20250508T150000
DTEND;TZID=America/Chicago:20250508T200000
DTSTAMP:20260423T181252
CREATED:20250501T041855Z
LAST-MODIFIED:20250501T041855Z
UID:3492-1746716400-1746734400@turtleislandadventureparks.com
SUMMARY:OPEN TO PUBLIC
DESCRIPTION:
URL:https://turtleislandadventureparks.com/event/open-to-public-4/
CATEGORIES:hours
END:VEVENT
BEGIN:VEVENT
DTSTART;TZID=America/Chicago:20250507T150000
DTEND;TZID=America/Chicago:20250507T200000
DTSTAMP:20260423T181252
CREATED:20250501T041639Z
LAST-MODIFIED:20250501T041639Z
UID:3486-1746630000-1746648000@turtleislandadventureparks.com
SUMMARY:OPEN TO PUBLIC
DESCRIPTION:
URL:https://turtleislandadventureparks.com/event/open-to-public/
CATEGORIES:hours
END:VEVENT
BEGIN:VEVENT
DTSTART;TZID=America/Chicago:20250506T150000
DTEND;TZID=America/Chicago:20250506T200000
DTSTAMP:20260423T181252
CREATED:20250501T041021Z
LAST-MODIFIED:20250501T041124Z
UID:3477-1746543600-1746561600@turtleislandadventureparks.com
SUMMARY:OPEN TO PUBLIC
DESCRIPTION:
URL:https://turtleislandadventureparks.com/event/open-to-public-3/
CATEGORIES:hours
END:VEVENT
BEGIN:VEVENT
DTSTART;TZID=America/Chicago:20250504T090000
DTEND;TZID=America/Chicago:20250504T200000
DTSTAMP:20260423T181252
CREATED:20250501T040241Z
LAST-MODIFIED:20250501T040515Z
UID:3456-1746349200-1746388800@turtleislandadventureparks.com
SUMMARY:OPEN TO PUBLIC
DESCRIPTION:
URL:https://turtleislandadventureparks.com/event/9am-8pm-48/
CATEGORIES:hours
END:VEVENT
BEGIN:VEVENT
DTSTART;TZID=America/Chicago:20250503T090000
DTEND;TZID=America/Chicago:20250503T200000
DTSTAMP:20260423T181252
CREATED:20250501T040205Z
LAST-MODIFIED:20250501T040619Z
UID:3453-1746262800-1746302400@turtleislandadventureparks.com
SUMMARY:OPEN TO PUBLIC
DESCRIPTION:
URL:https://turtleislandadventureparks.com/event/open-to-public-9am-8pm/
CATEGORIES:hours
END:VEVENT
BEGIN:VEVENT
DTSTART;TZID=America/Chicago:20250502T150000
DTEND;TZID=America/Chicago:20250502T200000
DTSTAMP:20260423T181252
CREATED:20250501T040354Z
LAST-MODIFIED:20250501T040354Z
UID:3460-1746198000-1746216000@turtleislandadventureparks.com
SUMMARY:OPEN TO PUBLIC
DESCRIPTION:
URL:https://turtleislandadventureparks.com/event/open-to-public-2/
CATEGORIES:hours
END:VEVENT
BEGIN:VEVENT
DTSTART;TZID=America/Chicago:20250501T150000
DTEND;TZID=America/Chicago:20250501T200000
DTSTAMP:20260423T181252
CREATED:20250501T035626Z
LAST-MODIFIED:20250501T035910Z
UID:3438-1746111600-1746129600@turtleislandadventureparks.com
SUMMARY:OPEN TO PUBLIC
DESCRIPTION:
URL:https://turtleislandadventureparks.com/event/open-to-public-3pm-8pm/
CATEGORIES:hours
END:VEVENT
BEGIN:VEVENT
DTSTART;VALUE=DATE:20250430
DTEND;VALUE=DATE:20250501
DTSTAMP:20260423T181252
CREATED:20250318T184728Z
LAST-MODIFIED:20250318T184728Z
UID:3407-1745971200-1746057599@turtleislandadventureparks.com
SUMMARY:11AM-8PM
DESCRIPTION:Student Night
URL:https://turtleislandadventureparks.com/event/11am-8pm-85/
CATEGORIES:hours
END:VEVENT
BEGIN:VEVENT
DTSTART;VALUE=DATE:20250429
DTEND;VALUE=DATE:20250430
DTSTAMP:20260423T181252
CREATED:20250318T184706Z
LAST-MODIFIED:20250318T184706Z
UID:3404-1745884800-1745971199@turtleislandadventureparks.com
SUMMARY:11AM-8PM
DESCRIPTION:
URL:https://turtleislandadventureparks.com/event/11am-8pm-84/
CATEGORIES:hours
END:VEVENT
BEGIN:VEVENT
DTSTART;VALUE=DATE:20250427
DTEND;VALUE=DATE:20250428
DTSTAMP:20260423T181252
CREATED:20250318T184633Z
LAST-MODIFIED:20250318T184633Z
UID:3398-1745712000-1745798399@turtleislandadventureparks.com
SUMMARY:9AM-8PM
DESCRIPTION:
URL:https://turtleislandadventureparks.com/event/9am-8pm-47/
CATEGORIES:hours
END:VEVENT
BEGIN:VEVENT
DTSTART;VALUE=DATE:20250426
DTEND;VALUE=DATE:20250427
DTSTAMP:20260423T181252
CREATED:20250318T184614Z
LAST-MODIFIED:20250318T184614Z
UID:3395-1745625600-1745711999@turtleislandadventureparks.com
SUMMARY:9AM-8PM
DESCRIPTION:
URL:https://turtleislandadventureparks.com/event/9am-8pm-46/
CATEGORIES:hours
END:VEVENT
BEGIN:VEVENT
DTSTART;VALUE=DATE:20250425
DTEND;VALUE=DATE:20250426
DTSTAMP:20260423T181252
CREATED:20250318T184452Z
LAST-MODIFIED:20250318T184452Z
UID:3387-1745539200-1745625599@turtleislandadventureparks.com
SUMMARY:11AM-7PM
DESCRIPTION:
URL:https://turtleislandadventureparks.com/event/11am-7pm/
CATEGORIES:hours
END:VEVENT
BEGIN:VEVENT
DTSTART;VALUE=DATE:20250424
DTEND;VALUE=DATE:20250425
DTSTAMP:20260423T181252
CREATED:20250318T184435Z
LAST-MODIFIED:20250318T184435Z
UID:3384-1745452800-1745539199@turtleislandadventureparks.com
SUMMARY:11AM-8PM
DESCRIPTION:
URL:https://turtleislandadventureparks.com/event/11am-8pm-83/
CATEGORIES:hours
END:VEVENT
END:VCALENDAR