BEGIN:VCALENDAR
VERSION:2.0
PRODID:-//Turtle Island Adventure Parks - ECPv6.2.8.1//NONSGML v1.0//EN
CALSCALE:GREGORIAN
METHOD:PUBLISH
X-ORIGINAL-URL:https://turtleislandadventureparks.com
X-WR-CALDESC:Events for Turtle Island Adventure Parks
REFRESH-INTERVAL;VALUE=DURATION:PT1H
X-Robots-Tag:noindex
X-PUBLISHED-TTL:PT1H
BEGIN:VTIMEZONE
TZID:America/Chicago
BEGIN:DAYLIGHT
TZOFFSETFROM:-0600
TZOFFSETTO:-0500
TZNAME:CDT
DTSTART:20250309T080000
END:DAYLIGHT
BEGIN:STANDARD
TZOFFSETFROM:-0500
TZOFFSETTO:-0600
TZNAME:CST
DTSTART:20251102T070000
END:STANDARD
END:VTIMEZONE
BEGIN:VEVENT
DTSTART;VALUE=DATE:20250306
DTEND;VALUE=DATE:20250307
DTSTAMP:20260424T025618
CREATED:20250224T160005Z
LAST-MODIFIED:20250224T160005Z
UID:3221-1741219200-1741305599@turtleislandadventureparks.com
SUMMARY:11AM-8PM
DESCRIPTION:
URL:https://turtleislandadventureparks.com/event/11am-8pm-55/
CATEGORIES:hours
END:VEVENT
BEGIN:VEVENT
DTSTART;VALUE=DATE:20250305
DTEND;VALUE=DATE:20250306
DTSTAMP:20260424T025618
CREATED:20250224T155948Z
LAST-MODIFIED:20250224T155948Z
UID:3218-1741132800-1741219199@turtleislandadventureparks.com
SUMMARY:11AM-8PM
DESCRIPTION:
URL:https://turtleislandadventureparks.com/event/11am-8pm-54/
CATEGORIES:hours
END:VEVENT
BEGIN:VEVENT
DTSTART;VALUE=DATE:20250304
DTEND;VALUE=DATE:20250305
DTSTAMP:20260424T025618
CREATED:20250224T155932Z
LAST-MODIFIED:20250224T155932Z
UID:3215-1741046400-1741132799@turtleislandadventureparks.com
SUMMARY:11AM-8PM
DESCRIPTION:
URL:https://turtleislandadventureparks.com/event/11am-8pm-53/
CATEGORIES:hours
END:VEVENT
BEGIN:VEVENT
DTSTART;VALUE=DATE:20250302
DTEND;VALUE=DATE:20250303
DTSTAMP:20260424T025618
CREATED:20250224T155855Z
LAST-MODIFIED:20250224T155855Z
UID:3209-1740873600-1740959999@turtleislandadventureparks.com
SUMMARY:9AM-8PM
DESCRIPTION:
URL:https://turtleislandadventureparks.com/event/9am-8pm-31/
CATEGORIES:hours
END:VEVENT
BEGIN:VEVENT
DTSTART;VALUE=DATE:20250301
DTEND;VALUE=DATE:20250302
DTSTAMP:20260424T025618
CREATED:20250224T155835Z
LAST-MODIFIED:20250224T155835Z
UID:3206-1740787200-1740873599@turtleislandadventureparks.com
SUMMARY:9AM-8PM
DESCRIPTION:
URL:https://turtleislandadventureparks.com/event/9am-8pm-30/
CATEGORIES:hours
END:VEVENT
BEGIN:VEVENT
DTSTART;VALUE=DATE:20250228
DTEND;VALUE=DATE:20250301
DTSTAMP:20260424T025618
CREATED:20250202T022515Z
LAST-MODIFIED:20250202T022515Z
UID:3174-1740700800-1740787199@turtleislandadventureparks.com
SUMMARY:11AM-8PM
DESCRIPTION:
URL:https://turtleislandadventureparks.com/event/11am-8pm-52/
CATEGORIES:hours
END:VEVENT
BEGIN:VEVENT
DTSTART;VALUE=DATE:20250227
DTEND;VALUE=DATE:20250228
DTSTAMP:20260424T025618
CREATED:20250202T022445Z
LAST-MODIFIED:20250202T022445Z
UID:3171-1740614400-1740700799@turtleislandadventureparks.com
SUMMARY:11AM-8PM
DESCRIPTION:
URL:https://turtleislandadventureparks.com/event/11am-8pm-51/
CATEGORIES:hours
END:VEVENT
BEGIN:VEVENT
DTSTART;VALUE=DATE:20250226
DTEND;VALUE=DATE:20250227
DTSTAMP:20260424T025618
CREATED:20250202T022413Z
LAST-MODIFIED:20250202T022413Z
UID:3168-1740528000-1740614399@turtleislandadventureparks.com
SUMMARY:11AM-8PM
DESCRIPTION:
URL:https://turtleislandadventureparks.com/event/11am-8pm-50/
CATEGORIES:hours
END:VEVENT
BEGIN:VEVENT
DTSTART;VALUE=DATE:20250225
DTEND;VALUE=DATE:20250226
DTSTAMP:20260424T025618
CREATED:20250202T022349Z
LAST-MODIFIED:20250202T022349Z
UID:3165-1740441600-1740527999@turtleislandadventureparks.com
SUMMARY:11AM-8PM
DESCRIPTION:
URL:https://turtleislandadventureparks.com/event/11am-8pm-49/
CATEGORIES:hours
END:VEVENT
BEGIN:VEVENT
DTSTART;VALUE=DATE:20250223
DTEND;VALUE=DATE:20250224
DTSTAMP:20260424T025618
CREATED:20250202T022238Z
LAST-MODIFIED:20250202T022238Z
UID:3159-1740268800-1740355199@turtleislandadventureparks.com
SUMMARY:9AM-8PM
DESCRIPTION:
URL:https://turtleislandadventureparks.com/event/9am-8pm-29/
CATEGORIES:hours
END:VEVENT
BEGIN:VEVENT
DTSTART;VALUE=DATE:20250222
DTEND;VALUE=DATE:20250223
DTSTAMP:20260424T025618
CREATED:20250202T022214Z
LAST-MODIFIED:20250202T022214Z
UID:3156-1740182400-1740268799@turtleislandadventureparks.com
SUMMARY:9AM-8PM
DESCRIPTION:
URL:https://turtleislandadventureparks.com/event/9am-8pm-28/
CATEGORIES:hours
END:VEVENT
BEGIN:VEVENT
DTSTART;VALUE=DATE:20250221
DTEND;VALUE=DATE:20250222
DTSTAMP:20260424T025618
CREATED:20250202T022133Z
LAST-MODIFIED:20250202T022133Z
UID:3153-1740096000-1740182399@turtleislandadventureparks.com
SUMMARY:11AM-8PM
DESCRIPTION:
URL:https://turtleislandadventureparks.com/event/11am-8pm-48/
CATEGORIES:hours
END:VEVENT
BEGIN:VEVENT
DTSTART;VALUE=DATE:20250220
DTEND;VALUE=DATE:20250221
DTSTAMP:20260424T025618
CREATED:20250202T022106Z
LAST-MODIFIED:20250202T022106Z
UID:3150-1740009600-1740095999@turtleislandadventureparks.com
SUMMARY:11AM-8PM
DESCRIPTION:
URL:https://turtleislandadventureparks.com/event/11am-8pm-47/
CATEGORIES:hours
END:VEVENT
BEGIN:VEVENT
DTSTART;VALUE=DATE:20250219
DTEND;VALUE=DATE:20250220
DTSTAMP:20260424T025618
CREATED:20250202T022034Z
LAST-MODIFIED:20250202T022034Z
UID:3147-1739923200-1740009599@turtleislandadventureparks.com
SUMMARY:11AM-8PM
DESCRIPTION:
URL:https://turtleislandadventureparks.com/event/11am-8pm-46/
CATEGORIES:hours
END:VEVENT
BEGIN:VEVENT
DTSTART;VALUE=DATE:20250217
DTEND;VALUE=DATE:20250218
DTSTAMP:20260424T025618
CREATED:20250202T021919Z
LAST-MODIFIED:20250202T022654Z
UID:3141-1739750400-1739836799@turtleislandadventureparks.com
SUMMARY:11AM-8PM
DESCRIPTION:PRESIDENTS’ DAY
URL:https://turtleislandadventureparks.com/event/11am-8pm-45/
CATEGORIES:Holiday,hours
END:VEVENT
BEGIN:VEVENT
DTSTART;VALUE=DATE:20250216
DTEND;VALUE=DATE:20250217
DTSTAMP:20260424T025618
CREATED:20250202T021849Z
LAST-MODIFIED:20250202T021849Z
UID:3138-1739664000-1739750399@turtleislandadventureparks.com
SUMMARY:9AM-8PM
DESCRIPTION:
URL:https://turtleislandadventureparks.com/event/9am-8pm-27/
CATEGORIES:hours
END:VEVENT
BEGIN:VEVENT
DTSTART;VALUE=DATE:20250215
DTEND;VALUE=DATE:20250216
DTSTAMP:20260424T025618
CREATED:20250202T021817Z
LAST-MODIFIED:20250202T021817Z
UID:3135-1739577600-1739663999@turtleislandadventureparks.com
SUMMARY:9AM-8PM
DESCRIPTION:
URL:https://turtleislandadventureparks.com/event/9am-8pm-26/
CATEGORIES:hours
END:VEVENT
BEGIN:VEVENT
DTSTART;VALUE=DATE:20250214
DTEND;VALUE=DATE:20250215
DTSTAMP:20260424T025618
CREATED:20250202T021739Z
LAST-MODIFIED:20250202T021739Z
UID:3132-1739491200-1739577599@turtleislandadventureparks.com
SUMMARY:11AM-8PM
DESCRIPTION:HAPPY VALENTINES DAY!
URL:https://turtleislandadventureparks.com/event/11am-8pm-44/
CATEGORIES:hours
END:VEVENT
BEGIN:VEVENT
DTSTART;VALUE=DATE:20250213
DTEND;VALUE=DATE:20250214
DTSTAMP:20260424T025618
CREATED:20250202T021648Z
LAST-MODIFIED:20250202T021648Z
UID:3129-1739404800-1739491199@turtleislandadventureparks.com
SUMMARY:11AM-8PM
DESCRIPTION:
URL:https://turtleislandadventureparks.com/event/11am-8pm-43/
CATEGORIES:hours
END:VEVENT
BEGIN:VEVENT
DTSTART;VALUE=DATE:20250212
DTEND;VALUE=DATE:20250213
DTSTAMP:20260424T025618
CREATED:20250202T021622Z
LAST-MODIFIED:20250202T021622Z
UID:3126-1739318400-1739404799@turtleislandadventureparks.com
SUMMARY:11AM-8PM
DESCRIPTION:
URL:https://turtleislandadventureparks.com/event/11am-8pm-42/
CATEGORIES:hours
END:VEVENT
BEGIN:VEVENT
DTSTART;VALUE=DATE:20250211
DTEND;VALUE=DATE:20250212
DTSTAMP:20260424T025618
CREATED:20250202T021554Z
LAST-MODIFIED:20250202T021554Z
UID:3123-1739232000-1739318399@turtleislandadventureparks.com
SUMMARY:11AM-8PM
DESCRIPTION:
URL:https://turtleislandadventureparks.com/event/11am-8pm-41/
CATEGORIES:hours
END:VEVENT
BEGIN:VEVENT
DTSTART;VALUE=DATE:20250209
DTEND;VALUE=DATE:20250210
DTSTAMP:20260424T025618
CREATED:20250202T021445Z
LAST-MODIFIED:20250202T021445Z
UID:3117-1739059200-1739145599@turtleislandadventureparks.com
SUMMARY:9AM-8PM
DESCRIPTION:
URL:https://turtleislandadventureparks.com/event/9am-8pm-25/
CATEGORIES:hours
END:VEVENT
BEGIN:VEVENT
DTSTART;VALUE=DATE:20250208
DTEND;VALUE=DATE:20250209
DTSTAMP:20260424T025618
CREATED:20250202T021413Z
LAST-MODIFIED:20250202T021413Z
UID:3114-1738972800-1739059199@turtleislandadventureparks.com
SUMMARY:9AM-8PM
DESCRIPTION:
URL:https://turtleislandadventureparks.com/event/9am-8pm-24/
CATEGORIES:hours
END:VEVENT
BEGIN:VEVENT
DTSTART;VALUE=DATE:20250207
DTEND;VALUE=DATE:20250208
DTSTAMP:20260424T025618
CREATED:20250202T021335Z
LAST-MODIFIED:20250202T021335Z
UID:3111-1738886400-1738972799@turtleislandadventureparks.com
SUMMARY:11AM-8PM
DESCRIPTION:
URL:https://turtleislandadventureparks.com/event/11am-8pm-40/
CATEGORIES:hours
END:VEVENT
BEGIN:VEVENT
DTSTART;VALUE=DATE:20250206
DTEND;VALUE=DATE:20250207
DTSTAMP:20260424T025618
CREATED:20250202T021259Z
LAST-MODIFIED:20250202T021259Z
UID:3108-1738800000-1738886399@turtleislandadventureparks.com
SUMMARY:11AM-8PM
DESCRIPTION:
URL:https://turtleislandadventureparks.com/event/11am-8pm-39/
CATEGORIES:hours
END:VEVENT
BEGIN:VEVENT
DTSTART;VALUE=DATE:20250205
DTEND;VALUE=DATE:20250206
DTSTAMP:20260424T025618
CREATED:20250202T021225Z
LAST-MODIFIED:20250202T021225Z
UID:3105-1738713600-1738799999@turtleislandadventureparks.com
SUMMARY:11AM-8PM
DESCRIPTION:
URL:https://turtleislandadventureparks.com/event/11am-8pm-38/
CATEGORIES:hours
END:VEVENT
BEGIN:VEVENT
DTSTART;VALUE=DATE:20250204
DTEND;VALUE=DATE:20250205
DTSTAMP:20260424T025618
CREATED:20250202T021147Z
LAST-MODIFIED:20250202T021147Z
UID:3102-1738627200-1738713599@turtleislandadventureparks.com
SUMMARY:11AM-8PM
DESCRIPTION:
URL:https://turtleislandadventureparks.com/event/11am-8pm-37/
CATEGORIES:hours
END:VEVENT
BEGIN:VEVENT
DTSTART;VALUE=DATE:20250202
DTEND;VALUE=DATE:20250203
DTSTAMP:20260424T025618
CREATED:20250202T021005Z
LAST-MODIFIED:20250202T021005Z
UID:3096-1738454400-1738540799@turtleislandadventureparks.com
SUMMARY:9AM-8PM
DESCRIPTION:
URL:https://turtleislandadventureparks.com/event/9am-8pm-23/
CATEGORIES:hours
END:VEVENT
BEGIN:VEVENT
DTSTART;VALUE=DATE:20250201
DTEND;VALUE=DATE:20250202
DTSTAMP:20260424T025618
CREATED:20250202T020925Z
LAST-MODIFIED:20250202T020925Z
UID:3093-1738368000-1738454399@turtleislandadventureparks.com
SUMMARY:9AM-8PM
DESCRIPTION:﻿
URL:https://turtleislandadventureparks.com/event/9am-8pm-22/
CATEGORIES:hours
END:VEVENT
BEGIN:VEVENT
DTSTART;VALUE=DATE:20250131
DTEND;VALUE=DATE:20250201
DTSTAMP:20260424T025618
CREATED:20241227T194514Z
LAST-MODIFIED:20241227T194514Z
UID:3067-1738281600-1738367999@turtleislandadventureparks.com
SUMMARY:11AM-8PM
DESCRIPTION:
URL:https://turtleislandadventureparks.com/event/11am-8pm-36/
CATEGORIES:hours
END:VEVENT
END:VCALENDAR