BEGIN:VCALENDAR
VERSION:2.0
PRODID:-//Turtle Island Adventure Parks - ECPv6.2.8.1//NONSGML v1.0//EN
CALSCALE:GREGORIAN
METHOD:PUBLISH
X-WR-CALNAME:Turtle Island Adventure Parks
X-ORIGINAL-URL:https://turtleislandadventureparks.com
X-WR-CALDESC:Events for Turtle Island Adventure Parks
REFRESH-INTERVAL;VALUE=DURATION:PT1H
X-Robots-Tag:noindex
X-PUBLISHED-TTL:PT1H
BEGIN:VTIMEZONE
TZID:America/Chicago
BEGIN:DAYLIGHT
TZOFFSETFROM:-0600
TZOFFSETTO:-0500
TZNAME:CDT
DTSTART:20240310T080000
END:DAYLIGHT
BEGIN:STANDARD
TZOFFSETFROM:-0500
TZOFFSETTO:-0600
TZNAME:CST
DTSTART:20241103T070000
END:STANDARD
BEGIN:DAYLIGHT
TZOFFSETFROM:-0600
TZOFFSETTO:-0500
TZNAME:CDT
DTSTART:20250309T080000
END:DAYLIGHT
BEGIN:STANDARD
TZOFFSETFROM:-0500
TZOFFSETTO:-0600
TZNAME:CST
DTSTART:20251102T070000
END:STANDARD
END:VTIMEZONE
BEGIN:VEVENT
DTSTART;VALUE=DATE:20250123
DTEND;VALUE=DATE:20250124
DTSTAMP:20260424T073520
CREATED:20241227T194247Z
LAST-MODIFIED:20241227T194247Z
UID:3043-1737590400-1737676799@turtleislandadventureparks.com
SUMMARY:11AM-8PM
DESCRIPTION:
URL:https://turtleislandadventureparks.com/event/11am-8pm-31/
CATEGORIES:hours
END:VEVENT
BEGIN:VEVENT
DTSTART;VALUE=DATE:20250122
DTEND;VALUE=DATE:20250123
DTSTAMP:20260424T073520
CREATED:20241227T192514Z
LAST-MODIFIED:20241227T192514Z
UID:3040-1737504000-1737590399@turtleislandadventureparks.com
SUMMARY:11AM-8PM
DESCRIPTION:
URL:https://turtleislandadventureparks.com/event/11am-8pm-30/
CATEGORIES:hours
END:VEVENT
BEGIN:VEVENT
DTSTART;VALUE=DATE:20250120
DTEND;VALUE=DATE:20250121
DTSTAMP:20260424T073520
CREATED:20241227T192441Z
LAST-MODIFIED:20250116T183659Z
UID:3034-1737331200-1737417599@turtleislandadventureparks.com
SUMMARY:11AM-8PM
DESCRIPTION:﻿
URL:https://turtleislandadventureparks.com/event/closed-for-pool-maintenance-3/
CATEGORIES:Holiday,hours
END:VEVENT
BEGIN:VEVENT
DTSTART;VALUE=DATE:20250119
DTEND;VALUE=DATE:20250120
DTSTAMP:20260424T073520
CREATED:20241227T192421Z
LAST-MODIFIED:20241227T192421Z
UID:3031-1737244800-1737331199@turtleislandadventureparks.com
SUMMARY:9AM-8PM
DESCRIPTION:
URL:https://turtleislandadventureparks.com/event/9am-8pm-19/
CATEGORIES:hours
END:VEVENT
BEGIN:VEVENT
DTSTART;VALUE=DATE:20250118
DTEND;VALUE=DATE:20250119
DTSTAMP:20260424T073520
CREATED:20241227T192403Z
LAST-MODIFIED:20241227T192403Z
UID:3028-1737158400-1737244799@turtleislandadventureparks.com
SUMMARY:9AM-8PM
DESCRIPTION:
URL:https://turtleislandadventureparks.com/event/9am-8pm-18/
CATEGORIES:hours
END:VEVENT
BEGIN:VEVENT
DTSTART;VALUE=DATE:20250116
DTEND;VALUE=DATE:20250117
DTSTAMP:20260424T073520
CREATED:20241227T192315Z
LAST-MODIFIED:20241227T192315Z
UID:3022-1736985600-1737071999@turtleislandadventureparks.com
SUMMARY:11AM-8PM
DESCRIPTION:
URL:https://turtleislandadventureparks.com/event/11am-8pm-27/
CATEGORIES:hours
END:VEVENT
BEGIN:VEVENT
DTSTART;VALUE=DATE:20250115
DTEND;VALUE=DATE:20250116
DTSTAMP:20260424T073520
CREATED:20241227T192242Z
LAST-MODIFIED:20241227T192242Z
UID:3019-1736899200-1736985599@turtleislandadventureparks.com
SUMMARY:11AM-8PM
DESCRIPTION:
URL:https://turtleislandadventureparks.com/event/11am-8pm-26/
CATEGORIES:hours
END:VEVENT
BEGIN:VEVENT
DTSTART;VALUE=DATE:20250114
DTEND;VALUE=DATE:20250115
DTSTAMP:20260424T073520
CREATED:20241227T192222Z
LAST-MODIFIED:20241227T192222Z
UID:3016-1736812800-1736899199@turtleislandadventureparks.com
SUMMARY:11AM-8PM
DESCRIPTION:
URL:https://turtleislandadventureparks.com/event/11am-8pm-25/
CATEGORIES:hours
END:VEVENT
BEGIN:VEVENT
DTSTART;VALUE=DATE:20250112
DTEND;VALUE=DATE:20250113
DTSTAMP:20260424T073520
CREATED:20241227T192141Z
LAST-MODIFIED:20241227T192141Z
UID:3010-1736640000-1736726399@turtleislandadventureparks.com
SUMMARY:9AM-8PM
DESCRIPTION:
URL:https://turtleislandadventureparks.com/event/9am-8pm-17/
CATEGORIES:hours
END:VEVENT
BEGIN:VEVENT
DTSTART;VALUE=DATE:20250111
DTEND;VALUE=DATE:20250112
DTSTAMP:20260424T073520
CREATED:20241227T192059Z
LAST-MODIFIED:20241227T192059Z
UID:3007-1736553600-1736639999@turtleislandadventureparks.com
SUMMARY:9AM-8PM
DESCRIPTION:
URL:https://turtleislandadventureparks.com/event/9am-8pm-16/
CATEGORIES:hours
END:VEVENT
BEGIN:VEVENT
DTSTART;VALUE=DATE:20250110
DTEND;VALUE=DATE:20250111
DTSTAMP:20260424T073520
CREATED:20241227T192030Z
LAST-MODIFIED:20241227T192030Z
UID:3004-1736467200-1736553599@turtleislandadventureparks.com
SUMMARY:11AM-8PM
DESCRIPTION:
URL:https://turtleislandadventureparks.com/event/11am-8pm-24/
CATEGORIES:hours
END:VEVENT
BEGIN:VEVENT
DTSTART;VALUE=DATE:20250109
DTEND;VALUE=DATE:20250110
DTSTAMP:20260424T073520
CREATED:20241227T192012Z
LAST-MODIFIED:20241227T192012Z
UID:3001-1736380800-1736467199@turtleislandadventureparks.com
SUMMARY:11AM-8PM
DESCRIPTION:
URL:https://turtleislandadventureparks.com/event/11am-8pm-23/
CATEGORIES:hours
END:VEVENT
BEGIN:VEVENT
DTSTART;VALUE=DATE:20250108
DTEND;VALUE=DATE:20250109
DTSTAMP:20260424T073520
CREATED:20241227T191805Z
LAST-MODIFIED:20241227T191805Z
UID:2998-1736294400-1736380799@turtleislandadventureparks.com
SUMMARY:11AM-8PM
DESCRIPTION:
URL:https://turtleislandadventureparks.com/event/11am-8pm-22/
CATEGORIES:hours
END:VEVENT
BEGIN:VEVENT
DTSTART;VALUE=DATE:20250107
DTEND;VALUE=DATE:20250108
DTSTAMP:20260424T073520
CREATED:20241227T191612Z
LAST-MODIFIED:20241227T191612Z
UID:2995-1736208000-1736294399@turtleislandadventureparks.com
SUMMARY:11AM-8PM
DESCRIPTION:
URL:https://turtleislandadventureparks.com/event/11am-8pm-21/
CATEGORIES:hours
END:VEVENT
BEGIN:VEVENT
DTSTART;VALUE=DATE:20250105
DTEND;VALUE=DATE:20250106
DTSTAMP:20260424T073520
CREATED:20241227T191347Z
LAST-MODIFIED:20241227T191347Z
UID:2989-1736035200-1736121599@turtleislandadventureparks.com
SUMMARY:9AM-8PM
DESCRIPTION:
URL:https://turtleislandadventureparks.com/event/9am-8pm-15/
CATEGORIES:hours
END:VEVENT
BEGIN:VEVENT
DTSTART;VALUE=DATE:20250104
DTEND;VALUE=DATE:20250105
DTSTAMP:20260424T073520
CREATED:20241126T171155Z
LAST-MODIFIED:20241126T171155Z
UID:2962-1735948800-1736035199@turtleislandadventureparks.com
SUMMARY:9AM-8PM
DESCRIPTION:﻿
URL:https://turtleislandadventureparks.com/event/9am-8pm-14/
CATEGORIES:hours
END:VEVENT
BEGIN:VEVENT
DTSTART;VALUE=DATE:20250103
DTEND;VALUE=DATE:20250104
DTSTAMP:20260424T073520
CREATED:20241126T171137Z
LAST-MODIFIED:20241126T171137Z
UID:2959-1735862400-1735948799@turtleislandadventureparks.com
SUMMARY:11AM-8PM
DESCRIPTION:﻿
URL:https://turtleislandadventureparks.com/event/11am-8pm-20/
CATEGORIES:hours
END:VEVENT
BEGIN:VEVENT
DTSTART;VALUE=DATE:20250102
DTEND;VALUE=DATE:20250103
DTSTAMP:20260424T073520
CREATED:20241126T171119Z
LAST-MODIFIED:20241126T171119Z
UID:2956-1735776000-1735862399@turtleislandadventureparks.com
SUMMARY:11AM-8PM
DESCRIPTION:
URL:https://turtleislandadventureparks.com/event/11am-8pm-19/
CATEGORIES:hours
END:VEVENT
BEGIN:VEVENT
DTSTART;VALUE=DATE:20250101
DTEND;VALUE=DATE:20250102
DTSTAMP:20260424T073520
CREATED:20241126T171058Z
LAST-MODIFIED:20241126T171058Z
UID:2953-1735689600-1735775999@turtleislandadventureparks.com
SUMMARY:11AM-8PM
DESCRIPTION:HAPPY NEW YEAR!
URL:https://turtleislandadventureparks.com/event/11am-8pm-18/
CATEGORIES:hours
END:VEVENT
BEGIN:VEVENT
DTSTART;VALUE=DATE:20241230
DTEND;VALUE=DATE:20241231
DTSTAMP:20260424T073520
CREATED:20241126T170726Z
LAST-MODIFIED:20241126T170726Z
UID:2947-1735516800-1735603199@turtleislandadventureparks.com
SUMMARY:11AM-8PM
DESCRIPTION:﻿
URL:https://turtleislandadventureparks.com/event/11am-8pm-17/
CATEGORIES:hours
END:VEVENT
BEGIN:VEVENT
DTSTART;VALUE=DATE:20241229
DTEND;VALUE=DATE:20241230
DTSTAMP:20260424T073520
CREATED:20241126T170703Z
LAST-MODIFIED:20241126T170703Z
UID:2944-1735430400-1735516799@turtleislandadventureparks.com
SUMMARY:9AM-8PM
DESCRIPTION:
URL:https://turtleislandadventureparks.com/event/9am-8pm-13/
CATEGORIES:hours
END:VEVENT
BEGIN:VEVENT
DTSTART;VALUE=DATE:20241228
DTEND;VALUE=DATE:20241229
DTSTAMP:20260424T073520
CREATED:20241126T170646Z
LAST-MODIFIED:20241126T170646Z
UID:2941-1735344000-1735430399@turtleislandadventureparks.com
SUMMARY:9AM-8PM
DESCRIPTION:
URL:https://turtleislandadventureparks.com/event/9am-8pm-12/
CATEGORIES:hours
END:VEVENT
BEGIN:VEVENT
DTSTART;VALUE=DATE:20241227
DTEND;VALUE=DATE:20241228
DTSTAMP:20260424T073520
CREATED:20241126T170607Z
LAST-MODIFIED:20241126T170607Z
UID:2938-1735257600-1735343999@turtleislandadventureparks.com
SUMMARY:11AM-8PM
DESCRIPTION:﻿
URL:https://turtleislandadventureparks.com/event/11am-8pm-16/
CATEGORIES:hours
END:VEVENT
BEGIN:VEVENT
DTSTART;VALUE=DATE:20241226
DTEND;VALUE=DATE:20241227
DTSTAMP:20260424T073520
CREATED:20241126T170548Z
LAST-MODIFIED:20241126T170548Z
UID:2935-1735171200-1735257599@turtleislandadventureparks.com
SUMMARY:11AM-8PM
DESCRIPTION:
URL:https://turtleislandadventureparks.com/event/11am-8pm-15/
CATEGORIES:hours
END:VEVENT
BEGIN:VEVENT
DTSTART;VALUE=DATE:20241223
DTEND;VALUE=DATE:20241224
DTSTAMP:20260424T073520
CREATED:20241126T170409Z
LAST-MODIFIED:20241126T170409Z
UID:2929-1734912000-1734998399@turtleislandadventureparks.com
SUMMARY:11AM-8PM
DESCRIPTION:
URL:https://turtleislandadventureparks.com/event/11am-8pm-14/
CATEGORIES:hours
END:VEVENT
BEGIN:VEVENT
DTSTART;VALUE=DATE:20241222
DTEND;VALUE=DATE:20241223
DTSTAMP:20260424T073520
CREATED:20241126T170211Z
LAST-MODIFIED:20241126T170211Z
UID:2922-1734825600-1734911999@turtleislandadventureparks.com
SUMMARY:9AM-8PM
DESCRIPTION:
URL:https://turtleislandadventureparks.com/event/9am-8pm-11/
CATEGORIES:hours
END:VEVENT
BEGIN:VEVENT
DTSTART;VALUE=DATE:20241221
DTEND;VALUE=DATE:20241222
DTSTAMP:20260424T073520
CREATED:20241126T165943Z
LAST-MODIFIED:20241126T170145Z
UID:2914-1734739200-1734825599@turtleislandadventureparks.com
SUMMARY:9AM-8PM
DESCRIPTION:
URL:https://turtleislandadventureparks.com/event/11am-8pm-12/
CATEGORIES:hours
END:VEVENT
BEGIN:VEVENT
DTSTART;VALUE=DATE:20241220
DTEND;VALUE=DATE:20241221
DTSTAMP:20260424T073520
CREATED:20241126T165918Z
LAST-MODIFIED:20241126T165918Z
UID:2911-1734652800-1734739199@turtleislandadventureparks.com
SUMMARY:11AM-8PM
DESCRIPTION:
URL:https://turtleislandadventureparks.com/event/11am-8pm-11/
CATEGORIES:hours
END:VEVENT
BEGIN:VEVENT
DTSTART;VALUE=DATE:20241219
DTEND;VALUE=DATE:20241220
DTSTAMP:20260424T073520
CREATED:20241126T165849Z
LAST-MODIFIED:20241126T165849Z
UID:2908-1734566400-1734652799@turtleislandadventureparks.com
SUMMARY:11AM-8PM
DESCRIPTION:
URL:https://turtleislandadventureparks.com/event/11am-8pm-10/
CATEGORIES:hours
END:VEVENT
BEGIN:VEVENT
DTSTART;VALUE=DATE:20241218
DTEND;VALUE=DATE:20241219
DTSTAMP:20260424T073520
CREATED:20241126T165824Z
LAST-MODIFIED:20241126T165824Z
UID:2905-1734480000-1734566399@turtleislandadventureparks.com
SUMMARY:11AM-8PM
DESCRIPTION:
URL:https://turtleislandadventureparks.com/event/11am-8pm-9/
CATEGORIES:hours
END:VEVENT
END:VCALENDAR