BEGIN:VCALENDAR
VERSION:2.0
PRODID:-//Turtle Island Adventure Parks - ECPv6.2.8.1//NONSGML v1.0//EN
CALSCALE:GREGORIAN
METHOD:PUBLISH
X-ORIGINAL-URL:https://turtleislandadventureparks.com
X-WR-CALDESC:Events for Turtle Island Adventure Parks
REFRESH-INTERVAL;VALUE=DURATION:PT1H
X-Robots-Tag:noindex
X-PUBLISHED-TTL:PT1H
BEGIN:VTIMEZONE
TZID:America/Chicago
BEGIN:DAYLIGHT
TZOFFSETFROM:-0600
TZOFFSETTO:-0500
TZNAME:CDT
DTSTART:20240310T080000
END:DAYLIGHT
BEGIN:STANDARD
TZOFFSETFROM:-0500
TZOFFSETTO:-0600
TZNAME:CST
DTSTART:20241103T070000
END:STANDARD
END:VTIMEZONE
BEGIN:VEVENT
DTSTART;VALUE=DATE:20241102
DTEND;VALUE=DATE:20241103
DTSTAMP:20260424T141318
CREATED:20241101T124751Z
LAST-MODIFIED:20241101T125847Z
UID:2721-1730505600-1730591999@turtleislandadventureparks.com
SUMMARY:8AM-PM
DESCRIPTION:
URL:https://turtleislandadventureparks.com/event/800am-800pm/
CATEGORIES:hours
END:VEVENT
BEGIN:VEVENT
DTSTART;VALUE=DATE:20241101
DTEND;VALUE=DATE:20241102
DTSTAMP:20260424T141318
CREATED:20241101T124654Z
LAST-MODIFIED:20241101T125904Z
UID:2718-1730419200-1730505599@turtleislandadventureparks.com
SUMMARY:4:30PM-8PM
DESCRIPTION:
URL:https://turtleislandadventureparks.com/event/430pm-800pm/
CATEGORIES:hours
END:VEVENT
BEGIN:VEVENT
DTSTART;VALUE=DATE:20241027
DTEND;VALUE=DATE:20241028
DTSTAMP:20260424T141318
CREATED:20241002T154148Z
LAST-MODIFIED:20241002T155115Z
UID:2650-1729987200-1730073599@turtleislandadventureparks.com
SUMMARY:8AM-8PM
DESCRIPTION:
URL:https://turtleislandadventureparks.com/event/8am-8pm-7/
CATEGORIES:hours
END:VEVENT
BEGIN:VEVENT
DTSTART;VALUE=DATE:20241026
DTEND;VALUE=DATE:20241027
DTSTAMP:20260424T141318
CREATED:20241002T154121Z
LAST-MODIFIED:20241002T155104Z
UID:2647-1729900800-1729987199@turtleislandadventureparks.com
SUMMARY:8AM-8PM
DESCRIPTION:
URL:https://turtleislandadventureparks.com/event/8am-8pm-6/
CATEGORIES:hours
END:VEVENT
BEGIN:VEVENT
DTSTART;VALUE=DATE:20241025
DTEND;VALUE=DATE:20241026
DTSTAMP:20260424T141318
CREATED:20241002T154054Z
LAST-MODIFIED:20241002T155050Z
UID:2644-1729814400-1729900799@turtleislandadventureparks.com
SUMMARY:4:30PM-8PM
DESCRIPTION:
URL:https://turtleislandadventureparks.com/event/430pm-8pm-6/
CATEGORIES:hours
END:VEVENT
BEGIN:VEVENT
DTSTART;VALUE=DATE:20241024
DTEND;VALUE=DATE:20241025
DTSTAMP:20260424T141318
CREATED:20241002T154032Z
LAST-MODIFIED:20241002T155039Z
UID:2641-1729728000-1729814399@turtleislandadventureparks.com
SUMMARY:4:30PM-8PM
DESCRIPTION:
URL:https://turtleislandadventureparks.com/event/430pm-8pm-5/
CATEGORIES:hours
END:VEVENT
BEGIN:VEVENT
DTSTART;VALUE=DATE:20241020
DTEND;VALUE=DATE:20241021
DTSTAMP:20260424T141318
CREATED:20241002T153256Z
LAST-MODIFIED:20241002T155029Z
UID:2617-1729382400-1729468799@turtleislandadventureparks.com
SUMMARY:8AM-8PM
DESCRIPTION:
URL:https://turtleislandadventureparks.com/event/a8am-8pm/
CATEGORIES:hours
END:VEVENT
BEGIN:VEVENT
DTSTART;VALUE=DATE:20241019
DTEND;VALUE=DATE:20241020
DTSTAMP:20260424T141318
CREATED:20241002T153237Z
LAST-MODIFIED:20241002T155016Z
UID:2614-1729296000-1729382399@turtleislandadventureparks.com
SUMMARY:8AM-8PM
DESCRIPTION:
URL:https://turtleislandadventureparks.com/event/8am-8pm-5/
CATEGORIES:hours
END:VEVENT
BEGIN:VEVENT
DTSTART;VALUE=DATE:20241018
DTEND;VALUE=DATE:20241019
DTSTAMP:20260424T141318
CREATED:20241002T153222Z
LAST-MODIFIED:20241002T155006Z
UID:2611-1729209600-1729295999@turtleislandadventureparks.com
SUMMARY:4:30PM-8PM
DESCRIPTION:
URL:https://turtleislandadventureparks.com/event/430pm-8pm-4/
CATEGORIES:hours
END:VEVENT
BEGIN:VEVENT
DTSTART;VALUE=DATE:20241017
DTEND;VALUE=DATE:20241018
DTSTAMP:20260424T141318
CREATED:20241002T153200Z
LAST-MODIFIED:20241002T154929Z
UID:2608-1729123200-1729209599@turtleislandadventureparks.com
SUMMARY:4:30PM-8PM
DESCRIPTION:
URL:https://turtleislandadventureparks.com/event/430pm-8pm-3/
CATEGORIES:hours
END:VEVENT
BEGIN:VEVENT
DTSTART;VALUE=DATE:20241014
DTEND;VALUE=DATE:20241015
DTSTAMP:20260424T141318
CREATED:20241002T153059Z
LAST-MODIFIED:20241011T155751Z
UID:2599-1728864000-1728950399@turtleislandadventureparks.com
SUMMARY:11AM-7PM
DESCRIPTION:
URL:https://turtleislandadventureparks.com/event/closed-61/
CATEGORIES:hours
END:VEVENT
BEGIN:VEVENT
DTSTART;VALUE=DATE:20241013
DTEND;VALUE=DATE:20241014
DTSTAMP:20260424T141318
CREATED:20241002T153033Z
LAST-MODIFIED:20241002T153033Z
UID:2596-1728777600-1728863999@turtleislandadventureparks.com
SUMMARY:8AM-8PM
DESCRIPTION:
URL:https://turtleislandadventureparks.com/event/8am-8pm-4/
CATEGORIES:hours
END:VEVENT
BEGIN:VEVENT
DTSTART;VALUE=DATE:20241012
DTEND;VALUE=DATE:20241013
DTSTAMP:20260424T141318
CREATED:20241002T153005Z
LAST-MODIFIED:20241002T154913Z
UID:2593-1728691200-1728777599@turtleislandadventureparks.com
SUMMARY:8AM-8PM
DESCRIPTION:
URL:https://turtleislandadventureparks.com/event/8am-8pm-3/
CATEGORIES:hours
END:VEVENT
BEGIN:VEVENT
DTSTART;VALUE=DATE:20241011
DTEND;VALUE=DATE:20241012
DTSTAMP:20260424T141318
CREATED:20241002T152835Z
LAST-MODIFIED:20241002T154851Z
UID:2585-1728604800-1728691199@turtleislandadventureparks.com
SUMMARY:4:30PM-8PM
DESCRIPTION:
URL:https://turtleislandadventureparks.com/event/430pm-8pm-2/
CATEGORIES:hours
END:VEVENT
BEGIN:VEVENT
DTSTART;VALUE=DATE:20241010
DTEND;VALUE=DATE:20241011
DTSTAMP:20260424T141318
CREATED:20241002T152811Z
LAST-MODIFIED:20241002T154838Z
UID:2582-1728518400-1728604799@turtleislandadventureparks.com
SUMMARY:4:30PM-8PM
DESCRIPTION:
URL:https://turtleislandadventureparks.com/event/430pm-8pm/
CATEGORIES:hours
END:VEVENT
BEGIN:VEVENT
DTSTART;VALUE=DATE:20241006
DTEND;VALUE=DATE:20241007
DTSTAMP:20260424T141318
CREATED:20241002T152644Z
LAST-MODIFIED:20241002T154818Z
UID:2570-1728172800-1728259199@turtleislandadventureparks.com
SUMMARY:8AM-8PM
DESCRIPTION:
URL:https://turtleislandadventureparks.com/event/8am-8pm-2/
CATEGORIES:hours
END:VEVENT
BEGIN:VEVENT
DTSTART;VALUE=DATE:20241005
DTEND;VALUE=DATE:20241006
DTSTAMP:20260424T141318
CREATED:20241002T152614Z
LAST-MODIFIED:20241002T154808Z
UID:2567-1728086400-1728172799@turtleislandadventureparks.com
SUMMARY:8AM-8PM
DESCRIPTION:
URL:https://turtleislandadventureparks.com/event/8am-8pm/
CATEGORIES:hours
END:VEVENT
BEGIN:VEVENT
DTSTART;VALUE=DATE:20241004
DTEND;VALUE=DATE:20241005
DTSTAMP:20260424T141318
CREATED:20241002T152527Z
LAST-MODIFIED:20241002T154740Z
UID:2563-1728000000-1728086399@turtleislandadventureparks.com
SUMMARY:4:30PM-8PM
DESCRIPTION:
URL:https://turtleislandadventureparks.com/event/430-pm-8-pm-2/
CATEGORIES:hours
END:VEVENT
BEGIN:VEVENT
DTSTART;VALUE=DATE:20241003
DTEND;VALUE=DATE:20241004
DTSTAMP:20260424T141318
CREATED:20241002T152500Z
LAST-MODIFIED:20241002T154728Z
UID:2560-1727913600-1727999999@turtleislandadventureparks.com
SUMMARY:4:30PM-8PM
DESCRIPTION:
URL:https://turtleislandadventureparks.com/event/430-pm-8-pm/
CATEGORIES:hours
END:VEVENT
BEGIN:VEVENT
DTSTART;VALUE=DATE:20240929
DTEND;VALUE=DATE:20240930
DTSTAMP:20260424T141318
CREATED:20240919T193824Z
LAST-MODIFIED:20240919T193824Z
UID:2542-1727568000-1727654399@turtleislandadventureparks.com
SUMMARY:8:00 AM - 8:00 PM
DESCRIPTION:
URL:https://turtleislandadventureparks.com/event/800-am-800-pm-12/
CATEGORIES:hours
END:VEVENT
BEGIN:VEVENT
DTSTART;VALUE=DATE:20240928
DTEND;VALUE=DATE:20240929
DTSTAMP:20260424T141318
CREATED:20240919T193233Z
LAST-MODIFIED:20240919T193233Z
UID:2539-1727481600-1727567999@turtleislandadventureparks.com
SUMMARY:8:00 AM - 8:00 PM
DESCRIPTION:
URL:https://turtleislandadventureparks.com/event/800-am-800-pm-11/
CATEGORIES:hours
END:VEVENT
BEGIN:VEVENT
DTSTART;VALUE=DATE:20240927
DTEND;VALUE=DATE:20240928
DTSTAMP:20260424T141318
CREATED:20240919T193105Z
LAST-MODIFIED:20240919T193105Z
UID:2536-1727395200-1727481599@turtleislandadventureparks.com
SUMMARY:4:30 PM - 8:00 PM
DESCRIPTION:
URL:https://turtleislandadventureparks.com/event/430-pm-800-pm-61/
CATEGORIES:hours
END:VEVENT
BEGIN:VEVENT
DTSTART;VALUE=DATE:20240926
DTEND;VALUE=DATE:20240927
DTSTAMP:20260424T141318
CREATED:20240919T192955Z
LAST-MODIFIED:20240919T192955Z
UID:2533-1727308800-1727395199@turtleislandadventureparks.com
SUMMARY:4:30 PM - 8:00 PM
DESCRIPTION:
URL:https://turtleislandadventureparks.com/event/430-pm-800-pm-60/
CATEGORIES:hours
END:VEVENT
BEGIN:VEVENT
DTSTART;VALUE=DATE:20240922
DTEND;VALUE=DATE:20240923
DTSTAMP:20260424T141318
CREATED:20240919T192518Z
LAST-MODIFIED:20240919T192643Z
UID:2518-1726963200-1727049599@turtleislandadventureparks.com
SUMMARY:8:00 AM - 8:00 PM
DESCRIPTION:
URL:https://turtleislandadventureparks.com/event/800-am-800-pm-10/
CATEGORIES:hours
END:VEVENT
BEGIN:VEVENT
DTSTART;VALUE=DATE:20240921
DTEND;VALUE=DATE:20240922
DTSTAMP:20260424T141318
CREATED:20240919T192449Z
LAST-MODIFIED:20240919T192449Z
UID:2515-1726876800-1726963199@turtleislandadventureparks.com
SUMMARY:8:00 AM - 8:00 PM
DESCRIPTION:
URL:https://turtleislandadventureparks.com/event/800-am-800-pm-9/
CATEGORIES:hours
END:VEVENT
BEGIN:VEVENT
DTSTART;VALUE=DATE:20240920
DTEND;VALUE=DATE:20240921
DTSTAMP:20260424T141318
CREATED:20240919T192410Z
LAST-MODIFIED:20240919T192410Z
UID:2512-1726790400-1726876799@turtleislandadventureparks.com
SUMMARY:4:30 pm - 8:00 pm
DESCRIPTION:
URL:https://turtleislandadventureparks.com/event/430-pm-800-pm-59/
CATEGORIES:hours
END:VEVENT
BEGIN:VEVENT
DTSTART;VALUE=DATE:20240919
DTEND;VALUE=DATE:20240920
DTSTAMP:20260424T141318
CREATED:20240919T192300Z
LAST-MODIFIED:20240919T192300Z
UID:2508-1726704000-1726790399@turtleislandadventureparks.com
SUMMARY:4:30 pm - 8:00 pm
DESCRIPTION:
URL:https://turtleislandadventureparks.com/event/430-pm-800-pm-58/
LOCATION:Turtle Island Indoor Water Park\, 3965 Skydancer Way NE\, Belcourt\, ND\, 58316
CATEGORIES:hours
END:VEVENT
BEGIN:VEVENT
DTSTART;VALUE=DATE:20240915
DTEND;VALUE=DATE:20240916
DTSTAMP:20260424T141318
CREATED:20240807T150705Z
LAST-MODIFIED:20240807T150739Z
UID:2452-1726358400-1726444799@turtleislandadventureparks.com
SUMMARY:8:00 am - 8:00 pm
DESCRIPTION:
URL:https://turtleislandadventureparks.com/event/800-am-800-pm-8/
CATEGORIES:hours
END:VEVENT
BEGIN:VEVENT
DTSTART;VALUE=DATE:20240914
DTEND;VALUE=DATE:20240915
DTSTAMP:20260424T141318
CREATED:20240807T150601Z
LAST-MODIFIED:20240807T150601Z
UID:2448-1726272000-1726358399@turtleislandadventureparks.com
SUMMARY:8:00 am - 8:00 pm
DESCRIPTION:
URL:https://turtleislandadventureparks.com/event/800-am-800-pm-7/
LOCATION:Turtle Island Indoor Water Park\, 3965 Skydancer Way NE\, Belcourt\, ND\, 58316
CATEGORIES:hours
END:VEVENT
BEGIN:VEVENT
DTSTART;VALUE=DATE:20240913
DTEND;VALUE=DATE:20240914
DTSTAMP:20260424T141318
CREATED:20240807T150523Z
LAST-MODIFIED:20240807T150523Z
UID:2445-1726185600-1726271999@turtleislandadventureparks.com
SUMMARY:4:30 pm - 8:00 pm
DESCRIPTION:
URL:https://turtleislandadventureparks.com/event/430-pm-800-pm-57/
LOCATION:Turtle Island Indoor Water Park\, 3965 Skydancer Way NE\, Belcourt\, ND\, 58316
CATEGORIES:hours
END:VEVENT
END:VCALENDAR