BEGIN:VCALENDAR
VERSION:2.0
PRODID:-//Turtle Island Adventure Parks - ECPv6.2.8.1//NONSGML v1.0//EN
CALSCALE:GREGORIAN
METHOD:PUBLISH
X-ORIGINAL-URL:https://turtleislandadventureparks.com
X-WR-CALDESC:Events for Turtle Island Adventure Parks
REFRESH-INTERVAL;VALUE=DURATION:PT1H
X-Robots-Tag:noindex
X-PUBLISHED-TTL:PT1H
BEGIN:VTIMEZONE
TZID:America/Chicago
BEGIN:DAYLIGHT
TZOFFSETFROM:-0600
TZOFFSETTO:-0500
TZNAME:CDT
DTSTART:20260308T080000
END:DAYLIGHT
BEGIN:STANDARD
TZOFFSETFROM:-0500
TZOFFSETTO:-0600
TZNAME:CST
DTSTART:20261101T070000
END:STANDARD
END:VTIMEZONE
BEGIN:VEVENT
DTSTART;VALUE=DATE:20260310
DTEND;VALUE=DATE:20260311
DTSTAMP:20260422T145502
CREATED:20260224T171806Z
LAST-MODIFIED:20260224T171806Z
UID:4641-1773100800-1773187199@turtleislandadventureparks.com
SUMMARY:Park Hours
DESCRIPTION:Indoor Waterpark – 11AM-8PM \nSky High Trampoline Park – 3PM-8PM
URL:https://turtleislandadventureparks.com/event/park-hours-40/
CATEGORIES:hours
END:VEVENT
BEGIN:VEVENT
DTSTART;VALUE=DATE:20260308
DTEND;VALUE=DATE:20260309
DTSTAMP:20260422T145502
CREATED:20260224T171111Z
LAST-MODIFIED:20260224T171111Z
UID:4596-1772928000-1773014399@turtleislandadventureparks.com
SUMMARY:Park Hours
DESCRIPTION:Indoor Waterpark – 9AM-8PM \nSky High Trampoline Park – 10AM-8PM
URL:https://turtleislandadventureparks.com/event/park-hours-30/
CATEGORIES:hours
END:VEVENT
BEGIN:VEVENT
DTSTART;VALUE=DATE:20260307
DTEND;VALUE=DATE:20260308
DTSTAMP:20260422T145502
CREATED:20260224T171054Z
LAST-MODIFIED:20260224T171054Z
UID:4593-1772841600-1772927999@turtleislandadventureparks.com
SUMMARY:Park Hours
DESCRIPTION:Indoor Waterpark – 9AM-8PM \nSky High Trampoline Park – 10AM-8PM
URL:https://turtleislandadventureparks.com/event/park-hours-29/
CATEGORIES:hours
END:VEVENT
BEGIN:VEVENT
DTSTART;VALUE=DATE:20260306
DTEND;VALUE=DATE:20260307
DTSTAMP:20260422T145502
CREATED:20260224T172156Z
LAST-MODIFIED:20260224T172156Z
UID:4672-1772755200-1772841599@turtleislandadventureparks.com
SUMMARY:Park Hours
DESCRIPTION:Indoor Waterpark – 11AM-8PM \nSky High Trampoline Park – 2PM-8PM
URL:https://turtleislandadventureparks.com/event/park-hours-50/
CATEGORIES:hours
END:VEVENT
BEGIN:VEVENT
DTSTART;VALUE=DATE:20260305
DTEND;VALUE=DATE:20260306
DTSTAMP:20260422T145502
CREATED:20260224T171747Z
LAST-MODIFIED:20260224T171747Z
UID:4638-1772668800-1772755199@turtleislandadventureparks.com
SUMMARY:Park Hours
DESCRIPTION:Indoor Waterpark – 11AM-8PM \nSky High Trampoline Park – 3PM-8PM
URL:https://turtleislandadventureparks.com/event/park-hours-39/
CATEGORIES:hours
END:VEVENT
BEGIN:VEVENT
DTSTART;VALUE=DATE:20260304
DTEND;VALUE=DATE:20260305
DTSTAMP:20260422T145502
CREATED:20260224T171720Z
LAST-MODIFIED:20260224T171720Z
UID:4635-1772582400-1772668799@turtleislandadventureparks.com
SUMMARY:Park Hours
DESCRIPTION:Indoor Waterpark – 11AM-8PM \nSky High Trampoline Park – 3PM-8PM
URL:https://turtleislandadventureparks.com/event/park-hours-38/
CATEGORIES:hours
END:VEVENT
BEGIN:VEVENT
DTSTART;VALUE=DATE:20260303
DTEND;VALUE=DATE:20260304
DTSTAMP:20260422T145502
CREATED:20260224T171701Z
LAST-MODIFIED:20260224T171701Z
UID:4632-1772496000-1772582399@turtleislandadventureparks.com
SUMMARY:Park Hours
DESCRIPTION:Indoor Waterpark – 11AM-8PM \nSky High Trampoline Park – 3PM-8PM
URL:https://turtleislandadventureparks.com/event/park-hours-37/
CATEGORIES:hours
END:VEVENT
BEGIN:VEVENT
DTSTART;VALUE=DATE:20260301
DTEND;VALUE=DATE:20260302
DTSTAMP:20260422T145502
CREATED:20260224T171029Z
LAST-MODIFIED:20260224T171029Z
UID:4590-1772323200-1772409599@turtleislandadventureparks.com
SUMMARY:Park Hours
DESCRIPTION:Indoor Waterpark – 9AM-8PM \nSky High Trampoline Park – 10AM-8PM
URL:https://turtleislandadventureparks.com/event/park-hours-28-2/
CATEGORIES:hours
END:VEVENT
BEGIN:VEVENT
DTSTART;VALUE=DATE:20260228
DTEND;VALUE=DATE:20260301
DTSTAMP:20260422T145502
CREATED:20260128T162109Z
LAST-MODIFIED:20260128T162109Z
UID:4586-1772236800-1772323199@turtleislandadventureparks.com
SUMMARY:Park Hours
DESCRIPTION:INDOOR WATERPARK – 9AM-8PM \nSKYHIGH TRAMPOLINE PARK – 10AM-8PM
URL:https://turtleislandadventureparks.com/event/park-hours-28/
CATEGORIES:hours
END:VEVENT
BEGIN:VEVENT
DTSTART;VALUE=DATE:20260227
DTEND;VALUE=DATE:20260228
DTSTAMP:20260422T145502
CREATED:20260128T162030Z
LAST-MODIFIED:20260128T162030Z
UID:4583-1772150400-1772236799@turtleislandadventureparks.com
SUMMARY:Park Hours
DESCRIPTION:INDOOR WATERPARK – 11AM-8PM \nSKYHIGH TRAMPOLINE PARK – 2PM-8PM
URL:https://turtleislandadventureparks.com/event/park-hours-27/
CATEGORIES:hours
END:VEVENT
BEGIN:VEVENT
DTSTART;VALUE=DATE:20260226
DTEND;VALUE=DATE:20260227
DTSTAMP:20260422T145502
CREATED:20260128T161741Z
LAST-MODIFIED:20260128T161741Z
UID:4580-1772064000-1772150399@turtleislandadventureparks.com
SUMMARY:Park Hours
DESCRIPTION:INDOOR WATERPARK – 11AM-8PM \nSKYHIGH TRAMPOLINE PARK – 3PM-8PM
URL:https://turtleislandadventureparks.com/event/park-hours-26/
CATEGORIES:hours
END:VEVENT
BEGIN:VEVENT
DTSTART;VALUE=DATE:20260225
DTEND;VALUE=DATE:20260226
DTSTAMP:20260422T145502
CREATED:20260128T161332Z
LAST-MODIFIED:20260128T161332Z
UID:4574-1771977600-1772063999@turtleislandadventureparks.com
SUMMARY:Park Hours
DESCRIPTION:INDOOR WATERPARK – 11AM-8PM \nSKYHIGH TRAMPOLINE PARK – 3PM-8PM
URL:https://turtleislandadventureparks.com/event/park-hours-25/
CATEGORIES:hours
END:VEVENT
BEGIN:VEVENT
DTSTART;VALUE=DATE:20260224
DTEND;VALUE=DATE:20260225
DTSTAMP:20260422T145502
CREATED:20260128T161119Z
LAST-MODIFIED:20260128T161119Z
UID:4571-1771891200-1771977599@turtleislandadventureparks.com
SUMMARY:Park Hours
DESCRIPTION:INDOOR WATERPARK – 11AM-8PM \nSKYHIGH TRAMPOLINE PARK – 3PM-8PM
URL:https://turtleislandadventureparks.com/event/park-hours-24/
CATEGORIES:hours
END:VEVENT
BEGIN:VEVENT
DTSTART;VALUE=DATE:20260222
DTEND;VALUE=DATE:20260223
DTSTAMP:20260422T145502
CREATED:20260128T160707Z
LAST-MODIFIED:20260128T160707Z
UID:4564-1771718400-1771804799@turtleislandadventureparks.com
SUMMARY:Park Hours
DESCRIPTION:INDOOR WATERPARK – 9AM-8PM \nSKYHIGH TRAMPOLINE PARK – 10AM-8PM
URL:https://turtleislandadventureparks.com/event/park-hours-22/
CATEGORIES:hours
END:VEVENT
BEGIN:VEVENT
DTSTART;VALUE=DATE:20260221
DTEND;VALUE=DATE:20260222
DTSTAMP:20260422T145502
CREATED:20260128T160625Z
LAST-MODIFIED:20260128T160806Z
UID:4561-1771632000-1771718399@turtleislandadventureparks.com
SUMMARY:Park Hours
DESCRIPTION:INDOOR WATERPARK – 9AM-8PM \nSKYHIGH TRAMPOLINE PARK – 10AM-8PM
URL:https://turtleislandadventureparks.com/event/park-hours-21/
CATEGORIES:hours
END:VEVENT
BEGIN:VEVENT
DTSTART;VALUE=DATE:20260220
DTEND;VALUE=DATE:20260221
DTSTAMP:20260422T145502
CREATED:20260128T160543Z
LAST-MODIFIED:20260128T160543Z
UID:4558-1771545600-1771631999@turtleislandadventureparks.com
SUMMARY:Park Hours
DESCRIPTION:INDOOR WATERPARK – 11AM-8PM \nSKYHIGH TRAMPOLINE PARK – 2PM-8PM
URL:https://turtleislandadventureparks.com/event/park-hours-20/
CATEGORIES:hours
END:VEVENT
BEGIN:VEVENT
DTSTART;VALUE=DATE:20260219
DTEND;VALUE=DATE:20260220
DTSTAMP:20260422T145502
CREATED:20260128T160502Z
LAST-MODIFIED:20260128T160502Z
UID:4555-1771459200-1771545599@turtleislandadventureparks.com
SUMMARY:Park Hours
DESCRIPTION:INDOOR WATERPARK – 11AM-8PM \nSKYHIGH TRAMPOLINE PARK – 3PM-8PM
URL:https://turtleislandadventureparks.com/event/park-hours-19/
CATEGORIES:hours
END:VEVENT
BEGIN:VEVENT
DTSTART;VALUE=DATE:20260218
DTEND;VALUE=DATE:20260219
DTSTAMP:20260422T145502
CREATED:20260128T160429Z
LAST-MODIFIED:20260128T160429Z
UID:4552-1771372800-1771459199@turtleislandadventureparks.com
SUMMARY:Park Hours
DESCRIPTION:INDOOR WATERPARK – 11AM-8PM \nSKYHIGH TRAMPOLINE PARK – 3PM-8PM
URL:https://turtleislandadventureparks.com/event/park-hours-18/
CATEGORIES:hours
END:VEVENT
BEGIN:VEVENT
DTSTART;VALUE=DATE:20260216
DTEND;VALUE=DATE:20260217
DTSTAMP:20260422T145502
CREATED:20260128T160249Z
LAST-MODIFIED:20260128T160249Z
UID:4546-1771200000-1771286399@turtleislandadventureparks.com
SUMMARY:Park Hours
DESCRIPTION:INDOOR WATEPARK – 11AM-8PM \nSKYHIGH TRAMPOLINE PARK – 12PM-8PM
URL:https://turtleislandadventureparks.com/event/park-hours-16/
CATEGORIES:Holiday,hours
END:VEVENT
BEGIN:VEVENT
DTSTART;VALUE=DATE:20260215
DTEND;VALUE=DATE:20260216
DTSTAMP:20260422T145502
CREATED:20260128T160118Z
LAST-MODIFIED:20260128T160118Z
UID:4543-1771113600-1771199999@turtleislandadventureparks.com
SUMMARY:Park Hours
DESCRIPTION:INDOOR WATERPARK – 9AM-8PM \nSKYHIGH TRAMPOLINE PARK – 10AM-8PM
URL:https://turtleislandadventureparks.com/event/park-hours-15/
CATEGORIES:hours
END:VEVENT
BEGIN:VEVENT
DTSTART;VALUE=DATE:20260214
DTEND;VALUE=DATE:20260215
DTSTAMP:20260422T145502
CREATED:20260128T160038Z
LAST-MODIFIED:20260128T160038Z
UID:4540-1771027200-1771113599@turtleislandadventureparks.com
SUMMARY:Park Hours
DESCRIPTION:INDOOR WATERPARK – 9AM-8PM \nSKYHIGH TRAMPOLINE PARK – 10AM-8PM
URL:https://turtleislandadventureparks.com/event/park-hours-14/
CATEGORIES:hours
END:VEVENT
BEGIN:VEVENT
DTSTART;VALUE=DATE:20260213
DTEND;VALUE=DATE:20260214
DTSTAMP:20260422T145502
CREATED:20260128T155927Z
LAST-MODIFIED:20260128T155927Z
UID:4537-1770940800-1771027199@turtleislandadventureparks.com
SUMMARY:Park Hours
DESCRIPTION:INDOOR WATERPARK – 11AM-8PM \nSKYHIGH TRAMPOLINE PARK – 2PM-8PM
URL:https://turtleislandadventureparks.com/event/park-hours-13/
CATEGORIES:hours
END:VEVENT
BEGIN:VEVENT
DTSTART;VALUE=DATE:20260212
DTEND;VALUE=DATE:20260213
DTSTAMP:20260422T145502
CREATED:20260128T155842Z
LAST-MODIFIED:20260128T155842Z
UID:4534-1770854400-1770940799@turtleislandadventureparks.com
SUMMARY:Park Hours
DESCRIPTION:INDOOR WATERPARK – 11AM-8PM \nSKYHIGH TRAMPOLINE PARK – 3PM-8PM
URL:https://turtleislandadventureparks.com/event/park-hours-12/
CATEGORIES:hours
END:VEVENT
BEGIN:VEVENT
DTSTART;VALUE=DATE:20260211
DTEND;VALUE=DATE:20260212
DTSTAMP:20260422T145502
CREATED:20260128T155803Z
LAST-MODIFIED:20260128T155803Z
UID:4531-1770768000-1770854399@turtleislandadventureparks.com
SUMMARY:Park Hours
DESCRIPTION:INDOOR WATERPARK – 11AM-8PM \nSKYHIGH TRAMPOLINE PARK – 3PM-8PM
URL:https://turtleislandadventureparks.com/event/park-hours-11/
CATEGORIES:hours
END:VEVENT
BEGIN:VEVENT
DTSTART;VALUE=DATE:20260210
DTEND;VALUE=DATE:20260211
DTSTAMP:20260422T145502
CREATED:20260128T155718Z
LAST-MODIFIED:20260128T155718Z
UID:4528-1770681600-1770767999@turtleislandadventureparks.com
SUMMARY:Park Hours
DESCRIPTION:INDOOR WATERPARK – 11AM-8PM \nSKYHIGH TRAMPOLINE PARK – 3PM-PM
URL:https://turtleislandadventureparks.com/event/park-hours-10/
CATEGORIES:hours
END:VEVENT
BEGIN:VEVENT
DTSTART;VALUE=DATE:20260208
DTEND;VALUE=DATE:20260209
DTSTAMP:20260422T145502
CREATED:20260128T155423Z
LAST-MODIFIED:20260128T155423Z
UID:4522-1770508800-1770595199@turtleislandadventureparks.com
SUMMARY:Park Hours
DESCRIPTION:INDOOR WATERPARK – 9AM-8PM\nSKYHIGH TRAMPOLINE PARK – 10AM-8PM
URL:https://turtleislandadventureparks.com/event/park-hours-8/
CATEGORIES:hours
END:VEVENT
BEGIN:VEVENT
DTSTART;VALUE=DATE:20260207
DTEND;VALUE=DATE:20260208
DTSTAMP:20260422T145502
CREATED:20260128T155259Z
LAST-MODIFIED:20260128T155259Z
UID:4519-1770422400-1770508799@turtleislandadventureparks.com
SUMMARY:Park Hours
DESCRIPTION:INDOOR WATERPARK – 9AM-8PM \nSKYHIGH TRAMPOLINE PARK – 10AM-8PM
URL:https://turtleislandadventureparks.com/event/park-hours-7/
CATEGORIES:hours
END:VEVENT
BEGIN:VEVENT
DTSTART;VALUE=DATE:20260206
DTEND;VALUE=DATE:20260207
DTSTAMP:20260422T145502
CREATED:20260128T155222Z
LAST-MODIFIED:20260128T155222Z
UID:4516-1770336000-1770422399@turtleislandadventureparks.com
SUMMARY:Park Hours
DESCRIPTION:INDOOR WATERPARK – 11AM-8PM \nSKYHIGH TRAMPOLINE PARK – 2PM-8PM
URL:https://turtleislandadventureparks.com/event/park-hours-6/
CATEGORIES:hours
END:VEVENT
BEGIN:VEVENT
DTSTART;VALUE=DATE:20260205
DTEND;VALUE=DATE:20260206
DTSTAMP:20260422T145502
CREATED:20260128T155120Z
LAST-MODIFIED:20260128T155120Z
UID:4513-1770249600-1770335999@turtleislandadventureparks.com
SUMMARY:Park Hours
DESCRIPTION:INDOOR WATERPARK – 11AM-8PM \nSKYHIGH TRAMPOLINE PARK – 3PM-8PM
URL:https://turtleislandadventureparks.com/event/park-hours-5/
CATEGORIES:hours
END:VEVENT
BEGIN:VEVENT
DTSTART;VALUE=DATE:20260204
DTEND;VALUE=DATE:20260205
DTSTAMP:20260422T145502
CREATED:20260128T155037Z
LAST-MODIFIED:20260128T155037Z
UID:4510-1770163200-1770249599@turtleislandadventureparks.com
SUMMARY:Park Hours
DESCRIPTION:INDOOR WATERPARK 11AM-8PM \nSKYHIGH TRAMPOLINE PARK – 3PM-8PM
URL:https://turtleislandadventureparks.com/event/park-hours-4/
CATEGORIES:hours
END:VEVENT
END:VCALENDAR