BEGIN:VCALENDAR
VERSION:2.0
PRODID:-//Turtle Island Adventure Parks - ECPv6.2.8.1//NONSGML v1.0//EN
CALSCALE:GREGORIAN
METHOD:PUBLISH
X-WR-CALNAME:Turtle Island Adventure Parks
X-ORIGINAL-URL:https://turtleislandadventureparks.com
X-WR-CALDESC:Events for Turtle Island Adventure Parks
REFRESH-INTERVAL;VALUE=DURATION:PT1H
X-Robots-Tag:noindex
X-PUBLISHED-TTL:PT1H
BEGIN:VTIMEZONE
TZID:America/Chicago
BEGIN:DAYLIGHT
TZOFFSETFROM:-0600
TZOFFSETTO:-0500
TZNAME:CDT
DTSTART:20240310T080000
END:DAYLIGHT
BEGIN:STANDARD
TZOFFSETFROM:-0500
TZOFFSETTO:-0600
TZNAME:CST
DTSTART:20241103T070000
END:STANDARD
END:VTIMEZONE
BEGIN:VEVENT
DTSTART;VALUE=DATE:20240418
DTEND;VALUE=DATE:20240419
DTSTAMP:20260424T223709
CREATED:20240214T145055Z
LAST-MODIFIED:20240214T145055Z
UID:1612-1713398400-1713484799@turtleislandadventureparks.com
SUMMARY:4:30 pm - 8:00 pm
DESCRIPTION:
URL:https://turtleislandadventureparks.com/event/430-pm-800-pm-40/
CATEGORIES:hours
END:VEVENT
BEGIN:VEVENT
DTSTART;VALUE=DATE:20240415
DTEND;VALUE=DATE:20240416
DTSTAMP:20260424T223709
CREATED:20240329T020828Z
LAST-MODIFIED:20240329T124149Z
UID:1762-1713139200-1713225599@turtleislandadventureparks.com
SUMMARY:Riverwalk 9:00 am - 11:00 am
DESCRIPTION:Riverwalk  \n\nLow-impact water exercise either against or with the current of the lazy river!\nMondays from 9am to 11am\neasy on joints\nGo at your own pace\, no pressure or race\n3.5 ft water depth\nBrand new\, state of the art facility\nClean changing rooms and bathroom\n$5 per person\nDon’t forget your towels and swimsuits!
URL:https://turtleislandadventureparks.com/event/riverwalk-900-am-1100-am-2/
LOCATION:Turtle Island Indoor Water Park\, 3965 Skydancer Way NE\, Belcourt\, ND\, 58316
CATEGORIES:hours
ATTACH;FMTTYPE=image/png:https://turtleislandadventureparks.com/wp-content/uploads/2024/03/Riverwalk-Turtle-Island-Facebook-Cover.png
END:VEVENT
BEGIN:VEVENT
DTSTART;VALUE=DATE:20240415
DTEND;VALUE=DATE:20240416
DTSTAMP:20260424T223709
CREATED:20240316T200310Z
LAST-MODIFIED:20240316T200310Z
UID:1702-1713139200-1713225599@turtleislandadventureparks.com
SUMMARY:Toddler Time Noon - 2:00 pm
DESCRIPTION:Toddler Time is a day where parents and their toddler come together to enhance bonding time in a more relaxed setting. Toddler time promotes a time for toddlers to receive undivided attention with mommy or daddy. Toddler Time gives the child an opportunity to build water confidence\, improve coordination\, improve balance\, improve joint mobility and muscle strength\, and can also improve sleeping habits. \nAdult – Free \nToddler – $5
URL:https://turtleislandadventureparks.com/event/toddler-time-noon-200-pm-2/
LOCATION:Turtle Island Indoor Water Park\, 3965 Skydancer Way NE\, Belcourt\, ND\, 58316
CATEGORIES:hours
ATTACH;FMTTYPE=image/jpeg:https://turtleislandadventureparks.com/wp-content/uploads/2024/03/Toddler-Time-Website.jpg
END:VEVENT
BEGIN:VEVENT
DTSTART;VALUE=DATE:20240415
DTEND;VALUE=DATE:20240416
DTSTAMP:20260424T223709
CREATED:20240214T144810Z
LAST-MODIFIED:20240214T144810Z
UID:1603-1713139200-1713225599@turtleislandadventureparks.com
SUMMARY:11:00 am - 8:00 pm
DESCRIPTION:
URL:https://turtleislandadventureparks.com/event/1100-am-800-pm-60/
CATEGORIES:hours
END:VEVENT
BEGIN:VEVENT
DTSTART;VALUE=DATE:20240414
DTEND;VALUE=DATE:20240415
DTSTAMP:20260424T223709
CREATED:20240214T144636Z
LAST-MODIFIED:20240214T144636Z
UID:1600-1713052800-1713139199@turtleislandadventureparks.com
SUMMARY:11:00 am - 8:00 pm
DESCRIPTION:
URL:https://turtleislandadventureparks.com/event/1100-am-800-pm-59/
CATEGORIES:hours
END:VEVENT
BEGIN:VEVENT
DTSTART;VALUE=DATE:20240413
DTEND;VALUE=DATE:20240414
DTSTAMP:20260424T223709
CREATED:20240214T144606Z
LAST-MODIFIED:20240214T144606Z
UID:1597-1712966400-1713052799@turtleislandadventureparks.com
SUMMARY:11:00 am - 8:00 pm
DESCRIPTION:
URL:https://turtleislandadventureparks.com/event/1100-am-800-pm-58/
CATEGORIES:hours
END:VEVENT
BEGIN:VEVENT
DTSTART;VALUE=DATE:20240412
DTEND;VALUE=DATE:20240413
DTSTAMP:20260424T223709
CREATED:20240214T144551Z
LAST-MODIFIED:20240214T144551Z
UID:1594-1712880000-1712966399@turtleislandadventureparks.com
SUMMARY:11:00 am - 8:00 pm
DESCRIPTION:
URL:https://turtleislandadventureparks.com/event/1100-am-800-pm-57/
CATEGORIES:hours
END:VEVENT
BEGIN:VEVENT
DTSTART;VALUE=DATE:20240411
DTEND;VALUE=DATE:20240412
DTSTAMP:20260424T223709
CREATED:20240214T144536Z
LAST-MODIFIED:20240214T144536Z
UID:1591-1712793600-1712879999@turtleislandadventureparks.com
SUMMARY:4:30 pm - 8:00 pm
DESCRIPTION:
URL:https://turtleislandadventureparks.com/event/430-pm-800-pm-39/
CATEGORIES:hours
END:VEVENT
BEGIN:VEVENT
DTSTART;VALUE=DATE:20240408
DTEND;VALUE=DATE:20240409
DTSTAMP:20260424T223709
CREATED:20240329T020724Z
LAST-MODIFIED:20240329T124105Z
UID:1758-1712534400-1712620799@turtleislandadventureparks.com
SUMMARY:Riverwalk 9:00 am - 11:00 am
DESCRIPTION:Riverwalk  \n\nLow-impact water exercise either against or with the current of the lazy river!\nMondays from 9am to 11am\neasy on joints\nGo at your own pace\, no pressure or race\n3.5 ft water depth\nBrand new\, state of the art facility\nClean changing rooms and bathroom\n$5 per person\nDon’t forget your towels and swimsuits!
URL:https://turtleislandadventureparks.com/event/riverwalk-900-am-1100-am/
LOCATION:Turtle Island Indoor Water Park\, 3965 Skydancer Way NE\, Belcourt\, ND\, 58316
CATEGORIES:hours
ATTACH;FMTTYPE=image/png:https://turtleislandadventureparks.com/wp-content/uploads/2024/03/Riverwalk-Turtle-Island-Facebook-Cover.png
END:VEVENT
BEGIN:VEVENT
DTSTART;VALUE=DATE:20240408
DTEND;VALUE=DATE:20240409
DTSTAMP:20260424T223709
CREATED:20240214T144404Z
LAST-MODIFIED:20240214T144404Z
UID:1582-1712534400-1712620799@turtleislandadventureparks.com
SUMMARY:4:30 pm - 8:00 pm
DESCRIPTION:
URL:https://turtleislandadventureparks.com/event/430-pm-800-pm-38/
CATEGORIES:hours
END:VEVENT
BEGIN:VEVENT
DTSTART;VALUE=DATE:20240408
DTEND;VALUE=DATE:20240409
DTSTAMP:20260424T223709
CREATED:20240316T195937Z
LAST-MODIFIED:20240316T200020Z
UID:1695-1712534400-1712620799@turtleislandadventureparks.com
SUMMARY:Toddler Time Noon - 2:00 pm
DESCRIPTION:Toddler Time is a day where parents and their toddler come together to enhance bonding time in a more relaxed setting. Toddler time promotes a time for toddlers to receive undivided attention with mommy or daddy. Toddler Time gives the child an opportunity to build water confidence\, improve coordination\, improve balance\, improve joint mobility and muscle strength\, and can also improve sleeping habits. \nAdult – Free \nToddler – $5
URL:https://turtleislandadventureparks.com/event/toddler-time-noon-200-pm/
LOCATION:Turtle Island Indoor Water Park\, 3965 Skydancer Way NE\, Belcourt\, ND\, 58316
CATEGORIES:hours
ATTACH;FMTTYPE=image/jpeg:https://turtleislandadventureparks.com/wp-content/uploads/2024/03/Toddler-Time-Website.jpg
END:VEVENT
BEGIN:VEVENT
DTSTART;VALUE=DATE:20240407
DTEND;VALUE=DATE:20240408
DTSTAMP:20260424T223709
CREATED:20240214T144325Z
LAST-MODIFIED:20240214T144325Z
UID:1579-1712448000-1712534399@turtleislandadventureparks.com
SUMMARY:11:00 am - 8:00 pm
DESCRIPTION:
URL:https://turtleislandadventureparks.com/event/1100-am-800-pm-56/
CATEGORIES:hours
END:VEVENT
BEGIN:VEVENT
DTSTART;VALUE=DATE:20240406
DTEND;VALUE=DATE:20240407
DTSTAMP:20260424T223709
CREATED:20240214T144305Z
LAST-MODIFIED:20240214T144305Z
UID:1576-1712361600-1712447999@turtleislandadventureparks.com
SUMMARY:11:00 am - 8:00 pm
DESCRIPTION:
URL:https://turtleislandadventureparks.com/event/1100-am-800-pm-55/
CATEGORIES:hours
END:VEVENT
BEGIN:VEVENT
DTSTART;VALUE=DATE:20240405
DTEND;VALUE=DATE:20240406
DTSTAMP:20260424T223709
CREATED:20240214T144242Z
LAST-MODIFIED:20240214T144242Z
UID:1573-1712275200-1712361599@turtleislandadventureparks.com
SUMMARY:11:00 am - 8:00 pm
DESCRIPTION:
URL:https://turtleislandadventureparks.com/event/1100-am-800-pm-54/
CATEGORIES:hours
END:VEVENT
BEGIN:VEVENT
DTSTART;VALUE=DATE:20240404
DTEND;VALUE=DATE:20240405
DTSTAMP:20260424T223709
CREATED:20240214T144211Z
LAST-MODIFIED:20240214T144211Z
UID:1570-1712188800-1712275199@turtleislandadventureparks.com
SUMMARY:4:30 pm - 8:00 pm
DESCRIPTION:
URL:https://turtleislandadventureparks.com/event/430-pm-800-pm-37/
CATEGORIES:hours
END:VEVENT
BEGIN:VEVENT
DTSTART;VALUE=DATE:20240402
DTEND;VALUE=DATE:20240403
DTSTAMP:20260424T223709
CREATED:20240214T144124Z
LAST-MODIFIED:20240214T144124Z
UID:1564-1712016000-1712102399@turtleislandadventureparks.com
SUMMARY:11:00 am - 8:00 pm
DESCRIPTION:
URL:https://turtleislandadventureparks.com/event/1100-am-800-pm-53/
CATEGORIES:hours
END:VEVENT
BEGIN:VEVENT
DTSTART;VALUE=DATE:20240401
DTEND;VALUE=DATE:20240402
DTSTAMP:20260424T223709
CREATED:20240214T144107Z
LAST-MODIFIED:20240214T144107Z
UID:1561-1711929600-1712015999@turtleislandadventureparks.com
SUMMARY:11:00 am - 8:00 pm
DESCRIPTION:
URL:https://turtleislandadventureparks.com/event/1100-am-800-pm-52/
CATEGORIES:hours
END:VEVENT
BEGIN:VEVENT
DTSTART;VALUE=DATE:20240331
DTEND;VALUE=DATE:20240401
DTSTAMP:20260424T223709
CREATED:20240214T143855Z
LAST-MODIFIED:20240214T143855Z
UID:1555-1711843200-1711929599@turtleislandadventureparks.com
SUMMARY:11:00 am - 8:00 pm
DESCRIPTION:
URL:https://turtleislandadventureparks.com/event/1100-am-800-pm-51/
CATEGORIES:hours
END:VEVENT
BEGIN:VEVENT
DTSTART;VALUE=DATE:20240330
DTEND;VALUE=DATE:20240331
DTSTAMP:20260424T223709
CREATED:20240214T143843Z
LAST-MODIFIED:20240214T143843Z
UID:1552-1711756800-1711843199@turtleislandadventureparks.com
SUMMARY:11:00 am - 8:00 pm
DESCRIPTION:
URL:https://turtleislandadventureparks.com/event/1100-am-800-pm-50/
CATEGORIES:hours
END:VEVENT
BEGIN:VEVENT
DTSTART;VALUE=DATE:20240329
DTEND;VALUE=DATE:20240330
DTSTAMP:20260424T223709
CREATED:20240214T143826Z
LAST-MODIFIED:20240214T143826Z
UID:1549-1711670400-1711756799@turtleislandadventureparks.com
SUMMARY:11:00 am - 8:00 pm
DESCRIPTION:
URL:https://turtleislandadventureparks.com/event/1100-am-800-pm-49/
CATEGORIES:hours
END:VEVENT
BEGIN:VEVENT
DTSTART;VALUE=DATE:20240328
DTEND;VALUE=DATE:20240329
DTSTAMP:20260424T223709
CREATED:20240214T143757Z
LAST-MODIFIED:20240214T143757Z
UID:1546-1711584000-1711670399@turtleislandadventureparks.com
SUMMARY:4:30 pm - 8:00 pm
DESCRIPTION:
URL:https://turtleislandadventureparks.com/event/430-pm-800-pm-36/
CATEGORIES:hours
END:VEVENT
BEGIN:VEVENT
DTSTART;VALUE=DATE:20240325
DTEND;VALUE=DATE:20240326
DTSTAMP:20260424T223709
CREATED:20240214T143659Z
LAST-MODIFIED:20240214T143659Z
UID:1537-1711324800-1711411199@turtleislandadventureparks.com
SUMMARY:4:30 pm - 8:00 pm
DESCRIPTION:
URL:https://turtleislandadventureparks.com/event/430-pm-800-pm-33/
CATEGORIES:hours
END:VEVENT
BEGIN:VEVENT
DTSTART;VALUE=DATE:20240324
DTEND;VALUE=DATE:20240325
DTSTAMP:20260424T223709
CREATED:20240214T143554Z
LAST-MODIFIED:20240214T143606Z
UID:1534-1711238400-1711324799@turtleislandadventureparks.com
SUMMARY:11:00 am - 8:00 pm
DESCRIPTION:
URL:https://turtleislandadventureparks.com/event/1100-am-800-pm-48/
CATEGORIES:hours
END:VEVENT
BEGIN:VEVENT
DTSTART;VALUE=DATE:20240323
DTEND;VALUE=DATE:20240324
DTSTAMP:20260424T223709
CREATED:20240214T143538Z
LAST-MODIFIED:20240214T143538Z
UID:1531-1711152000-1711238399@turtleislandadventureparks.com
SUMMARY:11:00 am - 8:00 pm
DESCRIPTION:
URL:https://turtleislandadventureparks.com/event/1100-am-800-pm-47/
CATEGORIES:hours
END:VEVENT
BEGIN:VEVENT
DTSTART;VALUE=DATE:20240322
DTEND;VALUE=DATE:20240323
DTSTAMP:20260424T223709
CREATED:20240214T143517Z
LAST-MODIFIED:20240320T201445Z
UID:1528-1711065600-1711151999@turtleislandadventureparks.com
SUMMARY:4:30 pm - 8:00 pm
DESCRIPTION:
URL:https://turtleislandadventureparks.com/event/1100-am-800-pm-46/
CATEGORIES:hours
END:VEVENT
BEGIN:VEVENT
DTSTART;VALUE=DATE:20240321
DTEND;VALUE=DATE:20240322
DTSTAMP:20260424T223709
CREATED:20240214T143449Z
LAST-MODIFIED:20240214T143449Z
UID:1525-1710979200-1711065599@turtleislandadventureparks.com
SUMMARY:4:30 pm - 8:00 pm
DESCRIPTION:
URL:https://turtleislandadventureparks.com/event/430-pm-800-pm-32/
CATEGORIES:hours
END:VEVENT
BEGIN:VEVENT
DTSTART;VALUE=DATE:20240318
DTEND;VALUE=DATE:20240319
DTSTAMP:20260424T223709
CREATED:20240214T143333Z
LAST-MODIFIED:20240214T143333Z
UID:1516-1710720000-1710806399@turtleislandadventureparks.com
SUMMARY:4:30 pm - 8:00 pm
DESCRIPTION:
URL:https://turtleislandadventureparks.com/event/430-pm-800-pm-31/
CATEGORIES:hours
END:VEVENT
BEGIN:VEVENT
DTSTART;VALUE=DATE:20240317
DTEND;VALUE=DATE:20240318
DTSTAMP:20260424T223709
CREATED:20240214T143313Z
LAST-MODIFIED:20240214T143313Z
UID:1513-1710633600-1710719999@turtleislandadventureparks.com
SUMMARY:11:00 am - 8:00 pm
DESCRIPTION:
URL:https://turtleislandadventureparks.com/event/1100-am-800-pm-45/
CATEGORIES:hours
END:VEVENT
BEGIN:VEVENT
DTSTART;VALUE=DATE:20240316
DTEND;VALUE=DATE:20240317
DTSTAMP:20260424T223709
CREATED:20240214T143234Z
LAST-MODIFIED:20240214T143247Z
UID:1510-1710547200-1710633599@turtleislandadventureparks.com
SUMMARY:11:00 am - 8:00 pm
DESCRIPTION:
URL:https://turtleislandadventureparks.com/event/1100-am-800-pm-44/
CATEGORIES:hours
END:VEVENT
BEGIN:VEVENT
DTSTART;VALUE=DATE:20240315
DTEND;VALUE=DATE:20240316
DTSTAMP:20260424T223709
CREATED:20240214T143210Z
LAST-MODIFIED:20240315T170853Z
UID:1507-1710460800-1710547199@turtleislandadventureparks.com
SUMMARY:11:00 am - 8:00 pm
DESCRIPTION:
URL:https://turtleislandadventureparks.com/event/430-pm-800-pm-30/
CATEGORIES:hours
END:VEVENT
END:VCALENDAR