BEGIN:VCALENDAR
VERSION:2.0
PRODID:-//Turtle Island Adventure Parks - ECPv6.2.8.1//NONSGML v1.0//EN
CALSCALE:GREGORIAN
METHOD:PUBLISH
X-WR-CALNAME:Turtle Island Adventure Parks
X-ORIGINAL-URL:https://turtleislandadventureparks.com
X-WR-CALDESC:Events for Turtle Island Adventure Parks
REFRESH-INTERVAL;VALUE=DURATION:PT1H
X-Robots-Tag:noindex
X-PUBLISHED-TTL:PT1H
BEGIN:VTIMEZONE
TZID:America/Chicago
BEGIN:DAYLIGHT
TZOFFSETFROM:-0600
TZOFFSETTO:-0500
TZNAME:CDT
DTSTART:20230312T080000
END:DAYLIGHT
BEGIN:STANDARD
TZOFFSETFROM:-0500
TZOFFSETTO:-0600
TZNAME:CST
DTSTART:20231105T070000
END:STANDARD
END:VTIMEZONE
BEGIN:VEVENT
DTSTART;VALUE=DATE:20231211
DTEND;VALUE=DATE:20231212
DTSTAMP:20260425T103723
CREATED:20231206T232615Z
LAST-MODIFIED:20231211T221713Z
UID:906-1702252800-1702339199@turtleislandadventureparks.com
SUMMARY:4:30 pm - 8:00 pm
DESCRIPTION:
URL:https://turtleislandadventureparks.com/event/430-pm-800-pm/
LOCATION:ND
CATEGORIES:hours
END:VEVENT
BEGIN:VEVENT
DTSTART;VALUE=DATE:20231210
DTEND;VALUE=DATE:20231211
DTSTAMP:20260425T103723
CREATED:20231206T232012Z
LAST-MODIFIED:20231206T232012Z
UID:840-1702166400-1702252799@turtleislandadventureparks.com
SUMMARY:11:00 am - 8:00 pm
DESCRIPTION:
URL:https://turtleislandadventureparks.com/event/1100-am-800-pm-2/
LOCATION:ND
CATEGORIES:hours
END:VEVENT
BEGIN:VEVENT
DTSTART;VALUE=DATE:20231209
DTEND;VALUE=DATE:20231210
DTSTAMP:20260425T103723
CREATED:20231206T231955Z
LAST-MODIFIED:20231206T231955Z
UID:837-1702080000-1702166399@turtleislandadventureparks.com
SUMMARY:11:00 am - 8:00 pm
DESCRIPTION:
URL:https://turtleislandadventureparks.com/event/1100-am-800-pm/
LOCATION:ND
CATEGORIES:hours
END:VEVENT
END:VCALENDAR