BEGIN:VCALENDAR
VERSION:2.0
PRODID:-//Turtle Island Adventure Parks - ECPv6.2.8.1//NONSGML v1.0//EN
CALSCALE:GREGORIAN
METHOD:PUBLISH
X-WR-CALNAME:Turtle Island Adventure Parks
X-ORIGINAL-URL:https://turtleislandadventureparks.com
X-WR-CALDESC:Events for Turtle Island Adventure Parks
REFRESH-INTERVAL;VALUE=DURATION:PT1H
X-Robots-Tag:noindex
X-PUBLISHED-TTL:PT1H
BEGIN:VTIMEZONE
TZID:America/Chicago
BEGIN:DAYLIGHT
TZOFFSETFROM:-0600
TZOFFSETTO:-0500
TZNAME:CDT
DTSTART:20240310T080000
END:DAYLIGHT
BEGIN:STANDARD
TZOFFSETFROM:-0500
TZOFFSETTO:-0600
TZNAME:CST
DTSTART:20241103T070000
END:STANDARD
END:VTIMEZONE
BEGIN:VEVENT
DTSTART;VALUE=DATE:20240601
DTEND;VALUE=DATE:20240602
DTSTAMP:20260425T075207
CREATED:20240425T153642Z
LAST-MODIFIED:20240425T153642Z
UID:1896-1717200000-1717286399@turtleislandadventureparks.com
SUMMARY:11:00 am - 9:00 pm
DESCRIPTION:
URL:https://turtleislandadventureparks.com/event/1100-am-900-pm-6/
CATEGORIES:Summer Hours
END:VEVENT
BEGIN:VEVENT
DTSTART;VALUE=DATE:20240602
DTEND;VALUE=DATE:20240603
DTSTAMP:20260425T075207
CREATED:20240425T153657Z
LAST-MODIFIED:20240425T153657Z
UID:1899-1717286400-1717372799@turtleislandadventureparks.com
SUMMARY:11:00 am - 9:00 pm
DESCRIPTION:
URL:https://turtleislandadventureparks.com/event/1100-am-900-pm-7/
CATEGORIES:Summer Hours
END:VEVENT
BEGIN:VEVENT
DTSTART;VALUE=DATE:20240603
DTEND;VALUE=DATE:20240604
DTSTAMP:20260425T075207
CREATED:20240425T153710Z
LAST-MODIFIED:20240425T153710Z
UID:1902-1717372800-1717459199@turtleislandadventureparks.com
SUMMARY:11:00 am - 9:00 pm
DESCRIPTION:
URL:https://turtleislandadventureparks.com/event/1100-am-900-pm-8/
CATEGORIES:Summer Hours
END:VEVENT
BEGIN:VEVENT
DTSTART;VALUE=DATE:20240603
DTEND;VALUE=DATE:20240604
DTSTAMP:20260425T075207
CREATED:20240602T142956Z
LAST-MODIFIED:20240602T143515Z
UID:2124-1717372800-1717459199@turtleislandadventureparks.com
SUMMARY:Riverwalk 7am to 9am
DESCRIPTION:﻿Riverwalk  \n\nLow-impact water exercise either against or with the current of the lazy river!\nMondays from 7am to 9am\neasy on joints\nGo at your own pace\, no pressure or race\n3.5 ft water depth\nBrand new\, state of the art facility\nClean changing rooms and bathroom\n$5 per person\nDon’t forget your towels and swimsuits!\n\n 
URL:https://turtleislandadventureparks.com/event/riverwalk-7am-to-9pm/
CATEGORIES:Event
ATTACH;FMTTYPE=image/png:https://turtleislandadventureparks.com/wp-content/uploads/2024/03/Riverwalk-Turtle-Island-Facebook-Cover.png
END:VEVENT
BEGIN:VEVENT
DTSTART;VALUE=DATE:20240604
DTEND;VALUE=DATE:20240605
DTSTAMP:20260425T075207
CREATED:20240425T153733Z
LAST-MODIFIED:20240425T153733Z
UID:1905-1717459200-1717545599@turtleislandadventureparks.com
SUMMARY:11:00 am - 9:00 pm
DESCRIPTION:
URL:https://turtleislandadventureparks.com/event/1100-am-900-pm-9/
CATEGORIES:Summer Hours
END:VEVENT
BEGIN:VEVENT
DTSTART;VALUE=DATE:20240605
DTEND;VALUE=DATE:20240606
DTSTAMP:20260425T075207
CREATED:20240425T153748Z
LAST-MODIFIED:20240425T153748Z
UID:1908-1717545600-1717631999@turtleislandadventureparks.com
SUMMARY:11:00 am - 9:00 pm
DESCRIPTION:
URL:https://turtleislandadventureparks.com/event/1100-am-900-pm-10/
CATEGORIES:Summer Hours
END:VEVENT
BEGIN:VEVENT
DTSTART;VALUE=DATE:20240606
DTEND;VALUE=DATE:20240607
DTSTAMP:20260425T075207
CREATED:20240425T153803Z
LAST-MODIFIED:20240425T153803Z
UID:1911-1717632000-1717718399@turtleislandadventureparks.com
SUMMARY:11:00 am - 9:00 pm
DESCRIPTION:
URL:https://turtleislandadventureparks.com/event/1100-am-900-pm-11/
CATEGORIES:Summer Hours
END:VEVENT
BEGIN:VEVENT
DTSTART;VALUE=DATE:20240607
DTEND;VALUE=DATE:20240608
DTSTAMP:20260425T075207
CREATED:20240425T153817Z
LAST-MODIFIED:20240425T153817Z
UID:1914-1717718400-1717804799@turtleislandadventureparks.com
SUMMARY:11:00 am - 9:00 pm
DESCRIPTION:
URL:https://turtleislandadventureparks.com/event/1100-am-900-pm-12/
CATEGORIES:Summer Hours
END:VEVENT
BEGIN:VEVENT
DTSTART;VALUE=DATE:20240608
DTEND;VALUE=DATE:20240609
DTSTAMP:20260425T075207
CREATED:20240425T153835Z
LAST-MODIFIED:20240425T153835Z
UID:1917-1717804800-1717891199@turtleislandadventureparks.com
SUMMARY:11:00 am - 9:00 pm
DESCRIPTION:
URL:https://turtleislandadventureparks.com/event/1100-am-900-pm-13/
CATEGORIES:Summer Hours
END:VEVENT
BEGIN:VEVENT
DTSTART;VALUE=DATE:20240609
DTEND;VALUE=DATE:20240610
DTSTAMP:20260425T075207
CREATED:20240425T153850Z
LAST-MODIFIED:20240425T153850Z
UID:1920-1717891200-1717977599@turtleislandadventureparks.com
SUMMARY:11:00 am - 9:00 pm
DESCRIPTION:
URL:https://turtleislandadventureparks.com/event/1100-am-900-pm-14/
CATEGORIES:Summer Hours
END:VEVENT
BEGIN:VEVENT
DTSTART;VALUE=DATE:20240610
DTEND;VALUE=DATE:20240611
DTSTAMP:20260425T075207
CREATED:20240425T153905Z
LAST-MODIFIED:20240425T153905Z
UID:1923-1717977600-1718063999@turtleislandadventureparks.com
SUMMARY:11:00 am - 9:00 pm
DESCRIPTION:
URL:https://turtleislandadventureparks.com/event/1100-am-900-pm-15/
CATEGORIES:Summer Hours
END:VEVENT
BEGIN:VEVENT
DTSTART;VALUE=DATE:20240610
DTEND;VALUE=DATE:20240611
DTSTAMP:20260425T075207
CREATED:20240602T143206Z
LAST-MODIFIED:20240602T143539Z
UID:2131-1717977600-1718063999@turtleislandadventureparks.com
SUMMARY:Riverwalk 7am to 9am
DESCRIPTION:﻿Riverwalk  \n\nLow-impact water exercise either against or with the current of the lazy river!\nMondays from 7am to 9am\neasy on joints\nGo at your own pace\, no pressure or race\n3.5 ft water depth\nBrand new\, state of the art facility\nClean changing rooms and bathroom\n$5 per person\nDon’t forget your towels and swimsuits!
URL:https://turtleislandadventureparks.com/event/riverwalk-7am-to-9pm-2/
CATEGORIES:Event
ATTACH;FMTTYPE=image/png:https://turtleislandadventureparks.com/wp-content/uploads/2024/03/Riverwalk-Turtle-Island-Facebook-Cover.png
END:VEVENT
BEGIN:VEVENT
DTSTART;VALUE=DATE:20240611
DTEND;VALUE=DATE:20240612
DTSTAMP:20260425T075207
CREATED:20240425T153922Z
LAST-MODIFIED:20240425T153922Z
UID:1926-1718064000-1718150399@turtleislandadventureparks.com
SUMMARY:11:00 am - 9:00 pm
DESCRIPTION:
URL:https://turtleislandadventureparks.com/event/1100-am-900-pm-16/
CATEGORIES:Summer Hours
END:VEVENT
BEGIN:VEVENT
DTSTART;VALUE=DATE:20240612
DTEND;VALUE=DATE:20240613
DTSTAMP:20260425T075207
CREATED:20240425T153939Z
LAST-MODIFIED:20240425T153939Z
UID:1929-1718150400-1718236799@turtleislandadventureparks.com
SUMMARY:11:00 am - 9:00 pm
DESCRIPTION:
URL:https://turtleislandadventureparks.com/event/1100-am-900-pm-17/
CATEGORIES:Summer Hours
END:VEVENT
BEGIN:VEVENT
DTSTART;VALUE=DATE:20240613
DTEND;VALUE=DATE:20240614
DTSTAMP:20260425T075207
CREATED:20240425T153955Z
LAST-MODIFIED:20240425T153955Z
UID:1932-1718236800-1718323199@turtleislandadventureparks.com
SUMMARY:11:00 am - 9:00 pm
DESCRIPTION:
URL:https://turtleislandadventureparks.com/event/1100-am-900-pm-18/
CATEGORIES:Summer Hours
END:VEVENT
BEGIN:VEVENT
DTSTART;VALUE=DATE:20240614
DTEND;VALUE=DATE:20240615
DTSTAMP:20260425T075207
CREATED:20240425T154011Z
LAST-MODIFIED:20240425T154011Z
UID:1935-1718323200-1718409599@turtleislandadventureparks.com
SUMMARY:11:00 am - 9:00 pm
DESCRIPTION:
URL:https://turtleislandadventureparks.com/event/1100-am-900-pm-19/
CATEGORIES:Summer Hours
END:VEVENT
BEGIN:VEVENT
DTSTART;VALUE=DATE:20240615
DTEND;VALUE=DATE:20240616
DTSTAMP:20260425T075207
CREATED:20240425T154023Z
LAST-MODIFIED:20240425T154030Z
UID:1938-1718409600-1718495999@turtleislandadventureparks.com
SUMMARY:11:00 am - 9:00 pm
DESCRIPTION:
URL:https://turtleislandadventureparks.com/event/1100-am-900-pm-20/
CATEGORIES:Summer Hours
END:VEVENT
BEGIN:VEVENT
DTSTART;VALUE=DATE:20240616
DTEND;VALUE=DATE:20240617
DTSTAMP:20260425T075207
CREATED:20240425T154043Z
LAST-MODIFIED:20240425T154043Z
UID:1941-1718496000-1718582399@turtleislandadventureparks.com
SUMMARY:11:00 am - 9:00 pm
DESCRIPTION:
URL:https://turtleislandadventureparks.com/event/1100-am-900-pm-21/
CATEGORIES:Summer Hours
END:VEVENT
BEGIN:VEVENT
DTSTART;VALUE=DATE:20240617
DTEND;VALUE=DATE:20240618
DTSTAMP:20260425T075207
CREATED:20240425T154058Z
LAST-MODIFIED:20240425T154058Z
UID:1944-1718582400-1718668799@turtleislandadventureparks.com
SUMMARY:11:00 am - 9:00 pm
DESCRIPTION:
URL:https://turtleislandadventureparks.com/event/1100-am-900-pm-22/
CATEGORIES:Summer Hours
END:VEVENT
BEGIN:VEVENT
DTSTART;VALUE=DATE:20240617
DTEND;VALUE=DATE:20240618
DTSTAMP:20260425T075207
CREATED:20240602T143403Z
LAST-MODIFIED:20240602T143403Z
UID:2138-1718582400-1718668799@turtleislandadventureparks.com
SUMMARY:Riverwalk 7am to 9am
DESCRIPTION:Riverwalk  \n\nLow-impact water exercise either against or with the current of the lazy river!\nMondays from 7am to 9am\neasy on joints\nGo at your own pace\, no pressure or race\n3.5 ft water depth\nBrand new\, state of the art facility\nClean changing rooms and bathroom\n$5 per person\nDon’t forget your towels and swimsuits!
URL:https://turtleislandadventureparks.com/event/riverwalk-7am-to-9am/
CATEGORIES:Event
ATTACH;FMTTYPE=image/png:https://turtleislandadventureparks.com/wp-content/uploads/2024/03/Riverwalk-Turtle-Island-Facebook-Cover.png
END:VEVENT
BEGIN:VEVENT
DTSTART;VALUE=DATE:20240618
DTEND;VALUE=DATE:20240619
DTSTAMP:20260425T075207
CREATED:20240425T154114Z
LAST-MODIFIED:20240425T154114Z
UID:1947-1718668800-1718755199@turtleislandadventureparks.com
SUMMARY:11:00 am - 9:00 pm
DESCRIPTION:
URL:https://turtleislandadventureparks.com/event/1100-am-900-pm-23/
CATEGORIES:Summer Hours
END:VEVENT
BEGIN:VEVENT
DTSTART;VALUE=DATE:20240619
DTEND;VALUE=DATE:20240620
DTSTAMP:20260425T075207
CREATED:20240425T154127Z
LAST-MODIFIED:20240425T154127Z
UID:1950-1718755200-1718841599@turtleislandadventureparks.com
SUMMARY:11:00 am - 9:00 pm
DESCRIPTION:
URL:https://turtleislandadventureparks.com/event/1100-am-900-pm-24/
CATEGORIES:Summer Hours
END:VEVENT
BEGIN:VEVENT
DTSTART;VALUE=DATE:20240620
DTEND;VALUE=DATE:20240621
DTSTAMP:20260425T075207
CREATED:20240425T154149Z
LAST-MODIFIED:20240425T154149Z
UID:1953-1718841600-1718927999@turtleislandadventureparks.com
SUMMARY:11:00 am - 9:00 pm
DESCRIPTION:
URL:https://turtleislandadventureparks.com/event/1100-am-900-pm-25/
CATEGORIES:Summer Hours
END:VEVENT
BEGIN:VEVENT
DTSTART;VALUE=DATE:20240621
DTEND;VALUE=DATE:20240622
DTSTAMP:20260425T075207
CREATED:20240425T154205Z
LAST-MODIFIED:20240425T154205Z
UID:1956-1718928000-1719014399@turtleislandadventureparks.com
SUMMARY:11:00 am - 9:00 pm
DESCRIPTION:
URL:https://turtleislandadventureparks.com/event/1100-am-900-pm-26/
CATEGORIES:Summer Hours
END:VEVENT
BEGIN:VEVENT
DTSTART;VALUE=DATE:20240622
DTEND;VALUE=DATE:20240623
DTSTAMP:20260425T075207
CREATED:20240425T154229Z
LAST-MODIFIED:20240425T154229Z
UID:1959-1719014400-1719100799@turtleislandadventureparks.com
SUMMARY:11:00 am - 9:00 pm
DESCRIPTION:
URL:https://turtleislandadventureparks.com/event/1100-am-900-pm-27/
CATEGORIES:Summer Hours
END:VEVENT
BEGIN:VEVENT
DTSTART;VALUE=DATE:20240623
DTEND;VALUE=DATE:20240624
DTSTAMP:20260425T075207
CREATED:20240425T154245Z
LAST-MODIFIED:20240425T154245Z
UID:1962-1719100800-1719187199@turtleislandadventureparks.com
SUMMARY:11:00 am - 9:00 pm
DESCRIPTION:
URL:https://turtleislandadventureparks.com/event/1100-am-900-pm-28/
CATEGORIES:Summer Hours
END:VEVENT
BEGIN:VEVENT
DTSTART;VALUE=DATE:20240624
DTEND;VALUE=DATE:20240625
DTSTAMP:20260425T075207
CREATED:20240425T154301Z
LAST-MODIFIED:20240425T154301Z
UID:1965-1719187200-1719273599@turtleislandadventureparks.com
SUMMARY:11:00 am - 9:00 pm
DESCRIPTION:
URL:https://turtleislandadventureparks.com/event/1100-am-900-pm-29/
CATEGORIES:Summer Hours
END:VEVENT
BEGIN:VEVENT
DTSTART;VALUE=DATE:20240624
DTEND;VALUE=DATE:20240625
DTSTAMP:20260425T075207
CREATED:20240602T143450Z
LAST-MODIFIED:20240602T143450Z
UID:2141-1719187200-1719273599@turtleislandadventureparks.com
SUMMARY:Riverwalk 7am to 9am
DESCRIPTION:Riverwalk  \n\nLow-impact water exercise either against or with the current of the lazy river!\nMondays from 7am to 9am\neasy on joints\nGo at your own pace\, no pressure or race\n3.5 ft water depth\nBrand new\, state of the art facility\nClean changing rooms and bathroom\n$5 per person\nDon’t forget your towels and swimsuits!
URL:https://turtleislandadventureparks.com/event/riverwalk-7am-to-9am-2/
CATEGORIES:Event
ATTACH;FMTTYPE=image/png:https://turtleislandadventureparks.com/wp-content/uploads/2024/03/Riverwalk-Turtle-Island-Facebook-Cover.png
END:VEVENT
BEGIN:VEVENT
DTSTART;VALUE=DATE:20240625
DTEND;VALUE=DATE:20240626
DTSTAMP:20260425T075207
CREATED:20240425T154316Z
LAST-MODIFIED:20240425T154316Z
UID:1968-1719273600-1719359999@turtleislandadventureparks.com
SUMMARY:11:00 am - 9:00 pm
DESCRIPTION:
URL:https://turtleislandadventureparks.com/event/1100-am-900-pm-30/
CATEGORIES:Summer Hours
END:VEVENT
BEGIN:VEVENT
DTSTART;VALUE=DATE:20240626
DTEND;VALUE=DATE:20240627
DTSTAMP:20260425T075207
CREATED:20240425T154331Z
LAST-MODIFIED:20240425T154331Z
UID:1971-1719360000-1719446399@turtleislandadventureparks.com
SUMMARY:11:00 am - 9:00 pm
DESCRIPTION:
URL:https://turtleislandadventureparks.com/event/1100-am-900-pm-31/
CATEGORIES:Summer Hours
END:VEVENT
END:VCALENDAR